Workbook
Name CreatedFor: #REF!
Name CreatedForTitle: #REF!

Sheet Prompt

Sheet is-bs-cfs
B2: Start | F2: 43497 | G2: =+F3+1 -> 43586 | H2: =+G3+1 -> 43678 | I2: =+H3+1 -> 43770 | J2: =+F2 -> 43497 | K2: =+J3+1 -> 43862 | L2: =+K3+1 -> 43952 | M2: =+L3+1 -> 44044 | N2: =+M3+1 -> 44136 | O2: =+K2 -> 43862 | P2: =+O3+1 -> 44228 | Q2: =+P3+1 -> 44317 | R2: =+Q3+1 -> 44409 | S2: =+R3+1 -> 44501 | T2: =+P2 -> 44228 | U2: =+T3+1 -> 44593 | V2: =+U3+1 -> 44682 | W2: =+V3+1 -> 44774 | X2: =+W3+1 -> 44866 | Y2: =+U2 -> 44593 | Z2: =+Y3+1 -> 44958 | AA2: =+Z3+1 -> 45047 | AB2: =+AA3+1 -> 45139 | AC2: =+AB3+1 -> 45231 | AD2: =+Z2 -> 44958 | AE2: =+AD3+1 -> 45323 | AF2: =+AE3+1 -> 45413 | AG2: =+AF3+1 -> 45505 | AH2: =+AG3+1 -> 45597 | AI2: =+AE2 -> 45323 | AJ2: =+AI3+1 -> 45689 | AK2: =+AJ3+1 -> 45778 | AL2: =+AK3+1 -> 45870 | AM2: =+AL3+1 -> 45962 | AN2: =+AJ2 -> 45689
B3: End | F3: =+EOMONTH(F2,2) -> 43585 | G3: =+EOMONTH(G2,2) -> 43677 | H3: =+EOMONTH(H2,2) -> 43769 | I3: =+EOMONTH(I2,2) -> 43861 | J3: =+I3 -> 43861 | K3: =+EOMONTH(K2,2) -> 43951 | L3: =+EOMONTH(L2,2) -> 44043 | M3: =+EOMONTH(M2,2) -> 44135 | N3: =+EOMONTH(N2,2) -> 44227 | O3: =+N3 -> 44227 | P3: =+EOMONTH(P2,2) -> 44316 | Q3: =+EOMONTH(Q2,2) -> 44408 | R3: =+EOMONTH(R2,2) -> 44500 | S3: =+EOMONTH(S2,2) -> 44592 | T3: =+S3 -> 44592 | U3: =+EOMONTH(U2,2) -> 44681 | V3: =+EOMONTH(V2,2) -> 44773 | W3: =+EOMONTH(W2,2) -> 44865 | X3: =+EOMONTH(X2,2) -> 44957 | Y3: =+X3 -> 44957 | Z3: =+EOMONTH(Z2,2) -> 45046 | AA3: =+EOMONTH(AA2,2) -> 45138 | AB3: =+EOMONTH(AB2,2) -> 45230 | AC3: =+EOMONTH(AC2,2) -> 45322 | AD3: =+AC3 -> 45322 | AE3: =+EOMONTH(AE2,2) -> 45412 | AF3: =+EOMONTH(AF2,2) -> 45504 | AG3: =+EOMONTH(AG2,2) -> 45596 | AH3: =+EOMONTH(AH2,2) -> 45688 | AI3: =+AH3 -> 45688 | AJ3: =+EOMONTH(AJ2,2) -> 45777 | AK3: =+EOMONTH(AK2,2) -> 45869 | AL3: =+EOMONTH(AL2,2) -> 45961 | AM3: =+EOMONTH(AM2,2) -> 46053 | AN3: =+AM3 -> 46053
B4: Fiscal Year | F4: =+YEAR(F3)+(MONTH(F3)>=2) -> 2020 | G4: =+YEAR(G3)+(MONTH(G3)>=2) -> 2020 | H4: =+YEAR(H3)+(MONTH(H3)>=2) -> 2020 | I4: =+YEAR(I3)+(MONTH(I3)>=2) -> 2020 | J4: =+YEAR(J3)+(MONTH(J3)>=2) -> 2020 | K4: =+YEAR(K3)+(MONTH(K3)>=2) -> 2021 | L4: =+YEAR(L3)+(MONTH(L3)>=2) -> 2021 | M4: =+YEAR(M3)+(MONTH(M3)>=2) -> 2021 | ... AN4: =+YEAR(AN3)+(MONTH(AN3)>=2) -> 2026
B5: Fiscal Quarter | F5: =+CHOOSE(MONTH(F3),4,1,1,1,2,2,2,3,3,3,4,4) -> 1 | G5: =+CHOOSE(MONTH(G3),4,1,1,1,2,2,2,3,3,3,4,4) -> 2 | H5: =+CHOOSE(MONTH(H3),4,1,1,1,2,2,2,3,3,3,4,4) -> 3 | I5: =+CHOOSE(MONTH(I3),4,1,1,1,2,2,2,3,3,3,4,4) -> 4 | J5: =+CHOOSE(MONTH(J3),4,1,1,1,2,2,2,3,3,3,4,4) -> 4 | K5: =+CHOOSE(MONTH(K3),4,1,1,1,2,2,2,3,3,3,4,4) -> 1 | L5: =+CHOOSE(MONTH(L3),4,1,1,1,2,2,2,3,3,3,4,4) -> 2 | M5: =+CHOOSE(MONTH(M3),4,1,1,1,2,2,2,3,3,3,4,4) -> 3 | ... AN5: =+CHOOSE(MONTH(AN3),4,1,1,1,2,2,2,3,3,3,4,4) -> 4
B6: Fiscal Month | F6: =+CHOOSE(MONTH(F3),12,1,2,3,4,5,6,7,8,9,10,11) -> 3 | G6: =+CHOOSE(MONTH(G3),12,1,2,3,4,5,6,7,8,9,10,11) -> 6 | H6: =+CHOOSE(MONTH(H3),12,1,2,3,4,5,6,7,8,9,10,11) -> 9 | I6: =+CHOOSE(MONTH(I3),12,1,2,3,4,5,6,7,8,9,10,11) -> 12 | J6: =+CHOOSE(MONTH(J3),12,1,2,3,4,5,6,7,8,9,10,11) -> 12 | K6: =+CHOOSE(MONTH(K3),12,1,2,3,4,5,6,7,8,9,10,11) -> 3 | L6: =+CHOOSE(MONTH(L3),12,1,2,3,4,5,6,7,8,9,10,11) -> 6 | M6: =+CHOOSE(MONTH(M3),12,1,2,3,4,5,6,7,8,9,10,11) -> 9 | ... AN6: =+CHOOSE(MONTH(AN3),12,1,2,3,4,5,6,7,8,9,10,11) -> 12
B8: RabbitWise
B9: Projection Model (actuals unaudited) - FYE January | C9: 1
F11: Actual | G11: Actual | H11: Actual | I11: Actual | J11: Actual | K11: Actual | L11: Actual | M11: Actual | N11: Actual | O11: Actual | P11: Actual | Q11: Actual | R11: Actual | S11: Actual | T11: Actual | U11: Actual | V11: Actual | W11: Forecast | X11: Forecast | Y11: Forecast | Z11: Forecast | AA11: Forecast | AB11: Forecast | AC11: Forecast | AD11: Forecast | AE11: Forecast | AF11: Forecast | AG11: Forecast | AH11: Forecast | AI11: Forecast | AJ11: Forecast | AK11: Forecast | AL11: Forecast | AM11: Forecast | AN11: Forecast
F12: =+"FY"&RIGHT(F$4,2)&"-Q"&F$5 -> FY20-Q1 | G12: =+"FY"&RIGHT(G$4,2)&"-Q"&G$5 -> FY20-Q2 | H12: =+"FY"&RIGHT(H$4,2)&"-Q"&H$5 -> FY20-Q3 | I12: =+"FY"&RIGHT(I$4,2)&"-Q"&I$5 -> FY20-Q4 | J12: =+"FY"&RIGHT(J$4,2) -> FY20 | K12: =+"FY"&RIGHT(K$4,2)&"-Q"&K$5 -> FY21-Q1 | L12: =+"FY"&RIGHT(L$4,2)&"-Q"&L$5 -> FY21-Q2 | M12: =+"FY"&RIGHT(M$4,2)&"-Q"&M$5 -> FY21-Q3 | N12: =+"FY"&RIGHT(N$4,2)&"-Q"&N$5 -> FY21-Q4 | O12: =+"FY"&RIGHT(O$4,2) -> FY21 | P12: =+"FY"&RIGHT(P$4,2)&"-Q"&P$5 -> FY22-Q1 | Q12: =+"FY"&RIGHT(Q$4,2)&"-Q"&Q$5 -> FY22-Q2 | R12: =+"FY"&RIGHT(R$4,2)&"-Q"&R$5 -> FY22-Q3 | S12: =+"FY"&RIGHT(S$4,2)&"-Q"&S$5 -> FY22-Q4 | T12: =+"FY"&RIGHT(T$4,2) -> FY22 | U12: =+"FY"&RIGHT(U$4,2)&"-Q"&U$5 -> FY23-Q1 | V12: =+"FY"&RIGHT(V$4,2)&"-Q"&V$5 -> FY23-Q2 | W12: =+"FY"&RIGHT(W$4,2)&"-Q"&W$5 -> FY23-Q3 | X12: =+"FY"&RIGHT(X$4,2)&"-Q"&X$5 -> FY23-Q4 | Y12: =+"FY"&RIGHT(Y$4,2) -> FY23 | Z12: =+"FY"&RIGHT(Z$4,2)&"-Q"&Z$5 -> FY24-Q1 | AA12: =+"FY"&RIGHT(AA$4,2)&"-Q"&AA$5 -> FY24-Q2 | AB12: =+"FY"&RIGHT(AB$4,2)&"-Q"&AB$5 -> FY24-Q3 | AC12: =+"FY"&RIGHT(AC$4,2)&"-Q"&AC$5 -> FY24-Q4 | AD12: =+"FY"&RIGHT(AD$4,2) -> FY24 | AE12: =+"FY"&RIGHT(AE$4,2)&"-Q"&AE$5 -> FY25-Q1 | AF12: =+"FY"&RIGHT(AF$4,2)&"-Q"&AF$5 -> FY25-Q2 | AG12: =+"FY"&RIGHT(AG$4,2)&"-Q"&AG$5 -> FY25-Q3 | AH12: =+"FY"&RIGHT(AH$4,2)&"-Q"&AH$5 -> FY25-Q4 | AI12: =+"FY"&RIGHT(AI$4,2) -> FY25 | AJ12: =+"FY"&RIGHT(AJ$4,2)&"-Q"&AJ$5 -> FY26-Q1 | AK12: =+"FY"&RIGHT(AK$4,2)&"-Q"&AK$5 -> FY26-Q2 | AL12: =+"FY"&RIGHT(AL$4,2)&"-Q"&AL$5 -> FY26-Q3 | AM12: =+"FY"&RIGHT(AM$4,2)&"-Q"&AM$5 -> FY26-Q4 | AN12: =+"FY"&RIGHT(AN$4,2) -> FY26
B14: Key Metrics
B16: ARR Build
B17: Starting Core ARR | F17: ='ARR by customer'!F12 -> 88512 | G17: =+F21 -> 90492 | H17: =+G21 -> 99732 | I17: =+H21 -> 114096 | J17: =+F17 -> 88512 | K17: =+J21 -> 255003.52 | L17: =+K21 -> 490245.52 | M17: =+L21 -> 1037272 | N17: =+M21 -> 1371129 | O17: =+K17 -> 255003.52 | P17: =+O21 -> 1823539 | Q17: =+P21 -> 2717789 | R17: =+Q21 -> 3215058 | S17: =+R21 -> 4558495 | T17: =+P17 -> 1823539 | U17: =T21 -> 6329297 | V17: =U21 -> 8311746 | W17: =+V21 -> 9733014.3 | X17: =+W21 -> 13250671 | Y17: =+U17 -> 6329297 | Z17: =+X21 -> 17018704 | AA17: =+Z21 -> 20384498 | AB17: =+AA21 -> 24415947 | AC17: =+AB21 -> 29244697 | AD17: =+Z17 -> 17018704 | AE17: =+AC21 -> 35028429 | AF17: =+AE21 -> 42623229 | AG17: =+AF21 -> 51864719 | AH17: =+AG21 -> 63109933 | AI17: =+AE17 -> 35028429 | AJ17: =+AH21 -> 76793314 | AK17: =+AJ21 -> 88948668 | AL17: =+AK21 -> 1.0302805e+08 | AM17: =+AL21 -> 1.1933602e+08 | AN17: =+AJ17 -> 76793314
B18: New | F18: =+SUMIFS('ARR by customer'!$E13:$AZ13,'ARR by customer'!$E$3:$AZ$3,">="&F$2,'ARR by customer'!$E$3:$AZ$3,"<="&F$3) -> 0 | G18: =+SUMIFS('ARR by customer'!$E13:$AZ13,'ARR by customer'!$E$3:$AZ$3,">="&G$2,'ARR by customer'!$E$3:$AZ$3,"<="&G$3) -> 8520 | H18: =+SUMIFS('ARR by customer'!$E13:$AZ13,'ARR by customer'!$E$3:$AZ$3,">="&H$2,'ARR by customer'!$E$3:$AZ$3,"<="&H$3) -> 13044 | I18: =+SUMIFS('ARR by customer'!$E13:$AZ13,'ARR by customer'!$E$3:$AZ$3,">="&I$2,'ARR by customer'!$E$3:$AZ$3,"<="&I$3) -> 112359.52 | J18: =+SUM(F18:I18) -> 133923.52 | K18: =+SUMIFS('ARR by customer'!$E13:$AZ13,'ARR by customer'!$E$3:$AZ$3,">="&K$2,'ARR by customer'!$E$3:$AZ$3,"<="&K$3) -> 243342 | L18: =+SUMIFS('ARR by customer'!$E13:$AZ13,'ARR by customer'!$E$3:$AZ$3,">="&L$2,'ARR by customer'!$E$3:$AZ$3,"<="&L$3) -> 543306 | M18: =+SUMIFS('ARR by customer'!$E13:$AZ13,'ARR by customer'!$E$3:$AZ$3,">="&M$2,'ARR by customer'!$E$3:$AZ$3,"<="&M$3) -> 305081 | N18: =+SUMIFS('ARR by customer'!$E13:$AZ13,'ARR by customer'!$E$3:$AZ$3,">="&N$2,'ARR by customer'!$E$3:$AZ$3,"<="&N$3) -> 414312 | O18: =+SUM(K18:N18) -> 1506041 | P18: =+SUMIFS('ARR by customer'!$E13:$AZ13,'ARR by customer'!$E$3:$AZ$3,">="&P$2,'ARR by customer'!$E$3:$AZ$3,"<="&P$3) -> 870112 | Q18: =+SUMIFS('ARR by customer'!$E13:$AZ13,'ARR by customer'!$E$3:$AZ$3,">="&Q$2,'ARR by customer'!$E$3:$AZ$3,"<="&Q$3) -> 973760 | R18: =+SUMIFS('ARR by customer'!$E13:$AZ13,'ARR by customer'!$E$3:$AZ$3,">="&R$2,'ARR by customer'!$E$3:$AZ$3,"<="&R$3) -> 1416690 | S18: =+SUMIFS('ARR by customer'!$E13:$AZ13,'ARR by customer'!$E$3:$AZ$3,">="&S$2,'ARR by customer'!$E$3:$AZ$3,"<="&S$3) -> 1638679 | T18: =+SUM(P18:S18) -> 4899241 | U18: =+SUMIFS('ARR by customer'!$E13:$AZ13,'ARR by customer'!$E$3:$AZ$3,">="&U$2,'ARR by customer'!$E$3:$AZ$3,"<="&U$3) -> 1685746 | V18: =+SUMIFS('ARR by customer'!$E13:$AZ13,'ARR by customer'!$E$3:$AZ$3,">="&V$2,'ARR by customer'!$E$3:$AZ$3,"<="&V$3) -> 1411543 | W18: 3263908 | X18: 3400138 | Y18: =+SUM(U18:X18) -> 9761335 | Z18: 2898706 | AA18: 3660228 | AB18: 4047352 | AC18: 4850633 | AD18: =+SUM(Z18:AC18) -> 15456919 | AE18: 6622843 | AF18: 8265553 | AG18: 9739505 | AH18: 11882722 | AI18: =+SUM(AE18:AH18) -> 36510623 | AJ18: 10044177 | AK18: 11717223 | AL18: 13115471 | AM18: 15036128 | AN18: =+SUM(AJ18:AM18) -> 49912999
B19: Expansion | F19: =+SUMIFS('ARR by customer'!$E14:$AZ14,'ARR by customer'!$E$3:$AZ$3,">="&F$2,'ARR by customer'!$E$3:$AZ$3,"<="&F$3) -> 1980 | G19: =+SUMIFS('ARR by customer'!$E14:$AZ14,'ARR by customer'!$E$3:$AZ$3,">="&G$2,'ARR by customer'!$E$3:$AZ$3,"<="&G$3) -> 840 | H19: =+SUMIFS('ARR by customer'!$E14:$AZ14,'ARR by customer'!$E$3:$AZ$3,">="&H$2,'ARR by customer'!$E$3:$AZ$3,"<="&H$3) -> 1620 | I19: =+SUMIFS('ARR by customer'!$E14:$AZ14,'ARR by customer'!$E$3:$AZ$3,">="&I$2,'ARR by customer'!$E$3:$AZ$3,"<="&I$3) -> 29100 | J19: =+SUM(F19:I19) -> 33540 | K19: =+SUMIFS('ARR by customer'!$E14:$AZ14,'ARR by customer'!$E$3:$AZ$3,">="&K$2,'ARR by customer'!$E$3:$AZ$3,"<="&K$3) -> 2160 | L19: =+SUMIFS('ARR by customer'!$E14:$AZ14,'ARR by customer'!$E$3:$AZ$3,">="&L$2,'ARR by customer'!$E$3:$AZ$3,"<="&L$3) -> 3720.48 | M19: =+SUMIFS('ARR by customer'!$E14:$AZ14,'ARR by customer'!$E$3:$AZ$3,">="&M$2,'ARR by customer'!$E$3:$AZ$3,"<="&M$3) -> 67707 | N19: =+SUMIFS('ARR by customer'!$E14:$AZ14,'ARR by customer'!$E$3:$AZ$3,">="&N$2,'ARR by customer'!$E$3:$AZ$3,"<="&N$3) -> 72127 | O19: =+SUM(K19:N19) -> 145714.48 | P19: =+SUMIFS('ARR by customer'!$E14:$AZ14,'ARR by customer'!$E$3:$AZ$3,">="&P$2,'ARR by customer'!$E$3:$AZ$3,"<="&P$3) -> 99719 | Q19: =+SUMIFS('ARR by customer'!$E14:$AZ14,'ARR by customer'!$E$3:$AZ$3,">="&Q$2,'ARR by customer'!$E$3:$AZ$3,"<="&Q$3) -> 55364 | R19: =+SUMIFS('ARR by customer'!$E14:$AZ14,'ARR by customer'!$E$3:$AZ$3,">="&R$2,'ARR by customer'!$E$3:$AZ$3,"<="&R$3) -> 46411 | S19: =+SUMIFS('ARR by customer'!$E14:$AZ14,'ARR by customer'!$E$3:$AZ$3,">="&S$2,'ARR by customer'!$E$3:$AZ$3,"<="&S$3) -> 290837 | T19: =+SUM(P19:S19) -> 492331 | U19: =+SUMIFS('ARR by customer'!$E14:$AZ14,'ARR by customer'!$E$3:$AZ$3,">="&U$2,'ARR by customer'!$E$3:$AZ$3,"<="&U$3) -> 525082 | V19: =+SUMIFS('ARR by customer'!$E14:$AZ14,'ARR by customer'!$E$3:$AZ$3,">="&V$2,'ARR by customer'!$E$3:$AZ$3,"<="&V$3) -> 463647 | W19: 744984 | X19: 813471 | Y19: =+SUM(U19:X19) -> 2547184 | Z19: 934176 | AA19: 742441 | AB19: 1562795 | AC19: 1866199 | AD19: =+SUM(Z19:AC19) -> 5105611 | AE19: 1943914 | AF19: 1951875 | AG19: 3011419 | AH19: 3601319 | AI19: =+SUM(AE19:AH19) -> 10508527 | AJ19: 4222354 | AK19: 4724323 | AL19: 6384984 | AM19: 7706334 | AN19: =+SUM(AJ19:AM19) -> 23037995
B20: Churn | F20: =+SUMIFS('ARR by customer'!$E15:$AZ15,'ARR by customer'!$E$3:$AZ$3,">="&F$2,'ARR by customer'!$E$3:$AZ$3,"<="&F$3) -> 0 | G20: =+SUMIFS('ARR by customer'!$E15:$AZ15,'ARR by customer'!$E$3:$AZ$3,">="&G$2,'ARR by customer'!$E$3:$AZ$3,"<="&G$3) -> -120 | H20: =+SUMIFS('ARR by customer'!$E15:$AZ15,'ARR by customer'!$E$3:$AZ$3,">="&H$2,'ARR by customer'!$E$3:$AZ$3,"<="&H$3) -> -300 | I20: =+SUMIFS('ARR by customer'!$E15:$AZ15,'ARR by customer'!$E$3:$AZ$3,">="&I$2,'ARR by customer'!$E$3:$AZ$3,"<="&I$3) -> -552 | J20: =+SUM(F20:I20) -> -972 | K20: =+SUMIFS('ARR by customer'!$E15:$AZ15,'ARR by customer'!$E$3:$AZ$3,">="&K$2,'ARR by customer'!$E$3:$AZ$3,"<="&K$3) -> -10260 | L20: =+SUMIFS('ARR by customer'!$E15:$AZ15,'ARR by customer'!$E$3:$AZ$3,">="&L$2,'ARR by customer'!$E$3:$AZ$3,"<="&L$3) -> 0 | M20: =+SUMIFS('ARR by customer'!$E15:$AZ15,'ARR by customer'!$E$3:$AZ$3,">="&M$2,'ARR by customer'!$E$3:$AZ$3,"<="&M$3) -> -38931 | N20: =+SUMIFS('ARR by customer'!$E15:$AZ15,'ARR by customer'!$E$3:$AZ$3,">="&N$2,'ARR by customer'!$E$3:$AZ$3,"<="&N$3) -> -34029 | O20: =+SUM(K20:N20) -> -83220 | P20: =+SUMIFS('ARR by customer'!$E15:$AZ15,'ARR by customer'!$E$3:$AZ$3,">="&P$2,'ARR by customer'!$E$3:$AZ$3,"<="&P$3) -> -75581 | Q20: =+SUMIFS('ARR by customer'!$E15:$AZ15,'ARR by customer'!$E$3:$AZ$3,">="&Q$2,'ARR by customer'!$E$3:$AZ$3,"<="&Q$3) -> -531855 | R20: =+SUMIFS('ARR by customer'!$E15:$AZ15,'ARR by customer'!$E$3:$AZ$3,">="&R$2,'ARR by customer'!$E$3:$AZ$3,"<="&R$3) -> -119664 | S20: =+SUMIFS('ARR by customer'!$E15:$AZ15,'ARR by customer'!$E$3:$AZ$3,">="&S$2,'ARR by customer'!$E$3:$AZ$3,"<="&S$3) -> -158714 | T20: =+SUM(P20:S20) -> -885814 | U20: =+SUMIFS('ARR by customer'!$E15:$AZ15,'ARR by customer'!$E$3:$AZ$3,">="&U$2,'ARR by customer'!$E$3:$AZ$3,"<="&U$3) -> -228379 | V20: =+SUMIFS('ARR by customer'!$E15:$AZ15,'ARR by customer'!$E$3:$AZ$3,">="&V$2,'ARR by customer'!$E$3:$AZ$3,"<="&V$3) -> -453921.7 | W20: -491235 | X20: -445576 | Y20: =+SUM(U20:X20) -> -1619111.7 | Z20: -467088 | AA20: -371220 | AB20: -781397 | AC20: -933100 | AD20: =+SUM(Z20:AC20) -> -2552805 | AE20: -971957 | AF20: -975938 | AG20: -1505710 | AH20: -1800660 | AI20: =+SUM(AE20:AH20) -> -5254265 | AJ20: -2111177 | AK20: -2362161 | AL20: -3192492 | AM20: -3853167 | AN20: =+SUM(AJ20:AM20) -> -11518997
B21: Ending Core ARR | F21: =+SUM(F17:F20) -> 90492 | G21: =+SUM(G17:G20) -> 99732 | H21: =+SUM(H17:H20) -> 114096 | I21: =+SUM(I17:I20) -> 255003.52 | J21: =+SUM(J17:J20) -> 255003.52 | K21: =+SUM(K17:K20) -> 490245.52 | L21: =+SUM(L17:L20) -> 1037272 | M21: =+SUM(M17:M20) -> 1371129 | ... AN21: =+SUM(AN17:AN20) -> 1.3822531e+08
B22: Total Ending ARR | F22: =+SUM(F21) -> 90492 | G22: =+SUM(G21) -> 99732 | H22: =+SUM(H21) -> 114096 | I22: =+SUM(I21) -> 255003.52 | J22: =+SUM(J21) -> 255003.52 | K22: =+SUM(K21) -> 490245.52 | L22: =+SUM(L21) -> 1037272 | M22: =+SUM(M21) -> 1371129 | ... AN22: =+SUM(AN21) -> 1.3822531e+08
B23: % Growth (y/y) | J23: =J22/F17-1 -> 1.8810051 | O23: =O22/J22-1 -> 6.1510346 | T23: =T22/O22-1 -> 2.4708866 | V23: =SUM(R22,S22,U22,V22)/SUM(M22,N22,P22,Q22)-1 -> 2.169817 | Y23: =Y22/T22-1 -> 1.6888775 | AD23: =AD22/Y22-1 -> 1.0582313 | AI23: =AI22/AD22-1 -> 1.192314 | AN23: =AN22/AI22-1 -> 0.79996543
B25: Logos
B26: Logos | F26: =+SUMIFS('ARR by customer'!$E25:$AZ25,'ARR by customer'!$E$3:$AZ$3,"="&F$3) -> 4 | G26: =+SUMIFS('ARR by customer'!$E25:$AZ25,'ARR by customer'!$E$3:$AZ$3,"="&G$3) -> 5 | H26: =+SUMIFS('ARR by customer'!$E25:$AZ25,'ARR by customer'!$E$3:$AZ$3,"="&H$3) -> 7 | I26: =+SUMIFS('ARR by customer'!$E25:$AZ25,'ARR by customer'!$E$3:$AZ$3,"="&I$3) -> 16 | J26: =+I26 -> 16 | K26: =+SUMIFS('ARR by customer'!$E25:$AZ25,'ARR by customer'!$E$3:$AZ$3,"="&K$3) -> 32 | L26: =+SUMIFS('ARR by customer'!$E25:$AZ25,'ARR by customer'!$E$3:$AZ$3,"="&L$3) -> 45 | M26: =+SUMIFS('ARR by customer'!$E25:$AZ25,'ARR by customer'!$E$3:$AZ$3,"="&M$3) -> 57 | N26: =+SUMIFS('ARR by customer'!$E25:$AZ25,'ARR by customer'!$E$3:$AZ$3,"="&N$3) -> 76 | O26: =+N26 -> 76 | P26: =+SUMIFS('ARR by customer'!$E25:$AZ25,'ARR by customer'!$E$3:$AZ$3,"="&P$3) -> 116 | Q26: =+SUMIFS('ARR by customer'!$E25:$AZ25,'ARR by customer'!$E$3:$AZ$3,"="&Q$3) -> 159 | R26: =+SUMIFS('ARR by customer'!$E25:$AZ25,'ARR by customer'!$E$3:$AZ$3,"="&R$3) -> 216 | S26: =+SUMIFS('ARR by customer'!$E25:$AZ25,'ARR by customer'!$E$3:$AZ$3,"="&S$3) -> 289 | T26: =+S26 -> 289 | U26: =+SUMIFS('ARR by customer'!$E25:$AZ25,'ARR by customer'!$E$3:$AZ$3,"="&U$3) -> 345 | V26: =+SUMIFS('ARR by customer'!$E25:$AZ25,'ARR by customer'!$E$3:$AZ$3,"="&V$3) -> 369 | W26: 439 | X26: 514 | Y26: =+X26 -> 514 | Z26: 576 | AA26: 660 | AB26: 744 | AC26: 846 | AD26: =+AC26 -> 846 | AE26: 992 | AF26: 1180 | AG26: 1394 | AH26: 1655 | AI26: =+AH26 -> 1655 | AJ26: 1864 | AK26: 2109 | AL26: 2372 | AM26: 2671 | AN26: =+AM26 -> 2671
B27: New Logos | F27: =+SUMIFS('ARR by customer'!$E23:$AZ23,'ARR by customer'!$E$3:$AZ$3,">="&F$2,'ARR by customer'!$E$3:$AZ$3,"<="&F$3) -> 0 | G27: =+SUMIFS('ARR by customer'!$E23:$AZ23,'ARR by customer'!$E$3:$AZ$3,">="&G$2,'ARR by customer'!$E$3:$AZ$3,"<="&G$3) -> 1 | H27: =+SUMIFS('ARR by customer'!$E23:$AZ23,'ARR by customer'!$E$3:$AZ$3,">="&H$2,'ARR by customer'!$E$3:$AZ$3,"<="&H$3) -> 2 | I27: =+SUMIFS('ARR by customer'!$E23:$AZ23,'ARR by customer'!$E$3:$AZ$3,">="&I$2,'ARR by customer'!$E$3:$AZ$3,"<="&I$3) -> 9 | J27: =+SUM(F27:I27) -> 12 | K27: =+SUMIFS('ARR by customer'!$E23:$AZ23,'ARR by customer'!$E$3:$AZ$3,">="&K$2,'ARR by customer'!$E$3:$AZ$3,"<="&K$3) -> 17 | L27: =+SUMIFS('ARR by customer'!$E23:$AZ23,'ARR by customer'!$E$3:$AZ$3,">="&L$2,'ARR by customer'!$E$3:$AZ$3,"<="&L$3) -> 13 | M27: =+SUMIFS('ARR by customer'!$E23:$AZ23,'ARR by customer'!$E$3:$AZ$3,">="&M$2,'ARR by customer'!$E$3:$AZ$3,"<="&M$3) -> 14 | N27: =+SUMIFS('ARR by customer'!$E23:$AZ23,'ARR by customer'!$E$3:$AZ$3,">="&N$2,'ARR by customer'!$E$3:$AZ$3,"<="&N$3) -> 22 | O27: =+SUM(K27:N27) -> 66 | P27: =+SUMIFS('ARR by customer'!$E23:$AZ23,'ARR by customer'!$E$3:$AZ$3,">="&P$2,'ARR by customer'!$E$3:$AZ$3,"<="&P$3) -> 42 | Q27: =+SUMIFS('ARR by customer'!$E23:$AZ23,'ARR by customer'!$E$3:$AZ$3,">="&Q$2,'ARR by customer'!$E$3:$AZ$3,"<="&Q$3) -> 50 | R27: =+SUMIFS('ARR by customer'!$E23:$AZ23,'ARR by customer'!$E$3:$AZ$3,">="&R$2,'ARR by customer'!$E$3:$AZ$3,"<="&R$3) -> 60 | S27: =+SUMIFS('ARR by customer'!$E23:$AZ23,'ARR by customer'!$E$3:$AZ$3,">="&S$2,'ARR by customer'!$E$3:$AZ$3,"<="&S$3) -> 82 | T27: =+SUM(P27:S27) -> 234 | U27: =+SUMIFS('ARR by customer'!$E23:$AZ23,'ARR by customer'!$E$3:$AZ$3,">="&U$2,'ARR by customer'!$E$3:$AZ$3,"<="&U$3) -> 69 | V27: =+SUMIFS('ARR by customer'!$E23:$AZ23,'ARR by customer'!$E$3:$AZ$3,">="&V$2,'ARR by customer'!$E$3:$AZ$3,"<="&V$3) -> 45 | W27: 89 | X27: 91 | Y27: =+SUM(U27:X27) -> 294 | Z27: 77 | AA27: 96 | AB27: 106 | AC27: 127 | AD27: =+SUM(Z27:AC27) -> 406 | AE27: 171 | AF27: 212 | AG27: 249 | AH27: 302 | AI27: =+SUM(AE27:AH27) -> 934 | AJ27: 255 | AK27: 296 | AL27: 329 | AM27: 376 | AN27: =+SUM(AJ27:AM27) -> 1256
B28: ACV | F28: =+F22/F26 -> 22623 | G28: =+G22/G26 -> 19946.4 | H28: =+H22/H26 -> 16299.429 | I28: =+I22/I26 -> 15937.72 | J28: =+J22/J26 -> 15937.72 | K28: =+K22/K26 -> 15320.173 | L28: =+L22/L26 -> 23050.489 | M28: =+M22/M26 -> 24054.895 | ... AN28: =+AN22/AN26 -> 51750.397
B30: SaaS Metrics
B31: GRR (LTM) | I31: =1+SUM(F20:I20)/F17 -> 0.98901844 | J31: =I31 -> 0.98901844 | K31: =1+SUM(G20:I20,K20)/G17 -> 0.87587853 | M31: =1+SUM(I20,K20:M20)/I17 -> 0.56402503 | N31: =1+SUM(K20:N20)/K17 -> 0.67365156 | O31: =+N31 -> 0.67365156 | P31: =1+SUM(L20:N20,P20)/L17 -> 0.69700692 | Q31: =1+SUM(M20:N20,P20:Q20)/M17 -> 0.34405248 | R31: =1+SUM(N20,P20:R20)/N17 -> 0.44488885 | S31: =1+SUM(P20:S20)/P17 -> 0.51423359 | T31: =+S31 -> 0.51423359 | U31: =1+SUM(Q20:S20,U20)/Q17 -> 0.61784671 | V31: =1+SUM(R20:S20,U20:V20)/R17 -> 0.70119398 | W31: =1+SUM(S20,U20:W20)/S17 -> 0.70774352 | X31: =1+SUM(U20:X20)/U17 -> 0.74418775 | Y31: =+X31 -> 0.74418775 | Z31: =1+SUM(V20:X20,Z20)/V17 -> 0.7764825 | AA31: =1+SUM(W20:X20,Z20:AA20)/W17 -> 0.81761878 | AB31: =1+SUM(X20,Z20:AB20)/X17 -> 0.84413763 | AC31: =1+SUM(Z20:AC20)/Z17 -> 0.85000004 | AD31: =+AC31 -> 0.85000004 | AE31: =1+SUM(AA20:AC20,AE20)/AA17 -> 0.85000004 | AF31: =1+SUM(AB20:AC20,AE20:AF20)/AB17 -> 0.85 | AG31: =1+SUM(AC20,AE20:AG20)/AC17 -> 0.84999999 | AH31: =1+SUM(AE20:AH20)/AE17 -> 0.84999998 | AI31: =+AH31 -> 0.84999998 | AJ31: =1+SUM(AF20:AH20,AJ20)/AF17 -> 0.84999999 | AK31: =1+SUM(AG20:AH20,AJ20:AK20)/AG17 -> 0.85 | AL31: =1+SUM(AH20,AJ20:AL20)/AH17 -> 0.85 | AM31: =1+SUM(AJ20:AM20)/AJ17 -> 0.85 | AN31: =+AM31 -> 0.85
B32: NRR (LTM) | I32: =1+SUM(F19:I20)/F17 -> 1.3679501 | J32: =I32 -> 1.3679501 | K32: =1+SUM(G19:I20,K19:K20)/G17 -> 1.2485082 | L32: =1+SUM(H19:I20,K19:L20)/H17 -> 1.2555697 | M32: =1+SUM(I19:I20,K19:M20)/I17 -> 1.4640345 | N32: =1+SUM(K19:N20)/K17 -> 1.245073 | O32: =+N32 -> 1.245073 | P32: =1+SUM(L19:N20,P19:P20)/L17 -> 1.1932348 | Q32: =1+SUM(M19:N20,P19:Q20)/M17 -> 0.62837231 | R32: =1+SUM(N19:N20,P19:R20)/N17 -> 0.64444775 | S32: =1+SUM(P19:S20)/P17 -> 0.78422013 | T32: =+S32 -> 0.78422013 | U32: =1+SUM(Q19:S20,U19:U20)/Q17 -> 0.95550869 | V32: =1+SUM(R19:S20,U19:V20)/R17 -> 1.1136211 | W32: =1+SUM(S19:S20,U19:W20)/S17 -> 1.1518704 | X32: =1+SUM(U19:X20)/U17 -> 1.1466312 | Y32: =+X32 -> 1.1466312 | Z32: =1+SUM(V19:X20,Z19:Z20)/V17 -> 1.1321572 | AA32: =1+SUM(W19:X20,Z19:AA20)/W17 -> 1.1500001 | AB32: =1+SUM(X19:X20,Z19:AB20)/X17 -> 1.1500001 | AC32: =1+SUM(Z19:AC20)/Z17 -> 1.15 | AD32: =+AC32 -> 1.15 | AE32: =1+SUM(AA19:AC20,AE19:AE20)/AA17 -> 1.15 | AF32: =1+SUM(AB19:AC20,AE19:AF20)/AB17 -> 1.15 | AG32: =1+SUM(AC19:AC20,AE19:AG20)/AC17 -> 1.1499999 | AH32: =1+SUM(AE19:AH20)/AE17 -> 1.1499999 | AI32: =+AH32 -> 1.1499999 | AJ32: =1+SUM(AF19:AH20,AJ19:AJ20)/AF17 -> 1.1499999 | AK32: =1+SUM(AG19:AH20,AJ19:AK20)/AG17 -> 1.15 | AL32: =1+SUM(AH19:AH20,AJ19:AL20)/AH17 -> 1.15 | AM32: =1+SUM(AJ19:AM20)/AJ17 -> 1.15 | AN32: =+AM32 -> 1.15
B33: GRR (quarterly) | F33: =+(F20+F17)/F17 -> 1 | G33: =+(G20+G17)/G17 -> 0.99867392 | H33: =+(H20+H17)/H17 -> 0.99699194 | I33: =+(I20+I17)/I17 -> 0.99516197 | K33: =+(K20+K17)/K17 -> 0.95976526 | L33: =+(L20+L17)/L17 -> 1 | M33: =+(M20+M17)/M17 -> 0.9624679 | N33: =+(N20+N17)/N17 -> 0.97518177 | P33: =+(P20+P17)/P17 -> 0.95855257 | Q33: =+(Q20+Q17)/Q17 -> 0.804306 | R33: =+(R20+R17)/R17 -> 0.96278014 | S33: =+(S20+S17)/S17 -> 0.96518281 | U33: =+(U20+U17)/U17 -> 0.96391716 | V33: =+(V20+V17)/V17 -> 0.94538792 | W33: =+(W20+W17)/W17 -> 0.949529 | X33: =+(X20+X17)/X17 -> 0.96637333 | Z33: =+(Z20+Z17)/Z17 -> 0.97255443 | AA33: =+(AA20+AA17)/AA17 -> 0.9817891 | AB33: =+(AB20+AB17)/AB17 -> 0.96799645 | AC33: =+(AC20+AC17)/AC17 -> 0.96809336 | AE33: =+(AE20+AE17)/AE17 -> 0.97225234 | AF33: =+(AF20+AF17)/AF17 -> 0.97710314 | AG33: =+(AG20+AG17)/AG17 -> 0.97096851 | AH33: =+(AH20+AH17)/AH17 -> 0.97146788 | AJ33: =+(AJ20+AJ17)/AJ17 -> 0.97250832 | AK33: =+(AK20+AK17)/AK17 -> 0.97344355 | AL33: =+(AL20+AL17)/AL17 -> 0.96901337 | AM33: =+(AM20+AM17)/AM17 -> 0.96771162
B34: NRR (quarterly) | F34: =SUM(F19:F20,F17)/F17 -> 1.0223698 | G34: =SUM(G19:G20,G17)/G17 -> 1.0079565 | H34: =SUM(H19:H20,H17)/H17 -> 1.0132355 | I34: =SUM(I19:I20,I17)/I17 -> 1.2502103 | K34: =SUM(K19:K20,K17)/K17 -> 0.96823573 | L34: =SUM(L19:L20,L17)/L17 -> 1.007589 | M34: =SUM(M19:M20,M17)/M17 -> 1.027742 | N34: =SUM(N19:N20,N17)/N17 -> 1.0277859 | P34: =SUM(P19:P20,P17)/P17 -> 1.0132369 | Q34: =SUM(Q19:Q20,Q17)/Q17 -> 0.82467697 | R34: =SUM(R19:R20,R17)/R17 -> 0.97721565 | S34: =SUM(S19:S20,S17)/S17 -> 1.0289839 | U34: =SUM(U19:U20,U17)/U17 -> 1.0468777 | V34: =SUM(V19:V20,V17)/V17 -> 1.0011701 | W34: =SUM(W19:W20,W17)/W17 -> 1.026071 | X34: =SUM(X19:X20,X17)/X17 -> 1.0277643 | Z34: =SUM(Z19:Z20,Z17)/Z17 -> 1.0274456 | AA34: =SUM(AA19:AA20,AA17)/AA17 -> 1.0182109 | AB34: =SUM(AB19:AB20,AB17)/AB17 -> 1.0320036 | AC34: =SUM(AC19:AC20,AC17)/AC17 -> 1.0319066 | AE34: =SUM(AE19:AE20,AE17)/AE17 -> 1.0277477 | AF34: =SUM(AF19:AF20,AF17)/AF17 -> 1.0228968 | AG34: =SUM(AG19:AG20,AG17)/AG17 -> 1.0290315 | AH34: =SUM(AH19:AH20,AH17)/AH17 -> 1.0285321 | AJ34: =SUM(AJ19:AJ20,AJ17)/AJ17 -> 1.0274917 | AK34: =SUM(AK19:AK20,AK17)/AK17 -> 1.0265565 | AL34: =SUM(AL19:AL20,AL17)/AL17 -> 1.0309866 | AM34: =SUM(AM19:AM20,AM17)/AM17 -> 1.0322884
B35: LTV | F35: =IFERROR((F28/12)*((1-((F33^((1/3))))^36)/(1-((F33^((1/3))))))*(F52-10%),"n.a.") -> n.a. | G35: =IFERROR((G28/12)*((1-((G33^((1/3))))^36)/(1-((G33^((1/3))))))*(G52-10%),"n.a.") -> 51436.04 | H35: =IFERROR((H28/12)*((1-((H33^((1/3))))^36)/(1-((H33^((1/3))))))*(H52-10%),"n.a.") -> 29057.55 | I35: =IFERROR((I28/12)*((1-((I33^((1/3))))^36)/(1-((I33^((1/3))))))*(I52-10%),"n.a.") -> 22736.412 | K35: =IFERROR((K28/12)*((1-((K33^((1/3))))^36)/(1-((K33^((1/3))))))*(K52-10%),"n.a.") -> 23885.294 | L35: =IFERROR((L28/12)*((1-((L33^((1/3))))^36)/(1-((L33^((1/3))))))*(L52-10%),"n.a.") -> n.a. | M35: =IFERROR((M28/12)*((1-((M33^((1/3))))^36)/(1-((M33^((1/3))))))*(M52-10%),"n.a.") -> 64559.839 | N35: =IFERROR((N28/12)*((1-((N33^((1/3))))^36)/(1-((N33^((1/3))))))*(N52-10%),"n.a.") -> 41731.125 | P35: =IFERROR((P28/12)*((1-((P33^((1/3))))^36)/(1-((P33^((1/3))))))*(P52-10%),"n.a.") -> 27548.151 | Q35: =IFERROR((Q28/12)*((1-((Q33^((1/3))))^36)/(1-((Q33^((1/3))))))*(Q52-10%),"n.a.") -> 10384.581 | R35: =IFERROR((R28/12)*((1-((R33^((1/3))))^36)/(1-((R33^((1/3))))))*(R52-10%),"n.a.") -> 17406.303 | S35: =IFERROR((S28/12)*((1-((S33^((1/3))))^36)/(1-((S33^((1/3))))))*(S52-10%),"n.a.") -> 18328.264 | U35: =IFERROR((U28/12)*((1-((U33^((1/3))))^36)/(1-((U33^((1/3))))))*(U52-10%),"n.a.") -> 22481.361 | V35: =IFERROR((V28/12)*((1-((V33^((1/3))))^36)/(1-((V33^((1/3))))))*(V52-10%),"n.a.") -> 21919.564 | W35: =IFERROR((W28/12)*((1-((W33^((1/3))))^36)/(1-((W33^((1/3))))))*(W52-10%),"n.a.") -> 33313.983 | X35: =IFERROR((X28/12)*((1-((X33^((1/3))))^36)/(1-((X33^((1/3))))))*(X52-10%),"n.a.") -> 45885.33 | Z35: =IFERROR((Z28/12)*((1-((Z33^((1/3))))^36)/(1-((Z33^((1/3))))))*(Z52-10%),"n.a.") -> 51161.641 | AA35: =IFERROR((AA28/12)*((1-((AA33^((1/3))))^36)/(1-((AA33^((1/3))))))*(AA52-10%),"n.a.") -> 62200.053 | AB35: =IFERROR((AB28/12)*((1-((AB33^((1/3))))^36)/(1-((AB33^((1/3))))))*(AB52-10%),"n.a.") -> 64414.14 | AC35: =IFERROR((AC28/12)*((1-((AC33^((1/3))))^36)/(1-((AC33^((1/3))))))*(AC52-10%),"n.a.") -> 70793.548 | AE35: =IFERROR((AE28/12)*((1-((AE33^((1/3))))^36)/(1-((AE33^((1/3))))))*(AE52-10%),"n.a.") -> 74982.053 | AF35: =IFERROR((AF28/12)*((1-((AF33^((1/3))))^36)/(1-((AF33^((1/3))))))*(AF52-10%),"n.a.") -> 82030.123 | AG35: =IFERROR((AG28/12)*((1-((AG33^((1/3))))^36)/(1-((AG33^((1/3))))))*(AG52-10%),"n.a.") -> 82469.676 | AH35: =IFERROR((AH28/12)*((1-((AH33^((1/3))))^36)/(1-((AH33^((1/3))))))*(AH52-10%),"n.a.") -> 84642.665 | AJ35: =IFERROR((AJ28/12)*((1-((AJ33^((1/3))))^36)/(1-((AJ33^((1/3))))))*(AJ52-10%),"n.a.") -> 89304.92 | AK35: =IFERROR((AK28/12)*((1-((AK33^((1/3))))^36)/(1-((AK33^((1/3))))))*(AK52-10%),"n.a.") -> 93738.984 | AL35: =IFERROR((AL28/12)*((1-((AL33^((1/3))))^36)/(1-((AL33^((1/3))))))*(AL52-10%),"n.a.") -> 94464.981 | AM35: =IFERROR((AM28/12)*((1-((AM33^((1/3))))^36)/(1-((AM33^((1/3))))))*(AM52-10%),"n.a.") -> 96402.463
B36: CAC | G36: =-F55/G27 -> 695 | H36: =-G55/H27 -> 0 | I36: =-H55/I27 -> 2459.2522 | K36: =-I55/K27 -> 6974.5253 | L36: =-K55/L27 -> 15905.229 | M36: =-L55/M27 -> 22211.35 | N36: =-M55/N27 -> 21154.58 | P36: =-N55/P27 -> 14028.827 | Q36: =-P55/Q27 -> 16567.75 | R36: =-Q55/R27 -> 21032.479 | S36: =-R55/S27 -> 21702.28 | U36: =-S55/U27 -> 36293.594 | V36: =-U55/V27 -> 60873.718 | W36: =-V55/W27 -> 40630.034 | X36: =-W55/X27 -> 39410.67 | Z36: =-X55/Z27 -> 47317.091 | AA36: =-Z55/AA27 -> 46326.5 | AB36: =-AA55/AB27 -> 41308.981 | AC36: =-AB55/AC27 -> 35092.693 | AE36: =-AC55/AE27 -> 27594.17 | AF36: =-AE55/AF27 -> 26644.311 | AG36: =-AF55/AG27 -> 24906.827 | AH36: =-AG55/AH27 -> 24089.44 | AJ36: =-AH55/AJ27 -> 33112.592 | AK36: =-AJ55/AK27 -> 34379.368 | AL36: =-AK55/AL27 -> 35418.249 | AM36: =-AL55/AM27 -> 35524.301
B37: LTV/CAC | G37: =+IFERROR(G35/G36,"n.a.") -> 74.00869 | H37: =+IFERROR(H35/H36,"n.a.") -> n.a. | I37: =+IFERROR(I35/I36,"n.a.") -> 9.2452541 | K37: =+IFERROR(K35/K36,"n.a.") -> 3.4246479 | L37: =+IFERROR(L35/L36,"n.a.") -> n.a. | M37: =+IFERROR(M35/M36,"n.a.") -> 2.9066148 | N37: =+IFERROR(N35/N36,"n.a.") -> 1.9726756 | P37: =+IFERROR(P35/P36,"n.a.") -> 1.9636818 | Q37: =+IFERROR(Q35/Q36,"n.a.") -> 0.62679491 | R37: =+IFERROR(R35/R36,"n.a.") -> 0.82759159 | S37: =+IFERROR(S35/S36,"n.a.") -> 0.84453175 | U37: =+IFERROR(U35/U36,"n.a.") -> 0.61943056 | V37: =+IFERROR(V35/V36,"n.a.") -> 0.36008256 | W37: =+IFERROR(W35/W36,"n.a.") -> 0.8199349 | X37: =+IFERROR(X35/X36,"n.a.") -> 1.164287 | Z37: =+IFERROR(Z35/Z36,"n.a.") -> 1.0812508 | AA37: =+IFERROR(AA35/AA36,"n.a.") -> 1.3426452 | AB37: =+IFERROR(AB35/AB36,"n.a.") -> 1.5593253 | AC37: =+IFERROR(AC35/AC36,"n.a.") -> 2.0173302 | AE37: =+IFERROR(AE35/AE36,"n.a.") -> 2.7173151 | AF37: =+IFERROR(AF35/AF36,"n.a.") -> 3.0787106 | AG37: =+IFERROR(AG35/AG36,"n.a.") -> 3.3111273 | AH37: =+IFERROR(AH35/AH36,"n.a.") -> 3.5136833 | AJ37: =+IFERROR(AJ35/AJ36,"n.a.") -> 2.6970078 | AK37: =+IFERROR(AK35/AK36,"n.a.") -> 2.7266058 | AL37: =+IFERROR(AL35/AL36,"n.a.") -> 2.6671273 | AM37: =+IFERROR(AM35/AM36,"n.a.") -> 2.7137047
B38: CAC Payback (in Months) | G38: =+G36/((G28*(G52-10%)))*12 -> 0.48268373 | H38: =+H36/((H28*(H52-10%)))*12 -> 0 | I38: =+I36/((I28*(I52-10%)))*12 -> 3.7858077 | K38: =+K36/((K28*(K52-10%)))*12 -> 8.3566362 | L38: =+L36/((L28*(L52-10%)))*12 -> 11.300644 | M38: =+M36/((M28*(M52-10%)))*12 -> 9.9955151 | N38: =+N36/((N28*(N52-10%)))*12 -> 15.820587 | P38: =+P36/((P28*(P52-10%)))*12 -> 14.475938 | Q38: =+Q36/((Q28*(Q52-10%)))*12 -> 21.115314 | R38: =+R36/((R28*(R52-10%)))*12 -> 35.166911 | S38: =+S36/((S28*(S52-10%)))*12 -> 34.928025 | U38: =+U36/((U28*(U52-10%)))*12 -> 47.284525 | V38: =+V36/((V28*(V52-10%)))*12 -> 73.418738 | W38: =+W36/((W28*(W52-10%)))*12 -> 32.98241 | X38: =+X36/((X28*(X52-10%)))*12 -> 25.505274 | Z38: =+Z36/((Z28*(Z52-10%)))*12 -> 28.437314 | AA38: =+AA36/((AA28*(AA52-10%)))*12 -> 24.135701 | AB38: =+AB36/((AB28*(AB52-10%)))*12 -> 19.218257 | AC38: =+AC36/((AC28*(AC52-10%)))*12 -> 14.863137 | AE38: =+AE36/((AE28*(AE52-10%)))*12 -> 11.29622 | AF38: =+AF36/((AF28*(AF52-10%)))*12 -> 10.248228 | AG38: =+AG36/((AG28*(AG52-10%)))*12 -> 9.203385 | AH38: =+AH36/((AH28*(AH52-10%)))*12 -> 8.6973192 | AJ38: =+AJ36/((AJ28*(AJ52-10%)))*12 -> 11.397761 | AK38: =+AK36/((AK28*(AK52-10%)))*12 -> 11.333854 | AL38: =+AL36/((AL28*(AL52-10%)))*12 -> 11.300365 | AM38: =+AM36/((AM28*(AM52-10%)))*12 -> 11.025354
B39: Magic Number | G39: =+IFERROR((G21-F21)/-F55,"n.a.") -> 13.294964 | H39: =+IFERROR((H21-G21)/-G55,"n.a.") -> n.a. | I39: =+IFERROR((I21-H21)/-H55,"n.a.") -> 6.3663218 | K39: =+IFERROR((K21-J21)/-I55,"n.a.") -> 1.9840439 | L39: =+IFERROR((L21-K21)/-K55,"n.a.") -> 2.6456054 | M39: =+IFERROR((M21-L21)/-L55,"n.a.") -> 1.0736371 | N39: =+IFERROR((N21-M21)/-M55,"n.a.") -> 0.97208692 | P39: =+IFERROR((P21-O21)/-N55,"n.a.") -> 1.5177083 | Q39: =+IFERROR((Q21-P21)/-P55,"n.a.") -> 0.6002855 | R39: =+IFERROR((R21-Q21)/-Q55,"n.a.") -> 1.0645734 | S39: =+IFERROR((S21-R21)/-R55,"n.a.") -> 0.99506348 | U39: =+IFERROR((U21-T21)/-S55,"n.a.") -> 0.7916313 | V39: =+IFERROR((V21-U21)/-U55,"n.a.") -> 0.51884033 | W39: =+IFERROR((W21-V21)/-V55,"n.a.") -> 0.97278374 | X39: =+IFERROR((X21-W21)/-W55,"n.a.") -> 1.0506534 | Z39: =+IFERROR((Z21-Y21)/-X55,"n.a.") -> 0.92380173 | AA39: =+IFERROR((AA21-Z21)/-Z55,"n.a.") -> 0.90648463 | AB39: =+IFERROR((AB21-AA21)/-AA55,"n.a.") -> 1.1027686 | AC39: =+IFERROR((AC21-AB21)/-AB55,"n.a.") -> 1.2977402 | AE39: =+IFERROR((AE21-AD21)/-AC55,"n.a.") -> 1.6095442 | AF39: =+IFERROR((AF21-AE21)/-AE55,"n.a.") -> 1.6360691 | AG39: =+IFERROR((AG21-AF21)/-AF55,"n.a.") -> 1.8132178 | AH39: =+IFERROR((AH21-AG21)/-AG55,"n.a.") -> 1.8808743 | AJ39: =+IFERROR((AJ21-AI21)/-AH55,"n.a.") -> 1.4395749 | AK39: =+IFERROR((AK21-AJ21)/-AJ55,"n.a.") -> 1.3835475 | AL39: =+IFERROR((AL21-AK21)/-AK55,"n.a.") -> 1.3995123 | AM39: =+IFERROR((AM21-AL21)/-AL55,"n.a.") -> 1.4141724
B42: Income Statement ($)
B43: Revenue
B44: Subscription revenue | F44: 29018 | G44: 24338 | H44: 26058 | I44: 47170.97 | J44: 126584.97 | K44: 74830.4 | L44: 137309.09 | M44: 257996.54 | N44: 383054.98 | O44: 853191.01 | P44: 543201.32 | Q44: 832494.14 | R44: 1015030.6 | S44: 1409148 | T44: 3799874 | U44: 1779760.7 | V44: 2122990 | W44: 2720879 | X44: 3541160 | Y44: =SUM(U44:X44) -> 10164790 | Z44: 4503453 | AA44: 5515953 | AB44: 6528453 | AC44: 7540953 | AD44: 24088812 | AE44: 8995794 | AF44: 10946245 | AG44: 13319591 | AH44: 16207520 | AI44: 49469150 | AJ44: 19072042 | AK44: 22090891 | AL44: 25587583 | AM44: 29637756 | AN44: 96388272
B45: Other revenue | F45: 0 | G45: 0 | H45: 0 | I45: 0 | J45: 0 | K45: 0 | L45: 0 | M45: 94947.77 | N45: 5000 | O45: 99947.77 | P45: 9500 | Q45: 16078.02 | R45: 24425.89 | S45: 31058.76 | T45: 81062.67 | U45: 120358.86 | V45: 88606 | W45: 61720 | X45: 52908 | Y45: =SUM(U45:X45) -> 323592.86 | Z45: 58375 | AA45: 69908 | AB45: 35410 | AC45: 27622 | AD45: 191315 | AE45: 75076 | AF45: 115386 | AG45: 142343 | AH45: 172546 | AI45: 505352 | AJ45: 168460 | AK45: 176717 | AL45: 195361 | AM45: 221158 | AN45: 761696
B46: Total revenue | F46: =+SUM(F44:F45) -> 29018 | G46: =+SUM(G44:G45) -> 24338 | H46: =+SUM(H44:H45) -> 26058 | I46: =+SUM(I44:I45) -> 47170.97 | J46: =+SUM(J44:J45) -> 126584.97 | K46: =+SUM(K44:K45) -> 74830.4 | L46: =+SUM(L44:L45) -> 137309.09 | M46: =+SUM(M44:M45) -> 352944.31 | ... AN46: =+SUM(AN44:AN45) -> 97149968
B47: Cost of sales
B48: Infrastructure | F48: -783.07 | G48: -821.62 | H48: -1539.07 | I48: -2155.42 | J48: -5299.18 | K48: -1419.8 | L48: -2460.71 | M48: -10195.61 | N48: -3408.55 | O48: -17484.67 | P48: -5471.17 | Q48: -14999.8 | R48: -22027.07 | S48: -25380.02 | T48: -67878.06 | U48: -45317.97 | V48: -68004 | W48: -84221 | X48: -95982 | Y48: =SUM(U48:X48) -> -293524.97 | Z48: -122002 | AA48: -149420 | AB48: -176516 | AC48: -203799 | AD48: -651737 | AE48: -243412 | AF48: -296356 | AG48: -360625 | AH48: -438811 | AI48: -1339205 | AJ48: -516124 | AK48: -597691 | AL48: -692232 | AM48: -801768 | AN48: -2607815
B49: Customer experience | F49: 0 | G49: 0 | H49: -6154.63 | I49: -17227.03 | J49: -23381.66 | K49: -17008.42 | L49: -20508.4 | M49: -30952.07 | N49: -90174.2 | O49: -158643.09 | P49: -223285.76 | Q49: -362675.68 | R49: -570743.76 | S49: -794165.7 | T49: -1950870.9 | U49: -996399.96 | V49: -1130480 | W49: -1093745 | X49: -1160858 | Y49: =SUM(U49:X49) -> -4381483 | Z49: -1448632 | AA49: -1450518 | AB49: -1450518 | AC49: -1450518 | AD49: -5800185 | AE49: -1790679 | AF49: -1900810 | AG49: -2214849 | AH49: -2710998 | AI49: -8617335 | AJ49: -2883728 | AK49: -3000600 | AL49: -3403129 | AM49: -3949890 | AN49: -13237347
...

Sheet Sheet2

Sheet Sheet1
D10: =+#REF! -> #REF! | E10: =+D14 -> #REF! | F10: =+E14 -> #REF! | G10: =+F14 -> #REF!
D11: =+SUM(#REF!) -> #REF! | E11: =+SUMIFS('ARR by customer'!$E6:$AZ6,'ARR by customer'!$E$3:$AZ$3,">="&E$2,'ARR by customer'!$E$3:$AZ$3,"<="&E$3) -> 0 | F11: =+SUMIFS('ARR by customer'!$E6:$AZ6,'ARR by customer'!$E$3:$AZ$3,">="&F$2,'ARR by customer'!$E$3:$AZ$3,"<="&F$3) -> 0 | G11: =+SUMIFS('ARR by customer'!$E6:$AZ6,'ARR by customer'!$E$3:$AZ$3,">="&G$2,'ARR by customer'!$E$3:$AZ$3,"<="&G$3) -> 0
D12: =+SUM(#REF!) -> #REF! | E12: =+SUMIFS('ARR by customer'!$E7:$AZ7,'ARR by customer'!$E$3:$AZ$3,">="&E$2,'ARR by customer'!$E$3:$AZ$3,"<="&E$3) -> 0 | F12: =+SUMIFS('ARR by customer'!$E7:$AZ7,'ARR by customer'!$E$3:$AZ$3,">="&F$2,'ARR by customer'!$E$3:$AZ$3,"<="&F$3) -> 0 | G12: =+SUMIFS('ARR by customer'!$E7:$AZ7,'ARR by customer'!$E$3:$AZ$3,">="&G$2,'ARR by customer'!$E$3:$AZ$3,"<="&G$3) -> 0
D13: =+SUM(#REF!) -> #REF! | E13: =+SUMIFS('ARR by customer'!$E8:$AZ8,'ARR by customer'!$E$3:$AZ$3,">="&E$2,'ARR by customer'!$E$3:$AZ$3,"<="&E$3) -> 0 | F13: =+SUMIFS('ARR by customer'!$E8:$AZ8,'ARR by customer'!$E$3:$AZ$3,">="&F$2,'ARR by customer'!$E$3:$AZ$3,"<="&F$3) -> 0 | G13: =+SUMIFS('ARR by customer'!$E8:$AZ8,'ARR by customer'!$E$3:$AZ$3,">="&G$2,'ARR by customer'!$E$3:$AZ$3,"<="&G$3) -> 0
D14: =+SUM(D10:D13) -> #REF! | E14: =+SUM(E10:E13) -> #REF! | F14: =+SUM(F10:F13) -> #REF! | G14: =+SUM(G10:G13) -> #REF!
D15: =+SUM(D14) -> #REF! | E15: =+SUM(E14) -> #REF! | F15: =+SUM(F14) -> #REF! | G15: =+SUM(G14) -> #REF!

Sheet executive summary
B1: RabbitWise
B2: Executive Summary
B4: Period | C4: Latest Actual | D4: FY23 Forecast | E4: FY24 Forecast
C5: FY23-Q2 | D5: FY23 | E5: FY24
B7: ARR Build
B9: Starting Core ARR | C9: ='is-bs-cfs'!V17 -> 8311746 | D9: ='is-bs-cfs'!Y17 -> 6329297 | E9: ='is-bs-cfs'!AD17 -> 17018704
B10: New | C10: ='is-bs-cfs'!V18 -> 1411543 | D10: ='is-bs-cfs'!Y18 -> 9761335 | E10: ='is-bs-cfs'!AD18 -> 15456919
B11: Expansion | C11: ='is-bs-cfs'!V19 -> 463647 | D11: ='is-bs-cfs'!Y19 -> 2547184 | E11: ='is-bs-cfs'!AD19 -> 5105611
B12: (negative) Churn | C12: ='is-bs-cfs'!V20 -> -453921.7 | D12: ='is-bs-cfs'!Y20 -> -1619111.7 | E12: ='is-bs-cfs'!AD20 -> -2552805
B13: Ending Core ARR | C13: ='is-bs-cfs'!V22 -> 9733014.3 | D13: ='is-bs-cfs'!Y22 -> 17018704 | E13: ='is-bs-cfs'!AD22 -> 35028429
B14: % Growth (y/y) | C14: ='is-bs-cfs'!V23 -> 2.169817 | D14: ='is-bs-cfs'!Y23 -> 1.6888775 | E14: ='is-bs-cfs'!AD23 -> 1.0582313
B16: SaaS Metrics
B18: GRR (LTM) | C18: ='is-bs-cfs'!V31 -> 0.70119398 | D18: ='is-bs-cfs'!Y31 -> 0.74418775 | E18: ='is-bs-cfs'!AD31 -> 0.85000004
B19: NRR (LTM) | C19: ='is-bs-cfs'!V32 -> 1.1136211 | D19: ='is-bs-cfs'!Y32 -> 1.1466312 | E19: ='is-bs-cfs'!AD32 -> 1.15
B20: LTV | C20: ='is-bs-cfs'!V35 -> 21919.564 | D20: n.a. | E20: n.a.
B21: CAC | C21: ='is-bs-cfs'!V36 -> 60873.718 | D21: n.a. | E21: n.a.
B22: LTV/CAC | C22: ='is-bs-cfs'!V37 -> 0.36008256 | D22: n.a. | E22: n.a.
B23: CAC Payback (in Months) | C23: ='is-bs-cfs'!V38 -> 73.418738 | D23: n.a. | E23: n.a.
B24: Magic Number | C24: ='is-bs-cfs'!V39 -> 0.51884033 | D24: n.a. | E24: n.a.
B26: P&L Summary ($)
B28: Total Revenue | C28: ='is-bs-cfs'!V46 -> 2211596 | D28: ='is-bs-cfs'!Y46 -> 10488383 | E28: ='is-bs-cfs'!AD46 -> 24280127
B29: Gross Profit | C29: ='is-bs-cfs'!V51 -> 1013112 | D29: ='is-bs-cfs'!Y51 -> 5813374.7 | E29: ='is-bs-cfs'!AD51 -> 17828205
B30: Gross Margin % | C30: ='is-bs-cfs'!V52 -> 0.47720997 | D30: ='is-bs-cfs'!Y52 -> 0.57191293 | E30: ='is-bs-cfs'!AD52 -> 0.74010312
B31: Operating Profit | C31: ='is-bs-cfs'!V58 -> -9484169 | D31: ='is-bs-cfs'!Y58 -> -32751564 | E31: ='is-bs-cfs'!AD58 -> -27610668
B32: Net Income | C32: ='is-bs-cfs'!V60 -> -9477287 | D32: ='is-bs-cfs'!Y60 -> -32707545 | E32: ='is-bs-cfs'!AD60 -> -27483860

Sheet ARR by customer
B2: Start | E2: 43466 | F2: =+E3+1 -> 43497 | G2: =+F3+1 -> 43525 | H2: =+G3+1 -> 43556 | I2: =+H3+1 -> 43586 | J2: =+I3+1 -> 43617 | K2: =+J3+1 -> 43647 | L2: =+K3+1 -> 43678 | M2: =+L3+1 -> 43709 | ... AU2: =+AT3+1 -> 44743
B3: End | E3: =+EOMONTH(E2,0) -> 43496 | F3: =+EOMONTH(F2,0) -> 43524 | G3: =+EOMONTH(G2,0) -> 43555 | H3: =+EOMONTH(H2,0) -> 43585 | I3: =+EOMONTH(I2,0) -> 43616 | J3: =+EOMONTH(J2,0) -> 43646 | K3: =+EOMONTH(K2,0) -> 43677 | L3: =+EOMONTH(L2,0) -> 43708 | ... AU3: =+EOMONTH(AU2,0) -> 44773
B4: Fiscal Year | E4: =+YEAR(E3)+(MONTH(E3)>=2) -> 2019 | F4: =+YEAR(F3)+(MONTH(F3)>=2) -> 2020 | G4: =+YEAR(G3)+(MONTH(G3)>=2) -> 2020 | H4: =+YEAR(H3)+(MONTH(H3)>=2) -> 2020 | I4: =+YEAR(I3)+(MONTH(I3)>=2) -> 2020 | J4: =+YEAR(J3)+(MONTH(J3)>=2) -> 2020 | K4: =+YEAR(K3)+(MONTH(K3)>=2) -> 2020 | L4: =+YEAR(L3)+(MONTH(L3)>=2) -> 2020 | ... AU4: =+YEAR(AU3)+(MONTH(AU3)>=2) -> 2023
B5: Fiscal Quarter | E5: =+CHOOSE(MONTH(E3),4,1,1,1,2,2,2,3,3,3,4,4) -> 4 | F5: =+CHOOSE(MONTH(F3),4,1,1,1,2,2,2,3,3,3,4,4) -> 1 | G5: =+CHOOSE(MONTH(G3),4,1,1,1,2,2,2,3,3,3,4,4) -> 1 | H5: =+CHOOSE(MONTH(H3),4,1,1,1,2,2,2,3,3,3,4,4) -> 1 | I5: =+CHOOSE(MONTH(I3),4,1,1,1,2,2,2,3,3,3,4,4) -> 2 | J5: =+CHOOSE(MONTH(J3),4,1,1,1,2,2,2,3,3,3,4,4) -> 2 | K5: =+CHOOSE(MONTH(K3),4,1,1,1,2,2,2,3,3,3,4,4) -> 2 | L5: =+CHOOSE(MONTH(L3),4,1,1,1,2,2,2,3,3,3,4,4) -> 3 | ... AU5: =+CHOOSE(MONTH(AU3),4,1,1,1,2,2,2,3,3,3,4,4) -> 2
B6: Fiscal Month | E6: =+CHOOSE(MONTH(E3),12,1,2,3,4,5,6,7,8,9,10,11) -> 12 | F6: =+CHOOSE(MONTH(F3),12,1,2,3,4,5,6,7,8,9,10,11) -> 1 | G6: =+CHOOSE(MONTH(G3),12,1,2,3,4,5,6,7,8,9,10,11) -> 2 | H6: =+CHOOSE(MONTH(H3),12,1,2,3,4,5,6,7,8,9,10,11) -> 3 | I6: =+CHOOSE(MONTH(I3),12,1,2,3,4,5,6,7,8,9,10,11) -> 4 | J6: =+CHOOSE(MONTH(J3),12,1,2,3,4,5,6,7,8,9,10,11) -> 5 | K6: =+CHOOSE(MONTH(K3),12,1,2,3,4,5,6,7,8,9,10,11) -> 6 | L6: =+CHOOSE(MONTH(L3),12,1,2,3,4,5,6,7,8,9,10,11) -> 7 | ... AU6: =+CHOOSE(MONTH(AU3),12,1,2,3,4,5,6,7,8,9,10,11) -> 6
B9: Monthly ARR by Customer
B11: ARR Build
B12: Core Start | E12: 0 | F12: =+E16 -> 88512 | G12: =+F16 -> 89292 | H12: =+G16 -> 90132 | I12: =+H16 -> 90492 | J12: =+I16 -> 90372 | K12: =+J16 -> 91031.88 | L12: =+K16 -> 99732 | M12: =+L16 -> 105972 | ... AU12: =+AT16 -> 9133481.1
B13: New | E13: =+SUMPRODUCT(--(D$32:D$464=0),--(E$32:E$464>0),E$32:E$464) -> 88512 | F13: =+SUMPRODUCT(--(E$32:E$464=0),--(F$32:F$464>0),F$32:F$464) -> 0 | G13: =+SUMPRODUCT(--(F$32:F$464=0),--(G$32:G$464>0),G$32:G$464) -> 0 | H13: =+SUMPRODUCT(--(G$32:G$464=0),--(H$32:H$464>0),H$32:H$464) -> 0 | I13: =+SUMPRODUCT(--(H$32:H$464=0),--(I$32:I$464>0),I$32:I$464) -> 0 | J13: =+SUMPRODUCT(--(I$32:I$464=0),--(J$32:J$464>0),J$32:J$464) -> 0 | K13: =+SUMPRODUCT(--(J$32:J$464=0),--(K$32:K$464>0),K$32:K$464) -> 8520 | L13: =+SUMPRODUCT(--(K$32:K$464=0),--(L$32:L$464>0),L$32:L$464) -> 6420 | ... AU13: =+SUMPRODUCT(--(AT$32:AT$464=0),--(AU$32:AU$464>0),AU$32:AU$464) -> 706568
B14: Expansion | E14: =+SUMPRODUCT(--(D$32:D$464<>0),--(E$32:E$464>D$32:D$464),E$32:E$464)-SUMPRODUCT(--(D$32:D$464<>0),--(E$32:E$464>D$32:D$464),D$32:D$464) -> 0 | F14: =+SUMPRODUCT(--(E$32:E$464<>0),--(F$32:F$464>E$32:E$464),F$32:F$464)-SUMPRODUCT(--(E$32:E$464<>0),--(F$32:F$464>E$32:E$464),E$32:E$464) -> 780 | G14: =+SUMPRODUCT(--(F$32:F$464<>0),--(G$32:G$464>F$32:F$464),G$32:G$464)-SUMPRODUCT(--(F$32:F$464<>0),--(G$32:G$464>F$32:F$464),F$32:F$464) -> 840 | H14: =+SUMPRODUCT(--(G$32:G$464<>0),--(H$32:H$464>G$32:G$464),H$32:H$464)-SUMPRODUCT(--(G$32:G$464<>0),--(H$32:H$464>G$32:G$464),G$32:G$464) -> 360 | I14: =+SUMPRODUCT(--(H$32:H$464<>0),--(I$32:I$464>H$32:H$464),I$32:I$464)-SUMPRODUCT(--(H$32:H$464<>0),--(I$32:I$464>H$32:H$464),H$32:H$464) -> 0 | J14: =+SUMPRODUCT(--(I$32:I$464<>0),--(J$32:J$464>I$32:I$464),J$32:J$464)-SUMPRODUCT(--(I$32:I$464<>0),--(J$32:J$464>I$32:I$464),I$32:I$464) -> 659.88 | K14: =+SUMPRODUCT(--(J$32:J$464<>0),--(K$32:K$464>J$32:J$464),K$32:K$464)-SUMPRODUCT(--(J$32:J$464<>0),--(K$32:K$464>J$32:J$464),J$32:J$464) -> 180.12 | L14: =+SUMPRODUCT(--(K$32:K$464<>0),--(L$32:L$464>K$32:K$464),L$32:L$464)-SUMPRODUCT(--(K$32:K$464<>0),--(L$32:L$464>K$32:K$464),K$32:K$464) -> 120 | ... AU14: =+SUMPRODUCT(--(AT$32:AT$464<>0),--(AU$32:AU$464>AT$32:AT$464),AU$32:AU$464)-SUMPRODUCT(--(AT$32:AT$464<>0),--(AU$32:AU$464>AT$32:AT$464),AT$32:AT$464) -> 87609
B15: Churn | E15: =+-SUMPRODUCT(--(D$32:D$464>0),--(E$32:E$464=0),D$32:D$464)+SUMPRODUCT(--(E$32:E$464<>0),--(E$32:E$464<D$32:D$464),E$32:E$464)-SUMPRODUCT(--(E$32:E$464<>0),--(E$32:E$464<D$32:D$464),D$32:D$464) -> 0 | F15: =+-SUMPRODUCT(--(E$32:E$464>0),--(F$32:F$464=0),E$32:E$464)+SUMPRODUCT(--(F$32:F$464<>0),--(F$32:F$464<E$32:E$464),F$32:F$464)-SUMPRODUCT(--(F$32:F$464<>0),--(F$32:F$464<E$32:E$464),E$32:E$464) -> 0 | G15: =+-SUMPRODUCT(--(F$32:F$464>0),--(G$32:G$464=0),F$32:F$464)+SUMPRODUCT(--(G$32:G$464<>0),--(G$32:G$464<F$32:F$464),G$32:G$464)-SUMPRODUCT(--(G$32:G$464<>0),--(G$32:G$464<F$32:F$464),F$32:F$464) -> 0 | H15: =+-SUMPRODUCT(--(G$32:G$464>0),--(H$32:H$464=0),G$32:G$464)+SUMPRODUCT(--(H$32:H$464<>0),--(H$32:H$464<G$32:G$464),H$32:H$464)-SUMPRODUCT(--(H$32:H$464<>0),--(H$32:H$464<G$32:G$464),G$32:G$464) -> 0 | I15: =+-SUMPRODUCT(--(H$32:H$464>0),--(I$32:I$464=0),H$32:H$464)+SUMPRODUCT(--(I$32:I$464<>0),--(I$32:I$464<H$32:H$464),I$32:I$464)-SUMPRODUCT(--(I$32:I$464<>0),--(I$32:I$464<H$32:H$464),H$32:H$464) -> -120 | J15: =+-SUMPRODUCT(--(I$32:I$464>0),--(J$32:J$464=0),I$32:I$464)+SUMPRODUCT(--(J$32:J$464<>0),--(J$32:J$464<I$32:I$464),J$32:J$464)-SUMPRODUCT(--(J$32:J$464<>0),--(J$32:J$464<I$32:I$464),I$32:I$464) -> 0 | K15: =+-SUMPRODUCT(--(J$32:J$464>0),--(K$32:K$464=0),J$32:J$464)+SUMPRODUCT(--(K$32:K$464<>0),--(K$32:K$464<J$32:J$464),K$32:K$464)-SUMPRODUCT(--(K$32:K$464<>0),--(K$32:K$464<J$32:J$464),J$32:J$464) -> 0 | L15: =+-SUMPRODUCT(--(K$32:K$464>0),--(L$32:L$464=0),K$32:K$464)+SUMPRODUCT(--(L$32:L$464<>0),--(L$32:L$464<K$32:K$464),L$32:L$464)-SUMPRODUCT(--(L$32:L$464<>0),--(L$32:L$464<K$32:K$464),K$32:K$464) -> -300 | ... AU15: =+-SUMPRODUCT(--(AT$32:AT$464>0),--(AU$32:AU$464=0),AT$32:AT$464)+SUMPRODUCT(--(AU$32:AU$464<>0),--(AU$32:AU$464<AT$32:AT$464),AU$32:AU$464)-SUMPRODUCT(--(AU$32:AU$464<>0),--(AU$32:AU$464<AT$32:AT$464),AT$32:AT$464) -> -194643.8
B16: Core End | E16: =+SUM(E12:E15) -> 88512 | F16: =+SUM(F12:F15) -> 89292 | G16: =+SUM(G12:G15) -> 90132 | H16: =+SUM(H12:H15) -> 90492 | I16: =+SUM(I12:I15) -> 90372 | J16: =+SUM(J12:J15) -> 91031.88 | K16: =+SUM(K12:K15) -> 99732 | L16: =+SUM(L12:L15) -> 105972 | ... AU16: =+SUM(AU12:AU15) -> 9733014.3
B17: Non-Core | E17: 0 | F17: 0 | G17: 0 | H17: 0 | I17: 0 | J17: 0 | K17: 0 | L17: 0 | M17: 0 | N17: 0 | O17: 0 | P17: 0 | Q17: 0 | R17: 0 | S17: 0 | T17: 0 | U17: 0 | V17: 0 | W17: 0 | X17: 0 | Y17: 0 | Z17: 0 | AA17: 0 | AB17: 0 | AC17: 0 | AD17: 0 | AE17: 0 | AF17: 0 | AG17: 0 | AH17: 0 | AI17: 0 | AJ17: 0 | AK17: 0 | AL17: 0 | AM17: 0 | AN17: 0 | AO17: 0 | AP17: 0 | AQ17: 181064 | AR17: 167088 | AS17: 155400 | AT17: 150048 | AU17: 141936
B18: Total End | E18: =+E16+E17 -> 88512 | F18: =+F16+F17 -> 89292 | G18: =+G16+G17 -> 90132 | H18: =+H16+H17 -> 90492 | I18: =+I16+I17 -> 90372 | J18: =+J16+J17 -> 91031.88 | K18: =+K16+K17 -> 99732 | L18: =+L16+L17 -> 105972 | ... AU18: =+AU16+AU17 -> 9874950.3
B19: Check | E19: =+ROUND(SUM(E$32:E$998)-E16,2)-E465 -> 0 | F19: =+ROUND(SUM(F$32:F$998)-F16,2)-F465 -> 0 | G19: =+ROUND(SUM(G$32:G$998)-G16,2)-G465 -> 0 | H19: =+ROUND(SUM(H$32:H$998)-H16,2)-H465 -> 0 | I19: =+ROUND(SUM(I$32:I$998)-I16,2)-I465 -> 0 | J19: =+ROUND(SUM(J$32:J$998)-J16,2)-J465 -> 0 | K19: =+ROUND(SUM(K$32:K$998)-K16,2)-K465 -> 0 | L19: =+ROUND(SUM(L$32:L$998)-L16,2)-L465 -> 0 | ... AU19: =+ROUND(SUM(AU$32:AU$998)-AU16,2)-AU465 -> 0
B21: Logo Build
B22: Start | E22: 0 | F22: =+E25 -> 4 | G22: =+F25 -> 4 | H22: =+G25 -> 4 | I22: =+H25 -> 4 | J22: =+I25 -> 4 | K22: =+J25 -> 4 | L22: =+K25 -> 5 | M22: =+L25 -> 6 | ... AU22: =+AT25 -> 359
B23: New | E23: =SUMPRODUCT(--(D$32:D$464=0),--(E$32:E$464>0)) -> 4 | F23: =SUMPRODUCT(--(E$32:E$464=0),--(F$32:F$464>0)) -> 0 | G23: =SUMPRODUCT(--(F$32:F$464=0),--(G$32:G$464>0)) -> 0 | H23: =SUMPRODUCT(--(G$32:G$464=0),--(H$32:H$464>0)) -> 0 | I23: =SUMPRODUCT(--(H$32:H$464=0),--(I$32:I$464>0)) -> 0 | J23: =SUMPRODUCT(--(I$32:I$464=0),--(J$32:J$464>0)) -> 0 | K23: =SUMPRODUCT(--(J$32:J$464=0),--(K$32:K$464>0)) -> 1 | L23: =SUMPRODUCT(--(K$32:K$464=0),--(L$32:L$464>0)) -> 1 | ... AU23: =SUMPRODUCT(--(AT$32:AT$464=0),--(AU$32:AU$464>0)) -> 19
B24: Churn | E24: =-SUMPRODUCT(--(D$32:D$464>0),--(E$32:E$464=0)) -> 0 | F24: =-SUMPRODUCT(--(E$32:E$464>0),--(F$32:F$464=0)) -> 0 | G24: =-SUMPRODUCT(--(F$32:F$464>0),--(G$32:G$464=0)) -> 0 | H24: =-SUMPRODUCT(--(G$32:G$464>0),--(H$32:H$464=0)) -> 0 | I24: =-SUMPRODUCT(--(H$32:H$464>0),--(I$32:I$464=0)) -> 0 | J24: =-SUMPRODUCT(--(I$32:I$464>0),--(J$32:J$464=0)) -> 0 | K24: =-SUMPRODUCT(--(J$32:J$464>0),--(K$32:K$464=0)) -> 0 | L24: =-SUMPRODUCT(--(K$32:K$464>0),--(L$32:L$464=0)) -> 0 | ... AU24: =-SUMPRODUCT(--(AT$32:AT$464>0),--(AU$32:AU$464=0)) -> -9
B25: End | E25: =SUM(E22:E24) -> 4 | F25: =SUM(F22:F24) -> 4 | G25: =SUM(G22:G24) -> 4 | H25: =SUM(H22:H24) -> 4 | I25: =SUM(I22:I24) -> 4 | J25: =SUM(J22:J24) -> 4 | K25: =SUM(K22:K24) -> 5 | L25: =SUM(L22:L24) -> 6 | ... AU25: =SUM(AU22:AU24) -> 369
B26: Check | E26: =+COUNTIFS(E$32:E$998,">"&0)-E25-1 -> 0 | F26: =+COUNTIFS(F$32:F$998,">"&0)-F25-1 -> 0 | G26: =+COUNTIFS(G$32:G$998,">"&0)-G25-1 -> 0 | H26: =+COUNTIFS(H$32:H$998,">"&0)-H25-1 -> 0 | I26: =+COUNTIFS(I$32:I$998,">"&0)-I25-1 -> 0 | J26: =+COUNTIFS(J$32:J$998,">"&0)-J25-1 -> 0 | K26: =+COUNTIFS(K$32:K$998,">"&0)-K25-1 -> 0 | L26: =+COUNTIFS(L$32:L$998,">"&0)-L25-1 -> 0 | ... AU26: =+COUNTIFS(AU$32:AU$998,">"&0)-AU25-1 -> 0
B29: Customer ARR
B31: Customer | C31: Pro Forma | D31: Base | E31: =+E$3 -> 43496 | F31: =+F$3 -> 43524 | G31: =+G$3 -> 43555 | H31: =+H$3 -> 43585 | I31: =+I$3 -> 43616 | J31: =+J$3 -> 43646 | K31: =+K$3 -> 43677 | L31: =+L$3 -> 43708 | ... AU31: =+AU$3 -> 44773
B32: C-00001 | C32: 0 | D32: 0 | E32: 12420 | F32: 12420 | G32: 12420 | H32: 12420 | I32: 12420 | J32: 12420 | K32: 12420 | L32: 12420 | M32: 12420 | N32: 12420 | O32: 12420 | P32: 12420 | Q32: 18720 | R32: 18720 | S32: 18720 | T32: 18720 | U32: 18720 | V32: 18720 | W32: 18720 | X32: 18720 | Y32: 18720 | Z32: 18720 | AA32: 18720 | AB32: 18720 | AC32: 16200 | AD32: 16200 | AE32: 16200 | AF32: 16200 | AG32: 16200 | AH32: 16200 | AI32: 16200 | AJ32: 16200 | AK32: 16200 | AL32: 16200 | AM32: 16200 | AN32: 16200 | AO32: 16200 | AP32: 19560 | AQ32: 19560 | AR32: 19560 | AS32: 19560 | AT32: 19560 | AU32: 19560
B33: C-00002 | C33: 0 | D33: 0 | E33: 5940 | F33: 6720 | G33: 7560 | H33: 7920 | I33: 7800 | J33: 8459.88 | K33: 8640 | L33: 8760 | M33: 9420 | N33: 9600 | O33: 9420 | P33: 9600 | Q33: 9600 | R33: 0 | S33: 0 | T33: 0 | U33: 0 | V33: 0 | W33: 0 | X33: 0 | Y33: 0 | Z33: 0 | AA33: 0 | AB33: 0 | AC33: 0 | AD33: 0 | AE33: 0 | AF33: 0 | AG33: 0 | AH33: 0 | AI33: 0 | AJ33: 0 | AK33: 0 | AL33: 0 | AM33: 0 | AN33: 0 | AO33: 0 | AP33: 0 | AQ33: 0 | AR33: 0 | AS33: 0 | AT33: 0 | AU33: 0
B34: C-00003 | C34: 0 | D34: 0 | E34: 60000 | F34: 60000 | G34: 60000 | H34: 60000 | I34: 60000 | J34: 60000 | K34: 60000 | L34: 60000 | M34: 60000 | N34: 60000 | O34: 60000 | P34: 60000 | Q34: 80640 | R34: 80640 | S34: 80640 | T34: 80640 | U34: 80640 | V34: 80640 | W34: 80640 | X34: 80640 | Y34: 80640 | Z34: 80640 | AA34: 80640 | AB34: 80640 | AC34: 80640 | AD34: 103623 | AE34: 103623 | AF34: 103623 | AG34: 103623 | AH34: 103623 | AI34: 103623 | AJ34: 103623 | AK34: 103623 | AL34: 103623 | AM34: 103623 | AN34: 103623 | AO34: 133110 | AP34: 133110 | AQ34: 133110 | AR34: 133110 | AS34: 133110 | AT34: 133110 | AU34: 133110
B35: C-00004 | C35: 0 | D35: 0 | E35: 10152 | F35: 10152 | G35: 10152 | H35: 10152 | I35: 10152 | J35: 10152 | K35: 10152 | L35: 10152 | M35: 10152 | N35: 10152 | O35: 10152 | P35: 10152 | Q35: 10008 | R35: 10008 | S35: 10008 | T35: 10008 | U35: 10008 | V35: 10008 | W35: 10008 | X35: 10008 | Y35: 10008 | Z35: 10008 | AA35: 10008 | AB35: 10008 | AC35: 15480 | AD35: 15480 | AE35: 15480 | AF35: 15480 | AG35: 15480 | AH35: 15480 | AI35: 15480 | AJ35: 15480 | AK35: 15480 | AL35: 15480 | AM35: 15480 | AN35: 15480 | AO35: 16260 | AP35: 16260 | AQ35: 16260 | AR35: 16260 | AS35: 16260 | AT35: 16260 | AU35: 16260
B36: C-00005 | C36: 0 | D36: 0 | E36: 0 | F36: 0 | G36: 0 | H36: 0 | I36: 0 | J36: 0 | K36: 8520 | L36: 8220 | M36: 8580 | N36: 8880 | O36: 9480 | P36: 9300 | Q36: 10200 | R36: 10320 | S36: 10440 | T36: 9780 | U36: 10320 | V36: 11100 | W36: 11100 | X36: 0 | Y36: 0 | Z36: 0 | AA36: 0 | AB36: 0 | AC36: 0 | AD36: 0 | AE36: 0 | AF36: 0 | AG36: 0 | AH36: 0 | AI36: 0 | AJ36: 0 | AK36: 0 | AL36: 0 | AM36: 0 | AN36: 0 | AO36: 0 | AP36: 0 | AQ36: 0 | AR36: 0 | AS36: 0 | AT36: 0 | AU36: 0
B37: C-00006 | C37: 0 | D37: 0 | E37: 0 | F37: 0 | G37: 0 | H37: 0 | I37: 0 | J37: 0 | K37: 0 | L37: 6420 | M37: 6420 | N37: 6420 | O37: 6420 | P37: 6420 | Q37: 6420 | R37: 6420 | S37: 6420 | T37: 6420 | U37: 6420 | V37: 6420 | W37: 6420 | X37: 6420 | Y37: 0 | Z37: 0 | AA37: 0 | AB37: 0 | AC37: 0 | AD37: 0 | AE37: 0 | AF37: 0 | AG37: 0 | AH37: 0 | AI37: 0 | AJ37: 0 | AK37: 0 | AL37: 0 | AM37: 0 | AN37: 0 | AO37: 0 | AP37: 0 | AQ37: 0 | AR37: 0 | AS37: 0 | AT37: 0 | AU37: 0
B38: C-00007 | C38: 0 | D38: 0 | E38: 0 | F38: 0 | G38: 0 | H38: 0 | I38: 0 | J38: 0 | K38: 0 | L38: 0 | M38: 0 | N38: 6624 | O38: 6576 | P38: 6816 | Q38: 7056 | R38: 7344 | S38: 7728 | T38: 8496 | U38: 9264 | V38: 10176 | W38: 10656 | X38: 10176 | Y38: 12912 | Z38: 18384 | AA38: 18240 | AB38: 18240 | AC38: 18240 | AD38: 18240 | AE38: 18240 | AF38: 18240 | AG38: 18240 | AH38: 18240 | AI38: 18240 | AJ38: 18240 | AK38: 18240 | AL38: 18240 | AM38: 53760 | AN38: 53760 | AO38: 53760 | AP38: 53760 | AQ38: 53760 | AR38: 53760 | AS38: 53760 | AT38: 53760 | AU38: 53760
B39: C-00008 | C39: 0 | D39: 0 | E39: 0 | F39: 0 | G39: 0 | H39: 0 | I39: 0 | J39: 0 | K39: 0 | L39: 0 | M39: 0 | N39: 0 | O39: 15000 | P39: 15000 | Q39: 15000 | R39: 15000 | S39: 15000 | T39: 15000 | U39: 15000 | V39: 15000 | W39: 15000 | X39: 15000 | Y39: 15000 | Z39: 15000 | AA39: 22092 | AB39: 22092 | AC39: 22092 | AD39: 22092 | AE39: 22092 | AF39: 22092 | AG39: 22092 | AH39: 22092 | AI39: 22092 | AJ39: 22092 | AK39: 22092 | AL39: 22092 | AM39: 22092 | AN39: 29700 | AO39: 29700 | AP39: 29700 | AQ39: 29700 | AR39: 29700 | AS39: 29700 | AT39: 29700 | AU39: 29700
B40: C-00009 | C40: 0 | D40: 0 | E40: 0 | F40: 0 | G40: 0 | H40: 0 | I40: 0 | J40: 0 | K40: 0 | L40: 0 | M40: 0 | N40: 0 | O40: 0 | P40: 30288 | Q40: 30288 | R40: 30288 | S40: 30288 | T40: 30288 | U40: 30288 | V40: 30288 | W40: 30288 | X40: 30288 | Y40: 30288 | Z40: 75446 | AA40: 75446 | AB40: 75446 | AC40: 75446 | AD40: 75446 | AE40: 75446 | AF40: 75446 | AG40: 75446 | AH40: 75446 | AI40: 75446 | AJ40: 75446 | AK40: 75446 | AL40: 75446 | AM40: 0 | AN40: 0 | AO40: 0 | AP40: 0 | AQ40: 0 | AR40: 0 | AS40: 0 | AT40: 0 | AU40: 0
B41: C-00010 | C41: 0 | D41: 0 | E41: 0 | F41: 0 | G41: 0 | H41: 0 | I41: 0 | J41: 0 | K41: 0 | L41: 0 | M41: 0 | N41: 0 | O41: 0 | P41: 14400 | Q41: 14400 | R41: 14400 | S41: 14400 | T41: 14400 | U41: 14400 | V41: 14400 | W41: 14400 | X41: 14400 | Y41: 14400 | Z41: 14400 | AA41: 14400 | AB41: 14400 | AC41: 0 | AD41: 0 | AE41: 0 | AF41: 0 | AG41: 0 | AH41: 0 | AI41: 0 | AJ41: 0 | AK41: 0 | AL41: 0 | AM41: 0 | AN41: 0 | AO41: 0 | AP41: 0 | AQ41: 0 | AR41: 0 | AS41: 0 | AT41: 0 | AU41: 0
B42: C-00011 | C42: 0 | D42: 0 | E42: 0 | F42: 0 | G42: 0 | H42: 0 | I42: 0 | J42: 0 | K42: 0 | L42: 0 | M42: 0 | N42: 0 | O42: 0 | P42: 5184 | Q42: 5184 | R42: 5184 | S42: 5184 | T42: 5184 | U42: 5184 | V42: 5184 | W42: 5184 | X42: 5184 | Y42: 5184 | Z42: 5184 | AA42: 5184 | AB42: 13344 | AC42: 13344 | AD42: 13344 | AE42: 13344 | AF42: 13344 | AG42: 13344 | AH42: 13344 | AI42: 13344 | AJ42: 13344 | AK42: 13344 | AL42: 13344 | AM42: 13344 | AN42: 18628 | AO42: 18628 | AP42: 18628 | AQ42: 18628 | AR42: 18628 | AS42: 18628 | AT42: 18628 | AU42: 18628
B43: C-00012 | C43: 0 | D43: 0 | E43: 0 | F43: 0 | G43: 0 | H43: 0 | I43: 0 | J43: 0 | K43: 0 | L43: 0 | M43: 0 | N43: 0 | O43: 0 | P43: 5000 | Q43: 5000 | R43: 5000 | S43: 5000 | T43: 5000 | U43: 5000 | V43: 5000 | W43: 5000 | X43: 5000 | Y43: 5000 | Z43: 5000 | AA43: 5000 | AB43: 5000 | AC43: 5000 | AD43: 5000 | AE43: 5000 | AF43: 5000 | AG43: 5000 | AH43: 5000 | AI43: 5000 | AJ43: 5000 | AK43: 5000 | AL43: 5000 | AM43: 5000 | AN43: 5000 | AO43: 5000 | AP43: 5000 | AQ43: 5000 | AR43: 5000 | AS43: 5000 | AT43: 5000 | AU43: 5000
... B464: C-00432 | C464: 0 | D464: 0 | E464: 0 | F464: 0 | G464: 0 | H464: 0 | I464: 0 | J464: 0 | K464: 0 | L464: 0 | M464: 0 | N464: 0 | O464: 0 | P464: 0 | Q464: 0 | R464: 0 | S464: 0 | T464: 0 | U464: 0 | V464: 0 | W464: 0 | X464: 0 | Y464: 0 | Z464: 0 | AA464: 0 | AB464: 0 | AC464: 0 | AD464: 0 | AE464: 0 | AF464: 0 | AG464: 0 | AH464: 0 | AI464: 0 | AJ464: 0 | AK464: 0 | AL464: 0 | AM464: 0 | AN464: 0 | AO464: 0 | AP464: 0 | AQ464: 0 | AR464: 0 | AS464: 0 | AT464: 0 | AU464: 0
A465: TOTAL | E465: =SUM(E32:E464) -> 88512 | F465: =SUM(F32:F464) -> 89292 | G465: =SUM(G32:G464) -> 90132 | H465: =SUM(H32:H464) -> 90492 | I465: =SUM(I32:I464) -> 90372 | J465: =SUM(J32:J464) -> 91031.88 | K465: =SUM(K32:K464) -> 99732 | L465: =SUM(L32:L464) -> 105972 | ... AU465: =SUM(AU32:AU464) -> 9733014.3

Sheet Comps
B1: RabbitWise
B2: NRR (Net Retention Rate) | C2: ='is-bs-cfs'!V32 -> 1.1136211
B3: YOY Growth | C3: ='is-bs-cfs'!V23 -> 2.169817
B4: Gross Margin | C4: ='is-bs-cfs'!V52 -> 0.47720997
B5: ACV | C5: ='is-bs-cfs'!V28 -> 26376.733
B6: LTM Revenue | C6: =SUM('is-bs-cfs'!V46,'is-bs-cfs'!U46,'is-bs-cfs'!S46,'is-bs-cfs'!R46) -> 6591378.8
B7: Forward Year 1 Rev | C7: =SUM('is-bs-cfs'!W46,'is-bs-cfs'!X46,'is-bs-cfs'!Z46,'is-bs-cfs'!AA46) -> 16524356
B9: Publicly traded SaaS companies | F9: Filtered here
B10: Name | C10: Ticker | D10: Year | E10: EV/Rev | F10: IPO Net Retention | G10: New Rev/S&M | H10: YoY Growth | I10: Gross Margin | J10: Payback Period (years) | K10: ACV | L10: 1Year Prior Net Retention
B11: Gitlab | C11: GTLB | D11: 2020 | E11: 17.68 | F11: 1.79 | G11: 0.46 | H11: 0.66 | I11: 0.882 | J11: 3 | K11: 55438 | L11: 1.48
B12: Snowflake | C12: SNOW | D12: 2019 | E12: 30.48 | F12: 1.69 | G12: 0.57 | H12: 1.06 | I12: 0.648 | J12: 2.1 | K12: 84937 | L12: 1.8
B13: Blend Labs | C13: BLNO | D13: 2020 | E13: 0.92 | F13: 1.62 | G13: 0.88 | H13: 1.442 | I13: 0.421 | J13: 1.7 | K13: 329997 | L13: 1.42
B14: Doximity | C14: DOCS | D14: 2020 | E14: 11.5 | F14: 1.53 | G14: 1.46 | H14: 0.66 | I14: 0.876 | K14: 344828 | L14: 1.3
B15: Datadog | C15: OOOG | D15: 2019 | E15: 17.65 | F15: 1.51 | G15: 1.1 | H15: 0.705 | I15: 0.79 | J15: 0.1 | K15: 22509 | L15: 1.41
B16: Crowdstrike | C16: CRWO | D16: 2019 | E16: 18.58 | F16: 1.47 | G16: 0.76 | H16: 0.66 | I16: 0.737 | J16: 1 | K16: 167555 | L16: 1.19
B17: UiPath | C17: PATH | D17: 2020 | E17: 4.79 | F17: 1.45 | G17: 0.71 | H17: 0.468 | I17: 0.83 | J17: 0.4 | K17: 76260 | L17: 1.53
B18: 2U | C18: TWOU | D18: 2013 | E18: 1.27 | F18: 1.44 | H18: 0.221 | I18: 0.716 | L18: 1.57
B19: Slack | C19: WORK | D19: 2019 | E19: 26.48 | F19: 1.43 | G19: 0.77 | H19: 0.432 | I19: 0.861 | J19: 0.9 | K19: 4552 | L19: 1.52
B20: Jfrog | C20: FROG | D20: 2020 | E20: 7.53 | F20: 1.39 | G20: 0.93 | H20: 0.37 | I20: 0.782 | J20: 0.2 | K20: 18054 | L20: 1.42
B21: Box, Inc. | C21: BOX | D21: 2015 | E21: 4.87 | F21: 1.36 | H21: 0.134 | I21: 0.729 | L21: 1.44
B22: Q2Holdings | C22: QTWO | D22: 2012 | E22: 3.6 | F22: 1.36 | H22: 0.238 | I22: 0.45 | L22: 1.26
B23: Alteryx Inc | C23: AYX | D23: 2017 | E23: 6.19 | F23: 1.35 | H23: 0.082 | I23: 0.865 | L23: 1.22
B24: PagerOuty | C24: PD | D24: 2018 | E24: 5.65 | F24: 1.34 | H24: 0.318 | I24: 0.816 | L24: 1.36
B25: SmartSheet | C25: SMAR | D25: 2018 | E25: 5.71 | F25: 1.3 | G25: 0.61 | H25: 0.429 | I25: 0.787 | J25: 1.1 | K25: 1209 | L25: 1.22
B26: OynaTrace | C26: DT | D26: 2019 | E26: 9.53 | F26: 1.29 | H26: 0.321 | I26: 0.827
B27: Qualtrics | C27: XM | D27: 2019 | E27: 4.44 | F27: 1.25 | G27: 0.43 | H27: 0.409 | I27: 0.717 | J27: 5.3 | K27: 49263 | L27: 1.22
B28: QuaItrics
B29: Confluent | C29: CFLT | D29: 2020 | E29: 11.82 | F29: 1.25 | G29: 0.52 | H29: 0.639 | I29: 0.636 | J29: 2.7 | K29: 112656 | L29: 1.34
B30: DoubleVerify | C30: ov | D30: 2020 | E30: 11.39 | F30: 1.23 | G30: 0.99 | H30: 0.364 | I30: 0.829 | K30: 243917 | L30: 1.56
B31: Braze | C31: BRZE | D31: 2020 | E31: 7.77 | F31: 1.23 | G31: 0.76 | H31: 0.585 | I31: 0.674 | J31: 0.6 | K31: 168754 | L31: 1.26
B32: Hashicorp | C32: HCP | D32: 2020 | E32: 10.82 | F32: 1.23 | G32: 0.64 | H32: 0.514 | I32: 0.803 | J32: 0.9 | K32: 143825 | L32: 1.31
B33: Zeta Global | C33: ZETA | D33: 2020 | E33: 3.12 | F33: 1.22 | G33: 0.8 | H33: 0.245 | I33: 0.639 | K33: 340537 | L33: 1.04
B34: Sumo Logic | C34: SUMO | D34: 2020 | E34: 1.88 | F34: 1.2 | G34: 0.48 | H34: 0.195 | I34: 0.657 | J34: 1.7 | K34: 72558 | L34: 1.2
B35: Asana | C35: ASAN | D35: 2020 | E35: 8.48 | F35: 1.2 | G35: 0.62 | H35: 0.667 | I35: 0.899 | J35: 1.8 | K35: 1901 | L35: 1.1
B36: Okta | C36: OKTA | D36: 2017 | E36: 5.29 | F36: 1.2 | H36: 0.556 | I36: 0.69 | L36: 1.29
B37: Blackline | C37: BL | D37: 2015 | E37: 8.38 | F37: 1.2 | H37: 0.21 | I37: 0.756 | L37: 1.18
B38: Olo | C38: OLO | D38: 2020 | E38: 5.12 | F38: 1.2 | G38: 5.59 | H38: 0.518 | I38: 0.737 | K38: 246060 | L38: 1.2
B39: MeridianLink | C39: MLNK | D39: 2020 | E39: 6.15 | F39: 1.2 | G39: 4.98 | H39: 0.343 | I39: 0.686 | J39: 0.8 | K39: 103553
B40: Enfusion | C40: ENFN | D40: 2020 | E40: 5.83 | F40: 1.2 | G40: 2.07 | H40: 0.404 | I40: 0.695 | K40: 125299 | L40: 1.11
B41: Datto | C41: MSP | D41: 2019 | E41: 8.78 | F41: 1.19 | G41: 0.65 | H41: 0.193 | I41: 0.765 | K41: 26985
...

Sheet Primer
E2: Revenue, month-over-month | S2: Months since the cohort initiation
