Workbook

Sheet Quotation
B49: ★ Fill in white blank area
B50: Sender | H50: Receiver
B51: Name | H51: Name
B52: Company Name | H52: Company Name
B53: Street and No | H53: Street and No
B54: Post Code | H54: Post Code
B55: City | H55: City
B56: Country | H56: Country | I56: Country
B57: Phone no | H57: Phone no
B58: Email | H58: Email
B60: Pick-Up | H60: Commercial Invoice (needed outside of EU)
B61: Date | C61: 45931 | E61: From | F61: 0.41666667 | H61: Goods Description | I61: Qty | J61: Price (USD) | K61: Amount (USD) | L61: Remarks
E62: Until | F62: 0.625 | K62: =I62*J62 -> 0
B63: Address | K63: =I63*J63 -> 0
K64: =I64*J64 -> 0
K65: =I65*J65 -> 0
K66: =I66*J66 -> 0
H67: Total | K67: =SUM(K62:K66) -> 0
B68: Packing Details
B69: Box No | C69: Length | D69: Width | E69: Height | F69: Weight | H69: Volume Wt. | I69: Chargeable Wt. | J69: Price
A70: =$I$56 -> Country | B70: Box 01 | H70: =IF(C70="","",C70*D70*E70/5000) | I70: =IF(C70="","",MAX(F70:H70)) | J70: {=IFERROR(INDEX(Country!$G$4:$M$244, MATCH(A70, Country!$E$4:$E$244, 0), MATCH(TRUE, Country!$G$3:$M$3 >= I70, 0)),"")}
A71: =$I$56 -> Country | B71: Box 02 | H71: =IF(C71="","",C71*D71*E71/5000) | I71: =IF(C71="","",MAX(F71:H71)) | J71: {=IFERROR(INDEX(Country!$G$4:$M$244, MATCH(A71, Country!$E$4:$E$244, 0), MATCH(TRUE, Country!$G$3:$M$3 >= I71, 0)),"")} | K71: ★ Max Weight : 34.99 kgs
A72: =$I$56 -> Country | B72: Box 03 | H72: =IF(C72="","",C72*D72*E72/5000) | I72: =IF(C72="","",MAX(F72:H72)) | J72: {=IFERROR(INDEX(Country!$G$4:$M$244, MATCH(A72, Country!$E$4:$E$244, 0), MATCH(TRUE, Country!$G$3:$M$3 >= I72, 0)),"")}
A73: =$I$56 -> Country | B73: Box 04 | H73: =IF(C73="","",C73*D73*E73/5000) | I73: =IF(C73="","",MAX(F73:H73)) | J73: {=IFERROR(INDEX(Country!$G$4:$M$244, MATCH(A73, Country!$E$4:$E$244, 0), MATCH(TRUE, Country!$G$3:$M$3 >= I73, 0)),"")}
A74: =$I$56 -> Country | B74: Box 05 | H74: =IF(C74="","",C74*D74*E74/5000) | I74: =IF(C74="","",MAX(F74:H74)) | J74: {=IFERROR(INDEX(Country!$G$4:$M$244, MATCH(A74, Country!$E$4:$E$244, 0), MATCH(TRUE, Country!$G$3:$M$3 >= I74, 0)),"")}
A75: =$I$56 -> Country | B75: Box 06 | H75: =IF(C75="","",C75*D75*E75/5000) | I75: =IF(C75="","",MAX(F75:H75)) | J75: {=IFERROR(INDEX(Country!$G$4:$M$244, MATCH(A75, Country!$E$4:$E$244, 0), MATCH(TRUE, Country!$G$3:$M$3 >= I75, 0)),"")}
A76: =$I$56 -> Country | B76: Box 07 | H76: =IF(C76="","",C76*D76*E76/5000) | I76: =IF(C76="","",MAX(F76:H76)) | J76: {=IFERROR(INDEX(Country!$G$4:$M$244, MATCH(A76, Country!$E$4:$E$244, 0), MATCH(TRUE, Country!$G$3:$M$3 >= I76, 0)),"")}
A77: =$I$56 -> Country | B77: Box 08 | H77: =IF(C77="","",C77*D77*E77/5000) | I77: =IF(C77="","",MAX(F77:H77)) | J77: {=IFERROR(INDEX(Country!$G$4:$M$244, MATCH(A77, Country!$E$4:$E$244, 0), MATCH(TRUE, Country!$G$3:$M$3 >= I77, 0)),"")}
A78: =$I$56 -> Country | B78: Box 09 | H78: =IF(C78="","",C78*D78*E78/5000) | I78: =IF(C78="","",MAX(F78:H78)) | J78: {=IFERROR(INDEX(Country!$G$4:$M$244, MATCH(A78, Country!$E$4:$E$244, 0), MATCH(TRUE, Country!$G$3:$M$3 >= I78, 0)),"")}
A79: =$I$56 -> Country | B79: Box 10 | H79: =IF(C79="","",C79*D79*E79/5000) | I79: =IF(C79="","",MAX(F79:H79)) | J79: {=IFERROR(INDEX(Country!$G$4:$M$244, MATCH(A79, Country!$E$4:$E$244, 0), MATCH(TRUE, Country!$G$3:$M$3 >= I79, 0)),"")}
I81: Total | J81: =SUM(J70:J79) -> 0

Sheet Country
G1: 4.99 | H1: 9.99 | I1: 14.99 | J1: 19.99 | K1: 24.99 | L1: 29.99 | M1: 34.99
A2: SN | B2: Dstn No | C2: Region | D2: Code | E2: Country | F2: Zone | G2: W05 | H2: W10 | I2: W15 | J2: W20 | K2: W25 | L2: W30 | M2: W35
G3: 4.99 | H3: 9.99 | I3: 14.99 | J3: 19.99 | K3: 24.99 | L3: 29.99 | M3: 34.99
A4: 1 | B4: Dstn 012 | C4: Oceania | D4: AU | E4: Australia | F4: 9 | G4: 40 | H4: 55 | I4: 80 | J4: 100 | K4: 120 | L4: 140 | M4: 180
A5: 53 | B5: Dstn 001 | C5: Asia | D5: AF | E5: Afghanistan | F5: 10 | G5: 112 | H5: 163 | I5: 194 | J5: 229 | K5: 265 | L5: 293 | M5: 308
A6: 54 | B6: Dstn 002 | C6: Europe | D6: AL | E6: Albania | F6: 7 | G6: 84 | H6: 118 | I6: 139 | J6: 162 | K6: 183 | L6: 201 | M6: 209
A7: 55 | B7: Dstn 003 | C7: North Africa | D7: DZ | E7: Algeria | F7: 11 | G7: 131 | H7: 192 | I7: 230 | J7: 271 | K7: 313 | L7: 347 | M7: 364
A8: 200 | B8: Dstn 190 | C8: Oceania | D8: AS | E8: American Samoa | F8: 10 | G8: 112 | H8: 163 | I8: 194 | J8: 229 | K8: 265 | L8: 293 | M8: 308
A9: 57 | B9: Dstn 005 | C9: Europe | D9: AD | E9: Andorra | F9: 6 | G9: 69 | H9: 90 | I9: 104 | J9: 119 | K9: 135 | L9: 146 | M9: 152
A10: 58 | B10: Dstn 006 | C10: Africa | D10: AO | E10: Angola | F10: 11 | G10: 131 | H10: 192 | I10: 230 | J10: 271 | K10: 313 | L10: 347 | M10: 364
A11: 59 | B11: Dstn 007 | C11: North America | D11: AI | E11: Anguilla | F11: 10 | G11: 112 | H11: 163 | I11: 194 | J11: 229 | K11: 265 | L11: 293 | M11: 308
A12: 60 | B12: Dstn 008 | C12: North America | D12: AG | E12: Antigua and Barbuda | F12: 10 | G12: 112 | H12: 163 | I12: 194 | J12: 229 | K12: 265 | L12: 293 | M12: 308
A13: 61 | B13: Dstn 009 | C13: South America | D13: AR | E13: Argentina | F13: 10 | G13: 112 | H13: 163 | I13: 194 | J13: 229 | K13: 265 | L13: 293 | M13: 308
A14: 62 | B14: Dstn 010 | C14: Asia | D14: AM | E14: Armenia | F14: 10 | G14: 112 | H14: 163 | I14: 194 | J14: 229 | K14: 265 | L14: 293 | M14: 308
A15: 63 | B15: Dstn 011 | C15: South America | D15: AW | E15: Aruba | F15: 10 | G15: 112 | H15: 163 | I15: 194 | J15: 229 | K15: 265 | L15: 293 | M15: 308
... A252: 245 | B252: Dstn 249 | C252: Africa | D252: ZW | E252: Zimbabwe | F252: 11 | G252: 131 | H252: 192 | I252: 230 | J252: 271 | K252: 313 | L252: 347 | M252: 364

Sheet Pick-Up
C8: From | D8: Till
C9: 0.375 | D9: 0.58333333
C10: 0.41666667 | D10: 0.625
C11: 0.45833333 | D11: 0.66666667
C12: 0.5 | D12: 0.70833333
C13: 0.54166667
C14: 0.58333333
C15: 0.625
C16: 0.66666667

Sheet Memo
B20: Start | C20: End
B21: 0.375 | C21: 0.58333333
B22: 0.41666667 | C22: 0.625
B23: 0.45833333 | C23: 0.66666667
B24: 0.5 | C24: 0.70833333
B25: 0.54166667
B26: 0.58333333
B27: 0.625
B28: 0.66666667
