Workbook

Sheet Requirements
A1: Course Name | B1: Credits | C1: Semesters | D1: Credit each semester | G1: 1-1 CC | J1: 1-2 CC
A2: Chapel | B2: 1.5 | C2: 1-2, 2-1, 2-2 | D2: 0.5 | E2: English | G2: Course Name | H2: Credits | J2: Course Name | K2: Credits
A3: Understanding Christianity | B3: 3 | C3: 44563 | D3: 3 | E3: English | G3: Chapel | H3: 0.5 | J3: Chapel | K3: 0.5
A4: Freshman Writing Intensive Seminar | B4: 3 | C4: 44563 | D4: 3 | G4: CC History | H4: 3 | J4: Understanding Christianity | K4: 3
A5: UIC Seminar | B5: 6 | C5: 2-2, 겨울 계절학기 | D5: 3 | E5: 송도 세미나가 낫다 | G5: Research Design and Quantitative Methods | H5: 3 | J5: Freshman Writing Intensive Seminar | K5: 3
A6: Basic Science Courses | B6: 6 | C6: 44563 | D6: 3 | G6: Eastern Civilization | H6: 3 | J6: Basic Science Courses | K6: 6
G7: RC101 | H7: 1 | J7: Total Credits | K7: =SUM(K3:K6) -> 12.5
G8: Basic Science Courses | H8: 12
G9: Total Credits | H9: =SUM(H3:H8) -> 22.5
F11: Double Major
A12: Total Credits | B12: =SUM(B2:B6) -> 19.5 | J12: 2-1 CC | L12: 2-2 CC
F13: Economics | G13: NSE | J13: Course Name | K13: Credits | L13: Course Name | M13: Credits
E14: Elective | F14: Introduction to Economics | G14: Introduction to ISED | H14: MB | J14: Chapel | K14: 0.5 | L14: Chapel | M14: 0.5
A15: Course Title | B15: Earned Credits | C15: Required Credits | D15: Remaining Credits | E15: MB | F15: Principles of Microeconomics | G15: Fundamentals of Quantum Physics | H15: 44959 | J15: Total Credits | K15: 0.5 | L15: Total Credits | M15: 0.5
A16: CC Credits | C16: 42 | E16: MB | F16: Principles of Macroeconomics | G16: Physical Chemistry
A17: Electives | E17: MB | F17: Microeconomics | G17: Introduction to Nanotechnology and Laboratory | H17: 44986 | J17: 3-1 CC | L17: 3-2 CC
A18: Credits in First Major | B18: --MR, --ME = --credits | C18: --MR, -- ME = --credits | E18: MB | F18: Macroeconomics | G18: Solid State Chemistry | H18: 44959 | J18: Course Name | K18: Credits | L18: Course Name | M18: Credits
A19: Credits in Second Major | B19: -- MR, -- ME = -- credits | C19: 21 MR, 15 ME = 36 credits | E19: MB | F19: Mathematics for Economics I | G19: Electromagnetic Theory | J19: UIC Seminar | K19: 3 | L19: Chapel | M19: 3
A20: Others | E20: Elective | F20: Introduction to Statistics | G20: Nano-Characterization | J20: Total Credits | K20: 3 | L20: Total Credits | M20: 3
A21: Overall Credits | B21: =SUM(B16:B20) -> 0 | C21: =SUM(C16:C20) -> 42 | F21: 18 credits mandatory | G21: Junior Independent Study | H21: 45353
F22: 18 credits from electives | G22: NSE Senior Thesis | H22: MR | I22: =H9+K7+K15+M15+K20+M20 -> 42
F23: 36 credits total | G23: 27 credits mandatory
E24: MB | F24: 15 credits | G24: 9 credits from electives | H24: ME 3개
G25: 36 credits total
G27: Electives
G28: Integrated Science Laboratory
G29: Nano-Bio Analytical Methods

Sheet 1-1
B2: Course Title | C2: Course Type | D2: Credit | E2: Cumulative Credits gained | H2: Total Required Credits for Graduation
B3: Chapel | C3: CC | D3: 0.5 | E3: CC | G3: =SUMIF($C$3:$C$14,E3,$D$3:$D$14) -> 10.5 | H3: 24
B4: Introduction to ISED | C4: MB (NSE) | D4: 3 | E4: Major (NSE) | F4: MB (NSE) | G4: =SUMIF($C$3:$C$14,F4,$D$3:$D$14) -> 3 | H4: 9 | I4: =SUM(H4:H6) -> 36
B5: Eastern Civilization | C5: CC | D5: 3 | F5: MR (NSE) | G5: =SUMIF($C$3:$C$14,F5,$D$3:$D$14) -> 0 | H5: 18
B6: Research Design and Quantitative Methods | C6: CC | D6: 3 | F6: ME (NSE) | G6: =SUMIF($C$3:$C$14,F6,$D$3:$D$14) -> 0 | H6: 9
B7: Calculus and Vector Analysis I | C7: UICE | D7: 3 | E7: Major (Econ) | F7: MB (Econ) | G7: =SUMIF($C$3:$C$14,F7,$D$3:$D$14) -> 3 | H7: 15 | I7: =SUM(H7:H9) -> 36
B8: World History | C8: CC | D8: 3
B9: Econ Math | C9: MB (Econ) | D9: 3 | F9: ME (Econ) | G9: =SUMIF($C$3:$C$14,F9,$D$3:$D$14) -> 0 | H9: 21
B10: RC101 | C10: CC | D10: 1 | E10: Elective | G10: =SUMIF($C$3:$C$14,E10,$D$3:$D$14) -> 0.5 | H10: =I15-120 -> 15
B11: RC self-directed Activities | C11: Elective | D11: 0.5 | E11: UICE | G11: =SUMIF($C$3:$C$14,E11,$D$3:$D$14) -> 12 | H11: =18+6 -> 24
B12: General Chemistry and Laboratory I | C12: UICE | D12: 3
B13: General Biology and Laboratory I | C13: UICE | D13: 3
B14: General Physics and Laboratory I | C14: UICE | D14: 3
B15: Total Credits for this semester | C15: =SUM(D3:D14) -> 29 | E15: Total Cumuative Credits | G15: =SUM(G3:G14) -> 29 | H15: =SUM(H3:H11) -> 135 | I15: 135
A18: Course Name | B18: Credits | C18: Extra Info | D18: Priority | F18: Max Credit (excluding chapel) | G18: 19
A19: Chapel | B19: 0.5 | C19: 01 is English | D19: 7 | F19: Max Credit (including chapel & self-directed RC) | G19: 20
A20: Yonsei RC101 | B20: 1 | C20: 화4(월9) | D20: 8
A21: Introduction to ISED | B21: 3 | C21: 1학년은 웬만하면 다 들어감 | D21: 6
A22: Eastern Civilization | B22: 3 | C22: 1학기는 좀 힘들 수 있지만 2학기는 미달 | D22: 4
A23: Research Design and Quantitative Methods | B23: 3 | C23: 최웅식 교수 인기 많음 | D23: 2 | E23: Avoid Ashline
A24: Calculus I | B24: 3 | C24: p/np | D24: 1
A25: World History Group 2 | B25: 3 | D25: 5
A26: 경제수학 | B26: 3 | D26: 3
A27: Total Credits (excluding chapel & self-directed RC) | B27: =SUM(B19:B26)-B19 -> 19 | I27: World History
A28: Total Credits (including chapel & self-directed RC) | B28: 20 | F28: Basic Science Courses Requirement | G28: 1-2 courses | I28: UIC1551-01-00 | J28: Hope, Michael
F29: Physics I | G29: Physics II | I29: UIC1501-05-00 | J29: Quatermaine
A30: Waived Courses | B30: Physics I | C30: Chemistry I | D30: Biology I | F30: Chemistry I | G30: Chemistry II
F31: Biology I | G31: Biology II | I31: control+tab | J31: 다중탭
E32: taken in 1-1 --> | F32: Calculus I | G32: Calculus II | I32: log out and log in again at 45 min

Sheet 1-2
B2: Course Title | C2: Course Type | D2: Credit | E2: Cumulative Credits gained | H2: Total Required Credits for Graduation
B3: Chapel | C3: CC | D3: 0.5 | E3: CC | G3: =SUMIF($C$3:$C$13,E3,$D$3:$D$13)+'1-1'!G3 -> 17 | H3: 24
A4: 이민형 | B4: Modern Christianity | C4: CC | D4: 3 | E4: Major (NSE) | F4: MB (NSE) | G4: =SUMIF($C$3:$C$13,F4,$D$3:$D$13)+'1-1'!G4 -> 3 | H4: 9
A5: 배경린 | B5: Freshman Writing Intensive Seminar | C5: CC | D5: 3 | F5: MR (NSE) | G5: =SUMIF($C$3:$C$13,F5,$D$3:$D$13)+'1-1'!G5 -> 0 | H5: 18
B6: Calculus and Vector Analysis II | C6: UICE | D6: 3 | F6: ME (NSE) | G6: =SUMIF($C$3:$C$13,F6,$D$3:$D$13)+'1-1'!G6 -> 0 | H6: 9
B7: General Chemistry and Laboratory II | C7: UICE | D7: 3 | E7: Major (Econ) | F7: MB (Econ) | G7: =SUMIF($C$3:$C$13,F7,$D$3:$D$13)+'1-1'!G7 -> 3 | H7: 15
B8: Introduction to Economics | C8: UICE | D8: 3
B9: Introduction to Statistics | C9: UICE | D9: 3 | F9: ME (Econ) | G9: =SUMIF($C$3:$C$13,F9,$D$3:$D$13)+'1-1'!G9 -> 0 | H9: 21
B10: RC Self-directed Activity | C10: Elective | D10: 0.5 | E10: Elective | G10: =SUMIF($C$3:$C$13,E10,$D$3:$D$13)+'1-1'!G10 -> 1 | H10: 15
E11: UICE | G11: =SUMIF($C$3:$C$13,E11,$D$3:$D$13)+'1-1'!G11 -> 24 | H11: 24
B14: Total Credits for this semester | C14: =SUM(D3:D13) -> 19 | E14: Total Cumuative Credits | G14: =SUM(G3:G13) -> 48 | H14: =SUM(H3:H11) -> 135
B19: Course Name | C19: Credits | E19: Max Credit (excluding RC)
B20: Chapel | C20: 0.5 | E20: Max Credit (including RC)
B21: Understanding Christianity | C21: 3
B22: Freshman Writing Intensive Seminar | C22: 3 | D22: 박성희, 김선나, 이성미 교수가 인기 많음
B23: Calculus II | C23: 3
B24: Chemistry II | C24: 3
B28: Total Credits | C28: =SUM(C20:C27) -> 12.5

Sheet 2-1
A2: My Mileage | B2: Previous 3 semesters of someone similar to my circumstances | E2: Average + 1 (or 2) | F2: Course Title | G2: Course Type | H2: Credit | I2: Cumulative Credits gained | L2: Total Required Credits for Graduation
A3: 0 | E3: 수변 | F3: Chapel | G3: CC | H3: 0.5 | I3: CC | K3: =SUMIF($G$3:$G$13,I3,$H$3:$H$13)+'1-2'!G3 -> 17.5 | L3: 24
A4: =E4 -> 12 | E4: 12 | F4: Introduction to Political Science | G4: Elective | H4: 3 | I4: Major (NSE) | J4: MB (NSE) | K4: =SUMIF($G$3:$G$13,J4,$H$3:$H$13)+'1-2'!G4 -> 6 | L4: 9
A5: =E5 -> 5 | B5: 1 | C5: 1 | D5: 1 | E5: 5 | F5: Nano Characterization | G5: MR (NSE) | H5: 3 | J5: MR (NSE) | K5: =SUMIF($G$3:$G$13,J5,$H$3:$H$13)+'1-2'!G5 -> 6 | L5: 18
A6: =E6 -> 36 | B6: 36 | C6: 36 | D6: 36 | E6: 36 | F6: Physical Chemistry (1) | G6: MB (NSE) | H6: 3 | J6: ME (NSE) | K6: =SUMIF($G$3:$G$13,J6,$H$3:$H$13)+'1-2'!G6 -> 0 | L6: 9
A7: =E7 -> 4 | B7: 1 | C7: 4 | D7: 1 | E7: 4 | F7: Electromagnetic Theory | G7: MR (NSE) | H7: 3 | I7: Major (Econ) | J7: MB (Econ) | K7: =SUMIF($G$3:$G$13,J7,$H$3:$H$13)+'1-2'!G7 -> 6 | L7: 15
A8: =E8 -> 7 | B8: 1 | C8: 1 | D8: 1 | E8: 7 | F8: SW 프로그래밍 | G8: Elective | H8: 3
E9: 추가신청 | F9: 통계방법론 | G9: ME (Econ) | H9: 3 | J9: ME (Econ) | K9: =SUMIF($G$3:$G$13,J9,$H$3:$H$13)+'1-2'!G9 -> 3 | L9: 21
E10: 추가신청 | F10: 거시경제원론 | G10: MB (Econ) | H10: 3 | I10: Elective | K10: =SUMIF($G$3:$G$13,I10,$H$3:$H$13)+'1-2'!G10 -> 7 | L10: 15
I11: UICE | K11: =SUMIF($G$3:$G$13,I11,$H$3:$H$13)+'1-2'!G11 -> 24 | L11: 24
E13: 수변 | F13: Topics in Japanese History
E14: 수변 | F14: formal methods
F16: Total Credits for this semester | G16: =SUM(H3:H13) -> 21.5 | I16: Total Cumuative Credits | K16: =SUM(K3:K12) -> 69.5 | L16: =SUM(L3:L11) -> 135
A17: =E17 -> 64 | E17: =SUM(E4:E10) -> 64
F18: 3학기간 나와 비슷한 사람 cutline 평균 + 1~2 | G18: mileage
A20: total | E20: 76
F21: control + tab
F23: history of science and technology
F24: principles of financial engineering
F25: 수리통계학 vs 법경제학
F26: 미시경제학 1
F27: technovation --> 수변기간에만

Sheet 2-2
A2: Mileage | B2: More Info (or minimum) | C2: Course Title | D2: Course Type | E2: Credit | F2: Cumulative Credits gained | I2: Total Required Credits for Graduation | J2: Remaining Credits to be taken | K2: # courses remaining
B3: 추가신청기간 | C3: Chapel | D3: CC | E3: 0.5 | F3: CC | H3: =SUMIF($D$3:$D$14,F3,$E$3:$E$14)+'2-1'!K3 -> 18 | I3: 24 | J3: =I3-H3 -> 6 | K3: =J3/3 -> 2
A4: 9 | B4: 7 | C4: Solid State Chemistry | D4: MR (NSE) | E4: 3 | F4: Major (NSE) | G4: MB (NSE) | H4: =SUMIF($D$3:$D$14,G4,$E$3:$E$14)+'2-1'!K4 -> 9 | I4: 9 | J4: =I4-H4 -> 0 | K4: =J4/3 -> 0
A5: 12 | B5: 8/7 UIC First | C5: 정치및공공경제 | D5: ME (Econ) | E5: 3 | G5: MR (NSE) | H5: =SUMIF($D$3:$D$14,G5,$E$3:$E$14)+'2-1'!K5 -> 9 | I5: 18 | J5: =I5-H5 -> 9 | K5: =J5/3 -> 3
A6: 7 | B6: 4 | C6: Fundamentals of Quantum Physics | D6: MB (NSE) | E6: 3 | G6: ME (NSE) | H6: =SUMIF($D$3:$D$14,G6,$E$3:$E$14)+'2-1'!K6 -> 0 | I6: 9 | J6: =I6-H6 -> 9 | K6: =J6/3 -> 3
A7: 12 | B7: 12 | C7: 게임이론과 응용 | D7: ME (Econ) | E7: 3 | F7: Major (Econ) | G7: MB (Econ) | H7: =SUMIF($D$3:$D$14,G7,$E$3:$E$14)+'2-1'!K7 -> 9 | I7: 15 | J7: =I7-H7 -> 6 | K7: =J7/3 -> 2
A8: 12 | B8: 8/7 UIC First | C8: 미시경제원론 | D8: MB (Econ) | E8: 3
A9: 12 | B9: 수변기간 | C9: 스페인어 (2) | D9: Elective | E9: 3 | G9: ME (Econ) | H9: =SUMIF($D$3:$D$14,G9,$E$3:$E$14)+'2-1'!K9 -> 12 | I9: 21 | J9: =I9-H9 -> 9 | K9: =J9/3 -> 3
A10: 12 | B10: 12 | C10: 금융공학의 이해(1) | D10: ME (Econ) | E10: 3 | F10: Elective | H10: =SUMIF($D$3:$D$14,F10,$E$3:$E$14)+'2-1'!K10 -> 10 | I10: 15 | J10: =I10-H10 -> 5 | K10: =J10/3 -> 1.6666667
F11: UICE | H11: =SUMIF($D$3:$D$14,F11,$E$3:$E$14)+'2-1'!K11 -> 24 | I11: 24 | J11: =I11-H11 -> 0 | K11: =J11/3 -> 0
A13: 12
A15: =SUM(A3:A10) -> 76 | B15: =A16-A15 -> 0 | C15: Total Credits for this semester | D15: =SUM(E3:E14) -> 21.5 | F15: Total Cumuative Credits | H15: =SUM(H3:H13) -> 91 | I15: =SUM(I3:I13) -> 135 | J15: =SUM(J3:J13) -> 44 | K15: =SUM(K3:K12) -> 14.666667
A16: 76
B17: UIC Seminar | C17: Topics in Japanese History | D17: CC | E17: 3
A18: 12 | B18: UIC Seminar | C18: Topics in European History | D18: CC | E18: 3
C19: Law and Policy | D19: Elective | E19: 3
C21: 인공지능의 이해와 활용
B22: UIC Seminar | C22: Topics in Social History | D22: CC | E22: 3
B24: 수변기간 | C24: 스페인어 (2) 최유정 교수
C26: 스페인어 1 or 정치및공공경제

Sheet 겨울 계절학기
A2: first come first serve | C2: Course Title | D2: Course Type | E2: Credit | F2: Cumulative Credits gained | I2: Total Required Credits for Graduation | J2: Remaining Credits to be taken | K2: Remaining Courses
B3: 한원용 | C3: 미시경제학 | D3: MB (Econ) | E3: 3 | F3: CC | H3: =SUMIF($D$3:$D$13,F3,$E$3:$E$13)+'2-2'!H3 -> 18 | I3: 24 | J3: =I3-H3 -> 6 | K3: 2 UIC Seminars | L3: 2
F4: Major (NSE) | G4: MB (NSE) | H4: =SUMIF($D$3:$D$13,G4,$E$3:$E$13)+'2-2'!H4 -> 9 | I4: 9 | J4: =I4-H4 -> 0 | K4: 3 MB / MR (NSE) | L4: 6 NSE
G5: MR (NSE) | H5: =SUMIF($D$3:$D$13,G5,$E$3:$E$13)+'2-2'!H5 -> 9 | I5: 18 | J5: =I5-H5 -> 9
G6: ME (NSE) | H6: =SUMIF($D$3:$D$13,G6,$E$3:$E$13)+'2-2'!H6 -> 0 | I6: 9 | J6: =I6-H6 -> 9 | K6: 3 ME (NSE)
F7: Major (Econ) | G7: MB (Econ) | H7: =SUMIF($D$3:$D$13,G7,$E$3:$E$13)+'2-2'!H7 -> 12 | I7: 15 | J7: =I7-H7 -> 3 | K7: 거시경제학 | L7: 5 Econ
G9: ME (Econ) | H9: =SUMIF($D$3:$D$13,F9,$E$3:$E$13)+'2-2'!H9 -> 12 | I9: 21 | J9: =I9-H9 -> 9 | K9: 4 ME (Econ)
F10: Elective | H10: =SUMIF($D$3:$D$13,G10,$E$3:$E$13)+'2-2'!H10 -> 10 | I10: 15 | J10: =I10-H10 -> 5 | K10: 1 elective | L10: 1 Elective
F11: UICE | H11: 24 | I11: 24 | J11: =I11-H11 -> 0
C14: Total Credits for this semester | D14: =SUM(E3:E13) -> 3 | F14: Total Cumuative Credits | H14: =SUM(H3:H13) -> 94 | I14: =SUM(I3:I12) -> 135 | J14: =SUM(J3:J12) -> 41 | L14: 14 courses

Sheet 3-1
B2: Mileage | C2: Course Title | D2: Course Type | E2: Credit | F2: Cumulative Credits gained | I2: Total Required Credits for Graduation | J2: Remaining Credits | K2: Remaining # Courses
A3: UIC First | B3: 12 | C3: 국제무역론 (최재림) | D3: ME (Econ) | E3: 3 | F3: CC | H3: =SUMIF($D$3:$D$13,F3,$E$3:$E$13)+'겨울 계절학기'!H3 -> 24 | I3: 24 | J3: =I3-H3 -> 0 | K3: =J3/3 -> 0 | L3: UIC Seminar
B4: 12 | C4: Introduction to Nanotechnology and Laboratory | D4: MR (NSE) | E4: 3 | F4: Major (NSE) | G4: MB (NSE) | H4: =SUMIF($D$3:$D$13,G4,$E$3:$E$13)+'겨울 계절학기'!H4 -> 9 | I4: 9
A5: UIC First | B5: 12 | C5: 법경제학 | D5: ME (Econ) | E5: 3 | G5: MR (NSE) | H5: =SUMIF($D$3:$D$13,G5,$E$3:$E$13)+'겨울 계절학기'!H5 -> 15 | I5: 18 | J5: =I5-H5 -> 3 | K5: =J5/3 -> 1 | L5: Junior Independent Study
A6: 1 | B6: 4 | C6: NSE Senior Thesis | D6: MR (NSE) | E6: 3 | G6: ME (NSE) | H6: =SUMIF($D$3:$D$13,G6,$E$3:$E$13)+'겨울 계절학기'!H6 -> 3 | I6: 9 | J6: =I6-H6 -> 6 | K6: =J6/3 -> 2 | L6: Integrated Lab
A7: 1 | B7: 12 | C7: Neurodegenerative Disorders | D7: ME (NSE) | E7: 3 | F7: Major (Econ) | G7: MB (Econ) | H7: =SUMIF($D$3:$D$13,G7,$E$3:$E$13)+'겨울 계절학기'!H7 -> 12 | I7: 15 | J7: =I7-H7 -> 3 | K7: =J7/3 -> 1 | L7: Macroeconomics
C8: Topics in Asian Literature | D8: CC | E8: 3
A9: UIC Seminar | B9: 12 | C9: Topics in Japanese History | D9: CC | E9: 3 | G9: ME (Econ) | H9: =SUMIF($D$3:$D$13,G9,$E$3:$E$13)+'겨울 계절학기'!H9 -> 18 | I9: 21 | J9: =I9-H9 -> 3 | K9: =J9/3 -> 1 | L9: 2 Econ ME
F10: Elective | H10: =SUMIF($D$3:$D$13,G10,$E$3:$E$13)+'겨울 계절학기'!H10 -> 10 | I10: 15 | J10: =I10-H10 -> 5 | K10: =J10/3 -> 1.6666667 | L10: 1 Elective
C11: 물리전자 | D11: ME (NSE) | F11: UICE | H11: =SUMIF($D$3:$D$13,G11,$E$3:$E$13)+'겨울 계절학기'!H11 -> 24 | I11: 24
B12: 황성재 교수 | C12: 딥러닝개론및응용
A14: 76 | B14: =SUM(B3:B9) -> 64 | C14: Total Credits for this semester | D14: =SUM(E3:E13) -> 21 | F14: Total Cumuative Credits | H14: =SUM(H3:H12) -> 115 | I14: =SUM(I3:I12) -> 135 | J14: =I14-H14 -> 20 | K14: =SUM(K3:K13) -> 6.6666667
A16: Remaining | B16: =A14-B14 -> 12
A18: 학점이수율 | B18: =94/135 -> 0.6962963

Sheet 3-2
A2: Mileage | C2: Course Title | D2: Course Type | E2: Credit | F2: Cumulative Credits gained | I2: Total Required Credits for Graduation
A3: 12 | C3: Junior Independent Study | D3: MR (NSE) | E3: 3 | F3: CC | H3: =SUMIF($D$3:$D$13,F3,$E$3:$E$13)+'3-1'!H3 -> 24 | I3: 24
A4: 12 | C4: Biomaterials | D4: ME (NSE) | E4: 3 | F4: Major (NSE) | G4: MB (NSE) | H4: =SUMIF($D$3:$D$13,G4,$E$3:$E$13)+'3-1'!H4 -> 9 | I4: 9
A5: 10 | C5: Transport Phenomena in Green Technology | D5: ME (NSE) | E5: 3 | G5: MR (NSE) | H5: =SUMIF($D$3:$D$13,G5,$E$3:$E$13)+'3-1'!H5 -> 18 | I5: 18
A6: 12 | B6: UIC First | C6: 거시경제학 | D6: MB (Econ) | E6: 3 | G6: ME (NSE) | H6: =SUMIF($D$3:$D$13,G6,$E$3:$E$13)+'3-1'!H6 -> 9 | I6: 9
A7: 12 | B7: UIC First | C7: 응용계량미시경제학 | D7: ME (Econ) | E7: 3 | F7: Major (Econ) | G7: MB (Econ) | H7: =SUMIF($D$3:$D$13,G7,$E$3:$E$13)+'3-1'!H7 -> 15 | I7: 15
A8: 12 | C8: 피드백시스템 (SU) | D8: Elective | E8: 3
A9: 6 | C9: Public art (SU) | D9: Elective | E9: 3 | G9: ME (Econ) | H9: =SUMIF($D$3:$D$13,G9,$E$3:$E$13)+'3-1'!H9 -> 21 | I9: 21
F10: Elective | H10: =SUMIF($D$3:$D$13,F10,$E$3:$E$13)+'3-1'!H10 -> 16 | I10: 15
F11: UICE | H11: =SUMIF($D$3:$D$13,F11,$E$3:$E$13)+'3-1'!H11 -> 24 | I11: 24
A14: =SUM(A3:A9) -> 76 | B14: 76 | C14: Total Credits for this semester | D14: =SUM(E3:E13) -> 21 | F14: Total Cumuative Credits | H14: =SUM(H3:H12) -> 136 | I14: =SUM(I3:I12) -> 135
A16: Remaining Mileage | B16: =B14-A14 -> 0
A18: 학점이수율 | B18: ='3-1'!H14/135 -> 0.85185185
B20: SU 2개 | C20: 피드백시스템
C21: 행정법 | D21: 최악의 상황 | E21: CTM attracting investment
D23: 수변기간 | E23: Information Systems Management

Sheet Advisor Check
B2: UICE | C2: =SUM(C4:C6) -> 24 | E2: NSE | F2: =SUM(F4:F6) -> 36 | H2: Econ | I2: =SUM(I4:I6) -> 36
B4: Basic Science | C4: 18 | E4: MB | F4: 9 | H4: MB | I4: 15
B5: Intro to Econ | C5: 3 | E5: MR | F5: 18
B6: Intro to Stats | C6: 3 | E6: ME | F6: 9 | H6: ME | I6: 21
B10: remaining | C10: =SUM(C12:C17) -> 41 | F10: 45352 | K10: 45353
B12: UIC Seminar | C12: 6 | F12: UIC Seminar | G12: 6 | H12: =G12/3 -> 2 | K12: UIC Seminar | L12: =C12-G12 -> 0 | M12: =L12/3 -> 0
A13: NSE | B13: MR | C13: 9 | E13: NSE | F13: MR | G13: 6 | H13: =G13/3 -> 2 | J13: NSE | K13: MR | L13: =C13-G13 -> 3 | M13: =L13/3 -> 1
B14: ME | C14: 9 | F14: ME | G14: 3 | H14: =G14/3 -> 1 | K14: ME | L14: =C14-G14 -> 6 | M14: =L14/3 -> 2
A15: Econ | B15: MB | C15: 3 | E15: Econ | F15: MB | G15: 0 | H15: =G15/3 -> 0 | J15: Econ | K15: MB | L15: =C15-G15 -> 3 | M15: =L15/3 -> 1
B16: ME | C16: 9 | F16: ME | G16: 6 | H16: =G16/3 -> 2 | K16: ME | L16: =C16-G16 -> 3 | M16: =L16/3 -> 1
B17: General Elective | C17: 5 | F17: General Elective | G17: 0 | H17: =G17/3 -> 0 | K17: General Elective | L17: 6 | M17: =L17/3 -> 2
G18: =SUM(G12:G17) -> 21 | H18: =SUM(H12:H17) -> 7 | L18: =SUM(L12:L17) -> 21 | M18: =SUM(M12:M17) -> 7
A20: Econ MB | B20: 미시원론 | C20: 3 | E20: UIC Seminar | F20: Topics in Japanese History | J20: UIC Seminar
B21: 거시원론 | C21: 3 | E21: NSE MR | F21: Intro to Nano Lab | J21: NSE MR | K21: Junior Independent Study
B22: 미시경제학 | C22: 3 | F22: Senior Thesis
B23: 거시경제학 | C23: 3 | E23: NSE ME | F23: 물리전자 | J23: NSE ME | K23: Integrated Science Lab
B24: 경제수학 | C24: 3 | F24: Neurodegenerative Disorders
C25: =SUM(C20:C24) -> 15 | E25: Econ ME | F25: 법경제학 | J25: Econ MB | K25: Macroeconomics
A26: Econ ME | C26: =36-C25 -> 21 | F26: 국제무역론
A27: UICE | B27: 경입 | C27: 3 | J27: Econ ME
B28: 통입 | C28: 3
C29: =SUM(C27:C28)+C25+C26 -> 42
