Workbook

Sheet Model >

Sheet Drivers
A1: XYZ Company
B2: Drivers ($ in 000's)
C4: =C15 -> FQ1'26E | D4: =D15 -> FQ2'26E | E4: =E15 -> FQ3'26E | F4: =F15 -> FQ4'26E | G4: =G15 -> FQ1'27E | H4: =H15 -> FQ2'27E | I4: =I15 -> FQ3'27E | J4: =J15 -> FQ4'27E | ... AH4: =AH15 -> FQ4'33E | AI4: Noted Assumptions
B6: Global Inputs
B8: Time period
B9: Fiscal Quarter | C9: 1 | D9: 2 | E9: 3 | F9: 4 | G9: =C9 -> 1 | H9: =D9 -> 2 | I9: =E9 -> 3 | J9: =F9 -> 4 | K9: =G9 -> 1 | L9: =H9 -> 2 | M9: =I9 -> 3 | N9: =J9 -> 4 | ... AH9: =AD9 -> 4
B10: Fiscal Month End | C10: 3 | D10: 6 | E10: 9 | F10: 12 | G10: =C10 -> 3 | H10: =D10 -> 6 | I10: =E10 -> 9 | J10: =F10 -> 12 | K10: =G10 -> 3 | L10: =H10 -> 6 | M10: =I10 -> 9 | N10: =J10 -> 12 | ... AH10: =AD10 -> 12
B11: Fiscal Year | C11: 2026 | D11: 2026 | E11: 2026 | F11: 2026 | G11: =C11+1 -> 2027 | H11: =D11+1 -> 2027 | I11: =E11+1 -> 2027 | J11: =F11+1 -> 2027 | K11: =G11+1 -> 2028 | L11: =H11+1 -> 2028 | M11: =I11+1 -> 2028 | N11: =J11+1 -> 2028 | ... AH11: =AD11+1 -> 2033
B12: Fiscal Date | C12: =EOMONTH(DATE(C11,C10,1)-1, 1) -> 46112 | D12: =EOMONTH(DATE(D11,D10,1)-1, 1) -> 46203 | E12: =EOMONTH(DATE(E11,E10,1)-1, 1) -> 46295 | F12: =EOMONTH(DATE(F11,F10,1)-1, 1) -> 46387 | G12: =EOMONTH(DATE(G11,G10,1)-1, 1) -> 46477 | H12: =EOMONTH(DATE(H11,H10,1)-1, 1) -> 46568 | I12: =EOMONTH(DATE(I11,I10,1)-1, 1) -> 46660 | J12: =EOMONTH(DATE(J11,J10,1)-1, 1) -> 46752 | ... AH12: =EOMONTH(DATE(AH11,AH10,1)-1, 1) -> 48944
B13: Historical? (1=Historical, 0=Forecast)
B14: Year Name | C14: ="FY"&RIGHT(C11, 2)&IF(C13=1, "A", "E") -> FY26E | D14: ="FY"&RIGHT(D11, 2)&IF(D13=1, "A", "E") -> FY26E | E14: ="FY"&RIGHT(E11, 2)&IF(E13=1, "A", "E") -> FY26E | F14: ="FY"&RIGHT(F11, 2)&IF(F13=1, "A", "E") -> FY26E | G14: ="FY"&RIGHT(G11, 2)&IF(G13=1, "A", "E") -> FY27E | H14: ="FY"&RIGHT(H11, 2)&IF(H13=1, "A", "E") -> FY27E | I14: ="FY"&RIGHT(I11, 2)&IF(I13=1, "A", "E") -> FY27E | J14: ="FY"&RIGHT(J11, 2)&IF(J13=1, "A", "E") -> FY27E | ... AH14: ="FY"&RIGHT(AH11, 2)&IF(AH13=1, "A", "E") -> FY33E
B15: Quarter Name | C15: ="FQ"&C9&"'"&RIGHT(C11, 2)&IF(C13=1, "A", "E") -> FQ1'26E | D15: ="FQ"&D9&"'"&RIGHT(D11, 2)&IF(D13=1, "A", "E") -> FQ2'26E | E15: ="FQ"&E9&"'"&RIGHT(E11, 2)&IF(E13=1, "A", "E") -> FQ3'26E | F15: ="FQ"&F9&"'"&RIGHT(F11, 2)&IF(F13=1, "A", "E") -> FQ4'26E | G15: ="FQ"&G9&"'"&RIGHT(G11, 2)&IF(G13=1, "A", "E") -> FQ1'27E | H15: ="FQ"&H9&"'"&RIGHT(H11, 2)&IF(H13=1, "A", "E") -> FQ2'27E | I15: ="FQ"&I9&"'"&RIGHT(I11, 2)&IF(I13=1, "A", "E") -> FQ3'27E | J15: ="FQ"&J9&"'"&RIGHT(J11, 2)&IF(J13=1, "A", "E") -> FQ4'27E | ... AH15: ="FQ"&AH9&"'"&RIGHT(AH11, 2)&IF(AH13=1, "A", "E") -> FQ4'33E
B17: Financial hyperparameters
B18: Inflation | C18: 0.02 | D18: 0.02 | E18: 0.02 | F18: 0.02 | G18: 0.02 | H18: 0.02 | I18: 0.02 | J18: 0.02 | K18: 0.02 | L18: 0.02 | M18: 0.02 | N18: 0.02 | O18: 0.02 | P18: 0.02 | Q18: 0.02 | R18: 0.02 | S18: 0.02 | T18: 0.02 | U18: 0.02 | V18: 0.02
A21: x | B21: Revenue drivers
B23: Sales reps and productivity
B24: Sales reps hired (% of beginning sales reps) | C24: 0.08 | D24: 0.08 | E24: 0.08 | F24: 0.08 | G24: 0.08 | H24: 0.08 | I24: 0.08 | J24: 0.08 | K24: 0.06 | L24: 0.06 | M24: 0.06 | N24: 0.06 | O24: 0.04 | P24: 0.04 | Q24: 0.04 | R24: 0.04 | S24: 0.04 | T24: 0.04 | U24: 0.04 | V24: 0.04
B25: Sales rep attrition (% of beginning sales reps) | C25: -0.04 | D25: -0.04 | E25: -0.04 | F25: -0.04 | G25: -0.04 | H25: -0.04 | I25: -0.04 | J25: -0.04 | K25: -0.04 | L25: -0.04 | M25: -0.04 | N25: -0.04 | O25: -0.04 | P25: -0.04 | Q25: -0.04 | R25: -0.04 | S25: -0.04 | T25: -0.04 | U25: -0.04 | V25: -0.04
B26: Ramp time duration in quarters | C26: 2 | D26: 2 | E26: 2 | F26: 2 | G26: 2 | H26: 2 | I26: 2 | J26: 2 | K26: 2 | L26: 2 | M26: 2 | N26: 2 | O26: 2 | P26: 2 | Q26: 2 | R26: 2 | S26: 2 | T26: 2 | U26: 2 | V26: 2
B27: New hire intra-quarter linearity | C27: 0.5 | D27: 0.5 | E27: 0.5 | F27: 0.5 | G27: 0.5 | H27: 0.5 | I27: 0.5 | J27: 0.5 | K27: 0.5 | L27: 0.5 | M27: 0.5 | N27: 0.5 | O27: 0.5 | P27: 0.5 | Q27: 0.5 | R27: 0.5 | S27: 0.5 | T27: 0.5 | U27: 0.5 | V27: 0.5
B29: Sales funnel
B30: Leads per ramped rep | C30: 20 | D30: 20 | E30: 20 | F30: 20 | G30: 20 | H30: 20 | I30: 20 | J30: 20 | K30: 20 | L30: 20 | M30: 20 | N30: 20 | O30: 20 | P30: 20 | Q30: 20 | R30: 20 | S30: 20 | T30: 20 | U30: 20 | V30: 20
B31: Lead to SQL conversion rate | C31: 0.2 | D31: 0.2 | E31: 0.2 | F31: 0.2 | G31: 0.2 | H31: 0.2 | I31: 0.2 | J31: 0.2 | K31: 0.2 | L31: 0.2 | M31: 0.2 | N31: 0.2 | O31: 0.2 | P31: 0.2 | Q31: 0.2 | R31: 0.2 | S31: 0.2 | T31: 0.2 | U31: 0.2 | V31: 0.2
B32: SQL to opportunity conversion rate | C32: 0.4 | D32: 0.4 | E32: 0.4 | F32: 0.4 | G32: 0.4 | H32: 0.4 | I32: 0.4 | J32: 0.4 | K32: 0.4 | L32: 0.4 | M32: 0.4 | N32: 0.4 | O32: 0.4 | P32: 0.4 | Q32: 0.4 | R32: 0.4 | S32: 0.4 | T32: 0.4 | U32: 0.4 | V32: 0.4
B33: Opportunity to new customer conversion rate | C33: 0.4 | D33: 0.4 | E33: 0.4 | F33: 0.4 | G33: 0.4 | H33: 0.4 | I33: 0.4 | J33: 0.4 | K33: 0.4 | L33: 0.4 | M33: 0.4 | N33: 0.4 | O33: 0.4 | P33: 0.4 | Q33: 0.4 | R33: 0.4 | S33: 0.4 | T33: 0.4 | U33: 0.4 | V33: 0.4
B34: Win rate | C34: =C31*C32*C33 -> 0.032 | D34: =D31*D32*D33 -> 0.032 | E34: =E31*E32*E33 -> 0.032 | F34: =F31*F32*F33 -> 0.032 | G34: =G31*G32*G33 -> 0.032 | H34: =H31*H32*H33 -> 0.032 | I34: =I31*I32*I33 -> 0.032 | J34: =J31*J32*J33 -> 0.032 | ... V34: =V31*V32*V33 -> 0.032
B35: Pipeline Coverage Ratio (x) | C35: 3.5 | D35: 3.5 | E35: 3.5 | F35: 3.5 | G35: 3.5 | H35: 3.5 | I35: 3.5 | J35: 3.5 | K35: 3.5 | L35: 3.5 | M35: 3.5 | N35: 3.5 | O35: 3.5 | P35: 3.5 | Q35: 3.5 | R35: 3.5 | S35: 3.5 | T35: 3.5 | U35: 3.5 | V35: 3.5
B37: New logo wins
B38: Average new logo ACV per customer | C38: 30 | D38: 30 | E38: 30 | F38: 30 | G38: =C38*(1+G39) -> 30.6 | H38: =D38*(1+H39) -> 30.6 | I38: =E38*(1+I39) -> 30.6 | J38: =F38*(1+J39) -> 30.6 | K38: =G38*(1+K39) -> 31.212 | L38: =H38*(1+L39) -> 31.212 | M38: =I38*(1+M39) -> 31.212 | N38: =J38*(1+N39) -> 31.212 | ... V38: =R38*(1+V39) -> 32.472965
B39: Inflation rate | G39: 0.02 | H39: 0.02 | I39: 0.02 | J39: 0.02 | K39: 0.02 | L39: 0.02 | M39: 0.02 | N39: 0.02 | O39: 0.02 | P39: 0.02 | Q39: 0.02 | R39: 0.02 | S39: 0.02 | T39: 0.02 | U39: 0.02 | V39: 0.02
B40: Avg contract duration in years | C40: 1 | D40: 1 | E40: 1 | F40: 1 | G40: 1 | H40: 1 | I40: 1 | J40: 1 | K40: 1 | L40: 1 | M40: 1 | N40: 1 | O40: 1 | P40: 1 | Q40: 1 | R40: 1 | S40: 1 | T40: 1 | U40: 1 | V40: 1
B41: Avg duration in quarters | C41: =C40*4 -> 4 | D41: =D40*4 -> 4 | E41: =E40*4 -> 4 | F41: =F40*4 -> 4 | G41: =G40*4 -> 4 | H41: =H40*4 -> 4 | I41: =I40*4 -> 4 | J41: =J40*4 -> 4 | ... V41: =V40*4 -> 4
B42: Avg deal win intra-quarter linearity | C42: 0.33 | D42: 0.33 | E42: 0.33 | F42: 0.33 | G42: 0.33 | H42: 0.33 | I42: 0.33 | J42: 0.33 | K42: 0.33 | L42: 0.33 | M42: 0.33 | N42: 0.33 | O42: 0.33 | P42: 0.33 | Q42: 0.33 | R42: 0.33 | S42: 0.33 | T42: 0.33 | U42: 0.33 | V42: 0.33
B44: Renewals
B45: Customer renewal rate | G45: 0.95 | H45: 0.95 | I45: 0.95 | J45: 0.95 | K45: 0.95 | L45: 0.95 | M45: 0.95 | N45: 0.95 | O45: 0.95 | P45: 0.95 | Q45: 0.95 | R45: 0.95 | S45: 0.95 | T45: 0.95 | U45: 0.95 | V45: 0.95
B46: Churn rate on renewal | G46: =G45-1 -> -0.05 | H46: =H45-1 -> -0.05 | I46: =I45-1 -> -0.05 | J46: =J45-1 -> -0.05 | K46: =K45-1 -> -0.05 | L46: =L45-1 -> -0.05 | M46: =M45-1 -> -0.05 | N46: =N45-1 -> -0.05 | ... V46: =V45-1 -> -0.05
B47: Avg ACV expansion rate on renewal | G47: 0.15 | H47: 0.15 | I47: 0.15 | J47: 0.15 | K47: 0.17 | L47: 0.17 | M47: 0.17 | N47: 0.17 | O47: 0.19 | P47: 0.19 | Q47: 0.19 | R47: 0.19 | S47: 0.2 | T47: 0.2 | U47: 0.2 | V47: 0.2
B48: Avg ACV downsell rate on renewal | G48: -0.05 | H48: -0.05 | I48: -0.05 | J48: -0.05 | K48: -0.05 | L48: -0.05 | M48: -0.05 | N48: -0.05 | O48: -0.05 | P48: -0.05 | Q48: -0.05 | R48: -0.05 | S48: -0.05 | T48: -0.05 | U48: -0.05 | V48: -0.05
B49: Avg ACV churn rate on renewal | G49: =G46 -> -0.05 | H49: =H46 -> -0.05 | I49: =I46 -> -0.05 | J49: =J46 -> -0.05 | K49: =K46 -> -0.05 | L49: =L46 -> -0.05 | M49: =M46 -> -0.05 | N49: =N46 -> -0.05 | ... V49: =V46 -> -0.05
B51: Other revenue
...

Sheet Calculations
A1: =Drivers!A1 -> XYZ Company
B2: Calculations ($ in 000's)
C4: =Drivers!C15 -> FQ1'26E | D4: =Drivers!D15 -> FQ2'26E | E4: =Drivers!E15 -> FQ3'26E | F4: =Drivers!F15 -> FQ4'26E | G4: =Drivers!G15 -> FQ1'27E | H4: =Drivers!H15 -> FQ2'27E | I4: =Drivers!I15 -> FQ3'27E | J4: =Drivers!J15 -> FQ4'27E | ... AH4: =Drivers!AH15 -> FQ4'33E | AI4: Noted Assumptions | AJ4: --- Calculation Inputs --- | AP4: =AP6 -> FY26E | AQ4: =AQ6 -> FY27E | AR4: =AR6 -> FY28E | AS4: =AS6 -> FY29E | AT4: =AT6 -> FY30E | AU4: =AU6 -> FY31E | AV4: =AV6 -> FY32E | AW4: =AW6 -> FY33E
B5: Fiscal date | C5: =Drivers!C12 -> 46112 | D5: =Drivers!D12 -> 46203 | E5: =Drivers!E12 -> 46295 | F5: =Drivers!F12 -> 46387 | G5: =Drivers!G12 -> 46477 | H5: =Drivers!H12 -> 46568 | I5: =Drivers!I12 -> 46660 | J5: =Drivers!J12 -> 46752 | ... AH5: =Drivers!AH12 -> 48944
B6: Fiscal year | C6: =Drivers!C14 -> FY26E | D6: =Drivers!D14 -> FY26E | E6: =Drivers!E14 -> FY26E | F6: =Drivers!F14 -> FY26E | G6: =Drivers!G14 -> FY27E | H6: =Drivers!H14 -> FY27E | I6: =Drivers!I14 -> FY27E | J6: =Drivers!J14 -> FY27E | ... AH6: =Drivers!AH14 -> FY33E | AP6: =F6 -> FY26E | AQ6: =J6 -> FY27E | AR6: =N6 -> FY28E | AS6: =R6 -> FY29E | AT6: =V6 -> FY30E | AU6: =Z6 -> FY31E | AV6: =AD6 -> FY32E | AW6: =AH6 -> FY33E
B7: Year end balances | F7: =F6 -> FY26E | J7: =J6 -> FY27E | N7: =N6 -> FY28E | R7: =R6 -> FY29E | V7: =V6 -> FY30E | Z7: =Z6 -> FY31E | AD7: =AD6 -> FY32E | AH7: =AH6 -> FY33E
A9: x | B9: Sales Headcount
B11: # of sales reps
B12: Beginning of quarter | C12: 0 | D12: =C15 -> 25 | E12: =D15 -> 26 | F12: =E15 -> 27 | G12: =F15 -> 28 | H12: =G15 -> 29 | I12: =H15 -> 30 | J12: =I15 -> 31 | K12: =J15 -> 32 | ... AH12: =AG15 -> 36 | AP12: =C12 -> 0 | AQ12: =AP15 -> 28 | AR12: =AQ15 -> 32 | AS12: =AR15 -> 36 | AT12: =AS15 -> 36 | AU12: =AT15 -> 36 | AV12: =AU15 -> 36 | AW12: =AV15 -> 36
B13: Attrition (rounded) | C13: =ROUND(C$12*C21, 0) -> 0 | D13: =ROUND(D$12*D21, 0) -> -1 | E13: =ROUND(E$12*E21, 0) -> -1 | F13: =ROUND(F$12*F21, 0) -> -1 | G13: =ROUND(G$12*G21, 0) -> -1 | H13: =ROUND(H$12*H21, 0) -> -1 | I13: =ROUND(I$12*I21, 0) -> -1 | J13: =ROUND(J$12*J21, 0) -> -1 | ... AH13: =ROUND(AH$12*AH21, 0) -> 0 | AP13: =SUMIFS($B13:$AI13, $B$6:$AI$6, AP$6) -> -3 | AQ13: =SUMIFS($B13:$AI13, $B$6:$AI$6, AQ$6) -> -4 | AR13: =SUMIFS($B13:$AI13, $B$6:$AI$6, AR$6) -> -4 | AS13: =SUMIFS($B13:$AI13, $B$6:$AI$6, AS$6) -> -4 | AT13: =SUMIFS($B13:$AI13, $B$6:$AI$6, AT$6) -> -4 | AU13: =SUMIFS($B13:$AI13, $B$6:$AI$6, AU$6) -> 0 | AV13: =SUMIFS($B13:$AI13, $B$6:$AI$6, AV$6) -> 0 | AW13: =SUMIFS($B13:$AI13, $B$6:$AI$6, AW$6) -> 0
B14: New hires | C14: 25 | D14: =ROUND(D$12*D20, 0) -> 2 | E14: =ROUND(E$12*E20, 0) -> 2 | F14: =ROUND(F$12*F20, 0) -> 2 | G14: =ROUND(G$12*G20, 0) -> 2 | H14: =ROUND(H$12*H20, 0) -> 2 | I14: =ROUND(I$12*I20, 0) -> 2 | J14: =ROUND(J$12*J20, 0) -> 2 | K14: =ROUND(K$12*K20, 0) -> 2 | ... AH14: =ROUND(AH$12*AH20, 0) -> 0 | AP14: =SUMIFS($B14:$AI14, $B$6:$AI$6, AP$6) -> 31 | AQ14: =SUMIFS($B14:$AI14, $B$6:$AI$6, AQ$6) -> 8 | AR14: =SUMIFS($B14:$AI14, $B$6:$AI$6, AR$6) -> 8 | AS14: =SUMIFS($B14:$AI14, $B$6:$AI$6, AS$6) -> 4 | AT14: =SUMIFS($B14:$AI14, $B$6:$AI$6, AT$6) -> 4 | AU14: =SUMIFS($B14:$AI14, $B$6:$AI$6, AU$6) -> 0 | AV14: =SUMIFS($B14:$AI14, $B$6:$AI$6, AV$6) -> 0 | AW14: =SUMIFS($B14:$AI14, $B$6:$AI$6, AW$6) -> 0
B15: End of quarter | C15: =SUM(C12:C14) -> 25 | D15: =SUM(D12:D14) -> 26 | E15: =SUM(E12:E14) -> 27 | F15: =SUM(F12:F14) -> 28 | G15: =SUM(G12:G14) -> 29 | H15: =SUM(H12:H14) -> 30 | I15: =SUM(I12:I14) -> 31 | J15: =SUM(J12:J14) -> 32 | ... AH15: =SUM(AH12:AH14) -> 36 | AP15: =SUM(AP12:AP14) -> 28 | AQ15: =SUM(AQ12:AQ14) -> 32 | AR15: =SUM(AR12:AR14) -> 36 | AS15: =SUM(AS12:AS14) -> 36 | AT15: =SUM(AT12:AT14) -> 36 | AU15: =SUM(AU12:AU14) -> 36 | AV15: =SUM(AV12:AV14) -> 36 | AW15: =SUM(AW12:AW14) -> 36
B16: Avg during quarter | C16: =AVERAGE(C12, C15) -> 12.5 | D16: =AVERAGE(D12, D15) -> 25.5 | E16: =AVERAGE(E12, E15) -> 26.5 | F16: =AVERAGE(F12, F15) -> 27.5 | G16: =AVERAGE(G12, G15) -> 28.5 | H16: =AVERAGE(H12, H15) -> 29.5 | I16: =AVERAGE(I12, I15) -> 30.5 | J16: =AVERAGE(J12, J15) -> 31.5 | ... AH16: =AVERAGE(AH12, AH15) -> 36 | AP16: =AVERAGE(AP12, AP15) -> 14 | AQ16: =AVERAGE(AQ12, AQ15) -> 30 | AR16: =AVERAGE(AR12, AR15) -> 34 | AS16: =AVERAGE(AS12, AS15) -> 36 | AT16: =AVERAGE(AT12, AT15) -> 36 | AU16: =AVERAGE(AU12, AU15) -> 36 | AV16: =AVERAGE(AV12, AV15) -> 36 | AW16: =AVERAGE(AW12, AW15) -> 36
B17: Y/Y % | G17: =G16/C16-1 -> 1.28 | H17: =H16/D16-1 -> 0.15686275 | I17: =I16/E16-1 -> 0.1509434 | J17: =J16/F16-1 -> 0.14545455 | K17: =K16/G16-1 -> 0.14035088 | L17: =L16/H16-1 -> 0.13559322 | M17: =M16/I16-1 -> 0.13114754 | N17: =N16/J16-1 -> 0.12698413 | ... AH17: =AH16/AD16-1 -> 0 | AQ17: =IFERROR(AQ16/AP16-1, 0) -> 1.1428571 | AR17: =IFERROR(AR16/AQ16-1, 0) -> 0.13333333 | AS17: =IFERROR(AS16/AR16-1, 0) -> 0.058823529 | AT17: =IFERROR(AT16/AS16-1, 0) -> 0 | AU17: =IFERROR(AU16/AT16-1, 0) -> 0 | AV17: =IFERROR(AV16/AU16-1, 0) -> 0 | AW17: =IFERROR(AW16/AV16-1, 0) -> 0
B18: Q/Q % | D18: =D16/C16-1 -> 1.04 | E18: =E16/D16-1 -> 0.039215686 | F18: =F16/E16-1 -> 0.037735849 | G18: =G16/F16-1 -> 0.036363636 | H18: =H16/G16-1 -> 0.035087719 | I18: =I16/H16-1 -> 0.033898305 | J18: =J16/I16-1 -> 0.032786885 | K18: =K16/J16-1 -> 0.031746032 | ... AH18: =AH16/AG16-1 -> 0
B20: Sales reps hired (% of beginning sales reps) | C20: =Drivers!C24 -> 0.08 | D20: =Drivers!D24 -> 0.08 | E20: =Drivers!E24 -> 0.08 | F20: =Drivers!F24 -> 0.08 | G20: =Drivers!G24 -> 0.08 | H20: =Drivers!H24 -> 0.08 | I20: =Drivers!I24 -> 0.08 | J20: =Drivers!J24 -> 0.08 | ... AH20: =Drivers!AH24 -> 0
B21: Attrition (% of beginning sales reps) | C21: =Drivers!C25 -> -0.04 | D21: =Drivers!D25 -> -0.04 | E21: =Drivers!E25 -> -0.04 | F21: =Drivers!F25 -> -0.04 | G21: =Drivers!G25 -> -0.04 | H21: =Drivers!H25 -> -0.04 | I21: =Drivers!I25 -> -0.04 | J21: =Drivers!J25 -> -0.04 | ... AH21: =Drivers!AH25 -> 0
B23: # of ramped reps
B24: Beginning of quarter | C24: =C12*75% -> 0 | D24: =C27 -> 6.25 | E24: =D27 -> 18.25 | F24: =E27 -> 25 | G24: =F27 -> 26 | H24: =G27 -> 27 | I24: =H27 -> 28 | J24: =I27 -> 29 | K24: =J27 -> 30 | ... AH24: =AG27 -> 36 | AP24: =C24 -> 0 | AQ24: =AP27 -> 26 | AR24: =AQ27 -> 30 | AS24: =AR27 -> 34 | AT24: =AS27 -> 35 | AU24: =AT27 -> 35 | AV24: =AU27 -> 36 | AW24: =AV27 -> 36
B25: Attrition | C25: =C13 -> 0 | D25: =D13 -> -1 | E25: =E13 -> -1 | F25: =F13 -> -1 | G25: =G13 -> -1 | H25: =H13 -> -1 | I25: =I13 -> -1 | J25: =J13 -> -1 | ... AH25: =AH13 -> 0 | AI25: Reps don't attrite while ramping. | AP25: =SUMIFS($B25:$AI25, $B$6:$AI$6, AP$6) -> -3 | AQ25: =SUMIFS($B25:$AI25, $B$6:$AI$6, AQ$6) -> -4 | AR25: =SUMIFS($B25:$AI25, $B$6:$AI$6, AR$6) -> -4 | AS25: =SUMIFS($B25:$AI25, $B$6:$AI$6, AS$6) -> -4 | AT25: =SUMIFS($B25:$AI25, $B$6:$AI$6, AT$6) -> -4 | AU25: =SUMIFS($B25:$AI25, $B$6:$AI$6, AU$6) -> 0 | AV25: =SUMIFS($B25:$AI25, $B$6:$AI$6, AV$6) -> 0 | AW25: =SUMIFS($B25:$AI25, $B$6:$AI$6, AW$6) -> 0
B26: New ramped reps | C26: =C67 -> 6.25 | D26: =D67 -> 13 | E26: =E67 -> 7.75 | F26: =F67 -> 2 | G26: =G67 -> 2 | H26: =H67 -> 2 | I26: =I67 -> 2 | J26: =J67 -> 2 | ... AH26: =AH67 -> 0 | AP26: =SUMIFS($B26:$AI26, $B$6:$AI$6, AP$6) -> 29 | AQ26: =SUMIFS($B26:$AI26, $B$6:$AI$6, AQ$6) -> 8 | AR26: =SUMIFS($B26:$AI26, $B$6:$AI$6, AR$6) -> 8 | AS26: =SUMIFS($B26:$AI26, $B$6:$AI$6, AS$6) -> 5 | AT26: =SUMIFS($B26:$AI26, $B$6:$AI$6, AT$6) -> 4 | AU26: =SUMIFS($B26:$AI26, $B$6:$AI$6, AU$6) -> 1 | AV26: =SUMIFS($B26:$AI26, $B$6:$AI$6, AV$6) -> 0 | AW26: =SUMIFS($B26:$AI26, $B$6:$AI$6, AW$6) -> 0
B27: End of quarter | C27: =SUM(C24:C26) -> 6.25 | D27: =SUM(D24:D26) -> 18.25 | E27: =SUM(E24:E26) -> 25 | F27: =SUM(F24:F26) -> 26 | G27: =SUM(G24:G26) -> 27 | H27: =SUM(H24:H26) -> 28 | I27: =SUM(I24:I26) -> 29 | J27: =SUM(J24:J26) -> 30 | ... AH27: =SUM(AH24:AH26) -> 36 | AP27: =SUM(AP24:AP26) -> 26 | AQ27: =SUM(AQ24:AQ26) -> 30 | AR27: =SUM(AR24:AR26) -> 34 | AS27: =SUM(AS24:AS26) -> 35 | AT27: =SUM(AT24:AT26) -> 35 | AU27: =SUM(AU24:AU26) -> 36 | AV27: =SUM(AV24:AV26) -> 36 | AW27: =SUM(AW24:AW26) -> 36
B28: Avg during quarter | C28: =AVERAGE(C27, C24) -> 3.125 | D28: =AVERAGE(D27, D24) -> 12.25 | E28: =AVERAGE(E27, E24) -> 21.625 | F28: =AVERAGE(F27, F24) -> 25.5 | G28: =AVERAGE(G27, G24) -> 26.5 | H28: =AVERAGE(H27, H24) -> 27.5 | I28: =AVERAGE(I27, I24) -> 28.5 | J28: =AVERAGE(J27, J24) -> 29.5 | ... AH28: =AVERAGE(AH27, AH24) -> 36 | AP28: =AVERAGE(AP27, AP24) -> 13 | AQ28: =AVERAGE(AQ27, AQ24) -> 28 | AR28: =AVERAGE(AR27, AR24) -> 32 | AS28: =AVERAGE(AS27, AS24) -> 34.5 | AT28: =AVERAGE(AT27, AT24) -> 35 | AU28: =AVERAGE(AU27, AU24) -> 35.5 | AV28: =AVERAGE(AV27, AV24) -> 36 | AW28: =AVERAGE(AW27, AW24) -> 36
B29: Y/Y % | G29: =G28/C28-1 -> 7.48 | H29: =H28/D28-1 -> 1.244898 | I29: =I28/E28-1 -> 0.31791908 | J29: =J28/F28-1 -> 0.15686275 | K29: =K28/G28-1 -> 0.1509434 | L29: =L28/H28-1 -> 0.14545455 | M29: =M28/I28-1 -> 0.14035088 | N29: =N28/J28-1 -> 0.13559322 | ... AH29: =AH28/AD28-1 -> 0 | AQ29: =IFERROR(AQ28/AP28-1, 0) -> 1.1538462 | AR29: =IFERROR(AR28/AQ28-1, 0) -> 0.14285714 | AS29: =IFERROR(AS28/AR28-1, 0) -> 0.078125 | AT29: =IFERROR(AT28/AS28-1, 0) -> 0.014492754 | AU29: =IFERROR(AU28/AT28-1, 0) -> 0.014285714 | AV29: =IFERROR(AV28/AU28-1, 0) -> 0.014084507 | AW29: =IFERROR(AW28/AV28-1, 0) -> 0
B30: Q/Q % | D30: =D28/C28-1 -> 2.92 | E30: =E28/D28-1 -> 0.76530612 | F30: =F28/E28-1 -> 0.17919075 | G30: =G28/F28-1 -> 0.039215686 | H30: =H28/G28-1 -> 0.037735849 | I30: =I28/H28-1 -> 0.036363636 | J30: =J28/I28-1 -> 0.035087719 | K30: =K28/J28-1 -> 0.033898305 | ... AH30: =AH28/AG28-1 -> 0
B31: % of reps ramped | C31: =C28/C16 -> 0.25 | D31: =D28/D16 -> 0.48039216 | E31: =E28/E16 -> 0.81603774 | F31: =F28/F16 -> 0.92727273 | G31: =G28/G16 -> 0.92982456 | H31: =H28/H16 -> 0.93220339 | I31: =I28/I16 -> 0.93442623 | J31: =J28/J16 -> 0.93650794 | ... AH31: =AH28/AH16 -> 1 | AQ31: =AQ28/AQ16 -> 0.93333333 | AR31: =AR28/AR16 -> 0.94117647 | AS31: =AS28/AS16 -> 0.95833333 | AT31: =AT28/AT16 -> 0.97222222 | AU31: =AU28/AU16 -> 0.98611111 | AV31: =AV28/AV16 -> 1 | AW31: =AW28/AW16 -> 1
B33: Ramp waterfall | AI33: Formula explanation | AJ33: Cohort | AK33: Duration | AL33: Linearity | AM33: Fiscal Date | AN33: Index | AO33: Math
B34: {=INDEX($B$4:$AI$4, 1, AN34)} -> FQ1'26E | C34: =IF($AM34>C$5,0,IF($AM34=C$5,IFERROR($AJ34/$AK34*$AL34, 0),IF(IFERROR((SUM($B34:B34)+$AJ34/$AK34*(1-$AL34)),0)>=$AJ34, $AJ34-SUM($B34:B34), IFERROR($AJ34/$AK34, 0)))) -> 6.25 | D34: =IF($AM34>D$5,0,IF($AM34=D$5,IFERROR($AJ34/$AK34*$AL34, 0),IF(IFERROR((SUM($B34:C34)+$AJ34/$AK34*(1-$AL34)),0)>=$AJ34, $AJ34-SUM($B34:C34), IFERROR($AJ34/$AK34, 0)))) -> 12.5 | E34: =IF($AM34>E$5,0,IF($AM34=E$5,IFERROR($AJ34/$AK34*$AL34, 0),IF(IFERROR((SUM($B34:D34)+$AJ34/$AK34*(1-$AL34)),0)>=$AJ34, $AJ34-SUM($B34:D34), IFERROR($AJ34/$AK34, 0)))) -> 6.25 | F34: =IF($AM34>F$5,0,IF($AM34=F$5,IFERROR($AJ34/$AK34*$AL34, 0),IF(IFERROR((SUM($B34:E34)+$AJ34/$AK34*(1-$AL34)),0)>=$AJ34, $AJ34-SUM($B34:E34), IFERROR($AJ34/$AK34, 0)))) -> 0 | G34: =IF($AM34>G$5,0,IF($AM34=G$5,IFERROR($AJ34/$AK34*$AL34, 0),IF(IFERROR((SUM($B34:F34)+$AJ34/$AK34*(1-$AL34)),0)>=$AJ34, $AJ34-SUM($B34:F34), IFERROR($AJ34/$AK34, 0)))) -> 0 | H34: =IF($AM34>H$5,0,IF($AM34=H$5,IFERROR($AJ34/$AK34*$AL34, 0),IF(IFERROR((SUM($B34:G34)+$AJ34/$AK34*(1-$AL34)),0)>=$AJ34, $AJ34-SUM($B34:G34), IFERROR($AJ34/$AK34, 0)))) -> 0 | I34: =IF($AM34>I$5,0,IF($AM34=I$5,IFERROR($AJ34/$AK34*$AL34, 0),IF(IFERROR((SUM($B34:H34)+$AJ34/$AK34*(1-$AL34)),0)>=$AJ34, $AJ34-SUM($B34:H34), IFERROR($AJ34/$AK34, 0)))) -> 0 | J34: =IF($AM34>J$5,0,IF($AM34=J$5,IFERROR($AJ34/$AK34*$AL34, 0),IF(IFERROR((SUM($B34:I34)+$AJ34/$AK34*(1-$AL34)),0)>=$AJ34, $AJ34-SUM($B34:I34), IFERROR($AJ34/$AK34, 0)))) -> 0 | ... AH34: =IF($AM34>AH$5,0,IF($AM34=AH$5,IFERROR($AJ34/$AK34*$AL34, 0),IF(IFERROR((SUM($B34:AG34)+$AJ34/$AK34*(1-$AL34)),0)>=$AJ34, $AJ34-SUM($B34:AG34), IFERROR($AJ34/$AK34, 0)))) -> 0 | AI34: Calculation allocates linearly across each month, | AJ34: {=INDEX(Calculations!$B$14:$AN$14, 1, AN34)} -> 25 | AK34: =INDEX(Drivers!$B$26:$AI$26, 1, MATCH($B34, Drivers!$B$4:$AI$4, 0)) -> 2 | AL34: =INDEX(Drivers!$B$27:$AI$27, 1, MATCH($B34, Drivers!$B$4:$AI$4, 0)) -> 0.5 | AM34: {=INDEX(Drivers!$B$12:$AI$12, 1, AN34)} -> 46112 | AN34: 2 | AO34: =SUM(B34:AI34)-AJ34 -> 0 | AP34: =SUMIFS($B34:$AI34, $B$6:$AI$6, AP$6) -> 25 | AQ34: =SUMIFS($B34:$AI34, $B$6:$AI$6, AQ$6) -> 0 | AR34: =SUMIFS($B34:$AI34, $B$6:$AI$6, AR$6) -> 0 | AS34: =SUMIFS($B34:$AI34, $B$6:$AI$6, AS$6) -> 0 | AT34: =SUMIFS($B34:$AI34, $B$6:$AI$6, AT$6) -> 0 | AU34: =SUMIFS($B34:$AI34, $B$6:$AI$6, AU$6) -> 0 | AV34: =SUMIFS($B34:$AI34, $B$6:$AI$6, AV$6) -> 0 | AW34: =SUMIFS($B34:$AI34, $B$6:$AI$6, AW$6) -> 0
B35: {=INDEX($B$4:$AI$4, 1, AN35)} -> FQ2'26E | C35: =IF($AM35>C$5,0,IF($AM35=C$5,IFERROR($AJ35/$AK35*$AL35, 0),IF(IFERROR((SUM($B35:B35)+$AJ35/$AK35*(1-$AL35)),0)>=$AJ35, $AJ35-SUM($B35:B35), IFERROR($AJ35/$AK35, 0)))) -> 0 | D35: =IF($AM35>D$5,0,IF($AM35=D$5,IFERROR($AJ35/$AK35*$AL35, 0),IF(IFERROR((SUM($B35:C35)+$AJ35/$AK35*(1-$AL35)),0)>=$AJ35, $AJ35-SUM($B35:C35), IFERROR($AJ35/$AK35, 0)))) -> 0.5 | E35: =IF($AM35>E$5,0,IF($AM35=E$5,IFERROR($AJ35/$AK35*$AL35, 0),IF(IFERROR((SUM($B35:D35)+$AJ35/$AK35*(1-$AL35)),0)>=$AJ35, $AJ35-SUM($B35:D35), IFERROR($AJ35/$AK35, 0)))) -> 1 | F35: =IF($AM35>F$5,0,IF($AM35=F$5,IFERROR($AJ35/$AK35*$AL35, 0),IF(IFERROR((SUM($B35:E35)+$AJ35/$AK35*(1-$AL35)),0)>=$AJ35, $AJ35-SUM($B35:E35), IFERROR($AJ35/$AK35, 0)))) -> 0.5 | G35: =IF($AM35>G$5,0,IF($AM35=G$5,IFERROR($AJ35/$AK35*$AL35, 0),IF(IFERROR((SUM($B35:F35)+$AJ35/$AK35*(1-$AL35)),0)>=$AJ35, $AJ35-SUM($B35:F35), IFERROR($AJ35/$AK35, 0)))) -> 0 | H35: =IF($AM35>H$5,0,IF($AM35=H$5,IFERROR($AJ35/$AK35*$AL35, 0),IF(IFERROR((SUM($B35:G35)+$AJ35/$AK35*(1-$AL35)),0)>=$AJ35, $AJ35-SUM($B35:G35), IFERROR($AJ35/$AK35, 0)))) -> 0 | I35: =IF($AM35>I$5,0,IF($AM35=I$5,IFERROR($AJ35/$AK35*$AL35, 0),IF(IFERROR((SUM($B35:H35)+$AJ35/$AK35*(1-$AL35)),0)>=$AJ35, $AJ35-SUM($B35:H35), IFERROR($AJ35/$AK35, 0)))) -> 0 | J35: =IF($AM35>J$5,0,IF($AM35=J$5,IFERROR($AJ35/$AK35*$AL35, 0),IF(IFERROR((SUM($B35:I35)+$AJ35/$AK35*(1-$AL35)),0)>=$AJ35, $AJ35-SUM($B35:I35), IFERROR($AJ35/$AK35, 0)))) -> 0 | ... AH35: =IF($AM35>AH$5,0,IF($AM35=AH$5,IFERROR($AJ35/$AK35*$AL35, 0),IF(IFERROR((SUM($B35:AG35)+$AJ35/$AK35*(1-$AL35)),0)>=$AJ35, $AJ35-SUM($B35:AG35), IFERROR($AJ35/$AK35, 0)))) -> 0 | AI35: based on ramp time assumption. | AJ35: {=INDEX(Calculations!$B$14:$AN$14, 1, AN35)} -> 2 | AK35: =INDEX(Drivers!$B$26:$AI$26, 1, MATCH($B35, Drivers!$B$4:$AI$4, 0)) -> 2 | AL35: =INDEX(Drivers!$B$27:$AI$27, 1, MATCH($B35, Drivers!$B$4:$AI$4, 0)) -> 0.5 | AM35: {=INDEX(Drivers!$B$12:$AI$12, 1, AN35)} -> 46203 | AN35: =AN34+1 -> 3 | AO35: =SUM(B35:AI35)-AJ35 -> 0 | AP35: =SUMIFS($B35:$AI35, $B$6:$AI$6, AP$6) -> 2 | AQ35: =SUMIFS($B35:$AI35, $B$6:$AI$6, AQ$6) -> 0 | AR35: =SUMIFS($B35:$AI35, $B$6:$AI$6, AR$6) -> 0 | AS35: =SUMIFS($B35:$AI35, $B$6:$AI$6, AS$6) -> 0 | AT35: =SUMIFS($B35:$AI35, $B$6:$AI$6, AT$6) -> 0 | AU35: =SUMIFS($B35:$AI35, $B$6:$AI$6, AU$6) -> 0 | AV35: =SUMIFS($B35:$AI35, $B$6:$AI$6, AV$6) -> 0 | AW35: =SUMIFS($B35:$AI35, $B$6:$AI$6, AW$6) -> 0
B36: {=INDEX($B$4:$AI$4, 1, AN36)} -> FQ3'26E | C36: =IF($AM36>C$5,0,IF($AM36=C$5,IFERROR($AJ36/$AK36*$AL36, 0),IF(IFERROR((SUM($B36:B36)+$AJ36/$AK36*(1-$AL36)),0)>=$AJ36, $AJ36-SUM($B36:B36), IFERROR($AJ36/$AK36, 0)))) -> 0 | D36: =IF($AM36>D$5,0,IF($AM36=D$5,IFERROR($AJ36/$AK36*$AL36, 0),IF(IFERROR((SUM($B36:C36)+$AJ36/$AK36*(1-$AL36)),0)>=$AJ36, $AJ36-SUM($B36:C36), IFERROR($AJ36/$AK36, 0)))) -> 0 | E36: =IF($AM36>E$5,0,IF($AM36=E$5,IFERROR($AJ36/$AK36*$AL36, 0),IF(IFERROR((SUM($B36:D36)+$AJ36/$AK36*(1-$AL36)),0)>=$AJ36, $AJ36-SUM($B36:D36), IFERROR($AJ36/$AK36, 0)))) -> 0.5 | F36: =IF($AM36>F$5,0,IF($AM36=F$5,IFERROR($AJ36/$AK36*$AL36, 0),IF(IFERROR((SUM($B36:E36)+$AJ36/$AK36*(1-$AL36)),0)>=$AJ36, $AJ36-SUM($B36:E36), IFERROR($AJ36/$AK36, 0)))) -> 1 | G36: =IF($AM36>G$5,0,IF($AM36=G$5,IFERROR($AJ36/$AK36*$AL36, 0),IF(IFERROR((SUM($B36:F36)+$AJ36/$AK36*(1-$AL36)),0)>=$AJ36, $AJ36-SUM($B36:F36), IFERROR($AJ36/$AK36, 0)))) -> 0.5 | H36: =IF($AM36>H$5,0,IF($AM36=H$5,IFERROR($AJ36/$AK36*$AL36, 0),IF(IFERROR((SUM($B36:G36)+$AJ36/$AK36*(1-$AL36)),0)>=$AJ36, $AJ36-SUM($B36:G36), IFERROR($AJ36/$AK36, 0)))) -> 0 | I36: =IF($AM36>I$5,0,IF($AM36=I$5,IFERROR($AJ36/$AK36*$AL36, 0),IF(IFERROR((SUM($B36:H36)+$AJ36/$AK36*(1-$AL36)),0)>=$AJ36, $AJ36-SUM($B36:H36), IFERROR($AJ36/$AK36, 0)))) -> 0 | J36: =IF($AM36>J$5,0,IF($AM36=J$5,IFERROR($AJ36/$AK36*$AL36, 0),IF(IFERROR((SUM($B36:I36)+$AJ36/$AK36*(1-$AL36)),0)>=$AJ36, $AJ36-SUM($B36:I36), IFERROR($AJ36/$AK36, 0)))) -> 0 | ... AH36: =IF($AM36>AH$5,0,IF($AM36=AH$5,IFERROR($AJ36/$AK36*$AL36, 0),IF(IFERROR((SUM($B36:AG36)+$AJ36/$AK36*(1-$AL36)),0)>=$AJ36, $AJ36-SUM($B36:AG36), IFERROR($AJ36/$AK36, 0)))) -> 0 | AI36: Linearity refers to which month within the quarter that the | AJ36: {=INDEX(Calculations!$B$14:$AN$14, 1, AN36)} -> 2 | AK36: =INDEX(Drivers!$B$26:$AI$26, 1, MATCH($B36, Drivers!$B$4:$AI$4, 0)) -> 2 | AL36: =INDEX(Drivers!$B$27:$AI$27, 1, MATCH($B36, Drivers!$B$4:$AI$4, 0)) -> 0.5 | AM36: {=INDEX(Drivers!$B$12:$AI$12, 1, AN36)} -> 46295 | AN36: =AN35+1 -> 4 | AO36: =SUM(B36:AI36)-AJ36 -> 0 | AP36: =SUMIFS($B36:$AI36, $B$6:$AI$6, AP$6) -> 1.5 | AQ36: =SUMIFS($B36:$AI36, $B$6:$AI$6, AQ$6) -> 0.5 | AR36: =SUMIFS($B36:$AI36, $B$6:$AI$6, AR$6) -> 0 | AS36: =SUMIFS($B36:$AI36, $B$6:$AI$6, AS$6) -> 0 | AT36: =SUMIFS($B36:$AI36, $B$6:$AI$6, AT$6) -> 0 | AU36: =SUMIFS($B36:$AI36, $B$6:$AI$6, AU$6) -> 0 | AV36: =SUMIFS($B36:$AI36, $B$6:$AI$6, AV$6) -> 0 | AW36: =SUMIFS($B36:$AI36, $B$6:$AI$6, AW$6) -> 0
B37: {=INDEX($B$4:$AI$4, 1, AN37)} -> FQ4'26E | C37: =IF($AM37>C$5,0,IF($AM37=C$5,IFERROR($AJ37/$AK37*$AL37, 0),IF(IFERROR((SUM($B37:B37)+$AJ37/$AK37*(1-$AL37)),0)>=$AJ37, $AJ37-SUM($B37:B37), IFERROR($AJ37/$AK37, 0)))) -> 0 | D37: =IF($AM37>D$5,0,IF($AM37=D$5,IFERROR($AJ37/$AK37*$AL37, 0),IF(IFERROR((SUM($B37:C37)+$AJ37/$AK37*(1-$AL37)),0)>=$AJ37, $AJ37-SUM($B37:C37), IFERROR($AJ37/$AK37, 0)))) -> 0 | E37: =IF($AM37>E$5,0,IF($AM37=E$5,IFERROR($AJ37/$AK37*$AL37, 0),IF(IFERROR((SUM($B37:D37)+$AJ37/$AK37*(1-$AL37)),0)>=$AJ37, $AJ37-SUM($B37:D37), IFERROR($AJ37/$AK37, 0)))) -> 0 | F37: =IF($AM37>F$5,0,IF($AM37=F$5,IFERROR($AJ37/$AK37*$AL37, 0),IF(IFERROR((SUM($B37:E37)+$AJ37/$AK37*(1-$AL37)),0)>=$AJ37, $AJ37-SUM($B37:E37), IFERROR($AJ37/$AK37, 0)))) -> 0.5 | G37: =IF($AM37>G$5,0,IF($AM37=G$5,IFERROR($AJ37/$AK37*$AL37, 0),IF(IFERROR((SUM($B37:F37)+$AJ37/$AK37*(1-$AL37)),0)>=$AJ37, $AJ37-SUM($B37:F37), IFERROR($AJ37/$AK37, 0)))) -> 1 | H37: =IF($AM37>H$5,0,IF($AM37=H$5,IFERROR($AJ37/$AK37*$AL37, 0),IF(IFERROR((SUM($B37:G37)+$AJ37/$AK37*(1-$AL37)),0)>=$AJ37, $AJ37-SUM($B37:G37), IFERROR($AJ37/$AK37, 0)))) -> 0.5 | I37: =IF($AM37>I$5,0,IF($AM37=I$5,IFERROR($AJ37/$AK37*$AL37, 0),IF(IFERROR((SUM($B37:H37)+$AJ37/$AK37*(1-$AL37)),0)>=$AJ37, $AJ37-SUM($B37:H37), IFERROR($AJ37/$AK37, 0)))) -> 0 | J37: =IF($AM37>J$5,0,IF($AM37=J$5,IFERROR($AJ37/$AK37*$AL37, 0),IF(IFERROR((SUM($B37:I37)+$AJ37/$AK37*(1-$AL37)),0)>=$AJ37, $AJ37-SUM($B37:I37), IFERROR($AJ37/$AK37, 0)))) -> 0 | ... AH37: =IF($AM37>AH$5,0,IF($AM37=AH$5,IFERROR($AJ37/$AK37*$AL37, 0),IF(IFERROR((SUM($B37:AG37)+$AJ37/$AK37*(1-$AL37)),0)>=$AJ37, $AJ37-SUM($B37:AG37), IFERROR($AJ37/$AK37, 0)))) -> 0 | AI37: calculation begins. | AJ37: {=INDEX(Calculations!$B$14:$AN$14, 1, AN37)} -> 2 | AK37: =INDEX(Drivers!$B$26:$AI$26, 1, MATCH($B37, Drivers!$B$4:$AI$4, 0)) -> 2 | AL37: =INDEX(Drivers!$B$27:$AI$27, 1, MATCH($B37, Drivers!$B$4:$AI$4, 0)) -> 0.5 | AM37: {=INDEX(Drivers!$B$12:$AI$12, 1, AN37)} -> 46387 | AN37: =AN36+1 -> 5 | AO37: =SUM(B37:AI37)-AJ37 -> 0 | AP37: =SUMIFS($B37:$AI37, $B$6:$AI$6, AP$6) -> 0.5 | AQ37: =SUMIFS($B37:$AI37, $B$6:$AI$6, AQ$6) -> 1.5 | AR37: =SUMIFS($B37:$AI37, $B$6:$AI$6, AR$6) -> 0 | AS37: =SUMIFS($B37:$AI37, $B$6:$AI$6, AS$6) -> 0 | AT37: =SUMIFS($B37:$AI37, $B$6:$AI$6, AT$6) -> 0 | AU37: =SUMIFS($B37:$AI37, $B$6:$AI$6, AU$6) -> 0 | AV37: =SUMIFS($B37:$AI37, $B$6:$AI$6, AV$6) -> 0 | AW37: =SUMIFS($B37:$AI37, $B$6:$AI$6, AW$6) -> 0
B38: {=INDEX($B$4:$AI$4, 1, AN38)} -> FQ1'27E | C38: =IF($AM38>C$5,0,IF($AM38=C$5,IFERROR($AJ38/$AK38*$AL38, 0),IF(IFERROR((SUM($B38:B38)+$AJ38/$AK38*(1-$AL38)),0)>=$AJ38, $AJ38-SUM($B38:B38), IFERROR($AJ38/$AK38, 0)))) -> 0 | D38: =IF($AM38>D$5,0,IF($AM38=D$5,IFERROR($AJ38/$AK38*$AL38, 0),IF(IFERROR((SUM($B38:C38)+$AJ38/$AK38*(1-$AL38)),0)>=$AJ38, $AJ38-SUM($B38:C38), IFERROR($AJ38/$AK38, 0)))) -> 0 | E38: =IF($AM38>E$5,0,IF($AM38=E$5,IFERROR($AJ38/$AK38*$AL38, 0),IF(IFERROR((SUM($B38:D38)+$AJ38/$AK38*(1-$AL38)),0)>=$AJ38, $AJ38-SUM($B38:D38), IFERROR($AJ38/$AK38, 0)))) -> 0 | F38: =IF($AM38>F$5,0,IF($AM38=F$5,IFERROR($AJ38/$AK38*$AL38, 0),IF(IFERROR((SUM($B38:E38)+$AJ38/$AK38*(1-$AL38)),0)>=$AJ38, $AJ38-SUM($B38:E38), IFERROR($AJ38/$AK38, 0)))) -> 0 | G38: =IF($AM38>G$5,0,IF($AM38=G$5,IFERROR($AJ38/$AK38*$AL38, 0),IF(IFERROR((SUM($B38:F38)+$AJ38/$AK38*(1-$AL38)),0)>=$AJ38, $AJ38-SUM($B38:F38), IFERROR($AJ38/$AK38, 0)))) -> 0.5 | H38: =IF($AM38>H$5,0,IF($AM38=H$5,IFERROR($AJ38/$AK38*$AL38, 0),IF(IFERROR((SUM($B38:G38)+$AJ38/$AK38*(1-$AL38)),0)>=$AJ38, $AJ38-SUM($B38:G38), IFERROR($AJ38/$AK38, 0)))) -> 1 | I38: =IF($AM38>I$5,0,IF($AM38=I$5,IFERROR($AJ38/$AK38*$AL38, 0),IF(IFERROR((SUM($B38:H38)+$AJ38/$AK38*(1-$AL38)),0)>=$AJ38, $AJ38-SUM($B38:H38), IFERROR($AJ38/$AK38, 0)))) -> 0.5 | J38: =IF($AM38>J$5,0,IF($AM38=J$5,IFERROR($AJ38/$AK38*$AL38, 0),IF(IFERROR((SUM($B38:I38)+$AJ38/$AK38*(1-$AL38)),0)>=$AJ38, $AJ38-SUM($B38:I38), IFERROR($AJ38/$AK38, 0)))) -> 0 | ... AH38: =IF($AM38>AH$5,0,IF($AM38=AH$5,IFERROR($AJ38/$AK38*$AL38, 0),IF(IFERROR((SUM($B38:AG38)+$AJ38/$AK38*(1-$AL38)),0)>=$AJ38, $AJ38-SUM($B38:AG38), IFERROR($AJ38/$AK38, 0)))) -> 0 | AJ38: {=INDEX(Calculations!$B$14:$AN$14, 1, AN38)} -> 2 | AK38: =INDEX(Drivers!$B$26:$AI$26, 1, MATCH($B38, Drivers!$B$4:$AI$4, 0)) -> 2 | AL38: =INDEX(Drivers!$B$27:$AI$27, 1, MATCH($B38, Drivers!$B$4:$AI$4, 0)) -> 0.5 | AM38: {=INDEX(Drivers!$B$12:$AI$12, 1, AN38)} -> 46477 | AN38: =AN37+1 -> 6 | AO38: =SUM(B38:AI38)-AJ38 -> 0 | AP38: =SUMIFS($B38:$AI38, $B$6:$AI$6, AP$6) -> 0 | AQ38: =SUMIFS($B38:$AI38, $B$6:$AI$6, AQ$6) -> 2 | AR38: =SUMIFS($B38:$AI38, $B$6:$AI$6, AR$6) -> 0 | AS38: =SUMIFS($B38:$AI38, $B$6:$AI$6, AS$6) -> 0 | AT38: =SUMIFS($B38:$AI38, $B$6:$AI$6, AT$6) -> 0 | AU38: =SUMIFS($B38:$AI38, $B$6:$AI$6, AU$6) -> 0 | AV38: =SUMIFS($B38:$AI38, $B$6:$AI$6, AV$6) -> 0 | AW38: =SUMIFS($B38:$AI38, $B$6:$AI$6, AW$6) -> 0
B39: {=INDEX($B$4:$AI$4, 1, AN39)} -> FQ2'27E | C39: =IF($AM39>C$5,0,IF($AM39=C$5,IFERROR($AJ39/$AK39*$AL39, 0),IF(IFERROR((SUM($B39:B39)+$AJ39/$AK39*(1-$AL39)),0)>=$AJ39, $AJ39-SUM($B39:B39), IFERROR($AJ39/$AK39, 0)))) -> 0 | D39: =IF($AM39>D$5,0,IF($AM39=D$5,IFERROR($AJ39/$AK39*$AL39, 0),IF(IFERROR((SUM($B39:C39)+$AJ39/$AK39*(1-$AL39)),0)>=$AJ39, $AJ39-SUM($B39:C39), IFERROR($AJ39/$AK39, 0)))) -> 0 | E39: =IF($AM39>E$5,0,IF($AM39=E$5,IFERROR($AJ39/$AK39*$AL39, 0),IF(IFERROR((SUM($B39:D39)+$AJ39/$AK39*(1-$AL39)),0)>=$AJ39, $AJ39-SUM($B39:D39), IFERROR($AJ39/$AK39, 0)))) -> 0 | F39: =IF($AM39>F$5,0,IF($AM39=F$5,IFERROR($AJ39/$AK39*$AL39, 0),IF(IFERROR((SUM($B39:E39)+$AJ39/$AK39*(1-$AL39)),0)>=$AJ39, $AJ39-SUM($B39:E39), IFERROR($AJ39/$AK39, 0)))) -> 0 | G39: =IF($AM39>G$5,0,IF($AM39=G$5,IFERROR($AJ39/$AK39*$AL39, 0),IF(IFERROR((SUM($B39:F39)+$AJ39/$AK39*(1-$AL39)),0)>=$AJ39, $AJ39-SUM($B39:F39), IFERROR($AJ39/$AK39, 0)))) -> 0 | H39: =IF($AM39>H$5,0,IF($AM39=H$5,IFERROR($AJ39/$AK39*$AL39, 0),IF(IFERROR((SUM($B39:G39)+$AJ39/$AK39*(1-$AL39)),0)>=$AJ39, $AJ39-SUM($B39:G39), IFERROR($AJ39/$AK39, 0)))) -> 0.5 | I39: =IF($AM39>I$5,0,IF($AM39=I$5,IFERROR($AJ39/$AK39*$AL39, 0),IF(IFERROR((SUM($B39:H39)+$AJ39/$AK39*(1-$AL39)),0)>=$AJ39, $AJ39-SUM($B39:H39), IFERROR($AJ39/$AK39, 0)))) -> 1 | J39: =IF($AM39>J$5,0,IF($AM39=J$5,IFERROR($AJ39/$AK39*$AL39, 0),IF(IFERROR((SUM($B39:I39)+$AJ39/$AK39*(1-$AL39)),0)>=$AJ39, $AJ39-SUM($B39:I39), IFERROR($AJ39/$AK39, 0)))) -> 0.5 | ... AH39: =IF($AM39>AH$5,0,IF($AM39=AH$5,IFERROR($AJ39/$AK39*$AL39, 0),IF(IFERROR((SUM($B39:AG39)+$AJ39/$AK39*(1-$AL39)),0)>=$AJ39, $AJ39-SUM($B39:AG39), IFERROR($AJ39/$AK39, 0)))) -> 0 | AJ39: {=INDEX(Calculations!$B$14:$AN$14, 1, AN39)} -> 2 | AK39: =INDEX(Drivers!$B$26:$AI$26, 1, MATCH($B39, Drivers!$B$4:$AI$4, 0)) -> 2 | AL39: =INDEX(Drivers!$B$27:$AI$27, 1, MATCH($B39, Drivers!$B$4:$AI$4, 0)) -> 0.5 | AM39: {=INDEX(Drivers!$B$12:$AI$12, 1, AN39)} -> 46568 | AN39: =AN38+1 -> 7 | AO39: =SUM(B39:AI39)-AJ39 -> 0 | AP39: =SUMIFS($B39:$AI39, $B$6:$AI$6, AP$6) -> 0 | AQ39: =SUMIFS($B39:$AI39, $B$6:$AI$6, AQ$6) -> 2 | AR39: =SUMIFS($B39:$AI39, $B$6:$AI$6, AR$6) -> 0 | AS39: =SUMIFS($B39:$AI39, $B$6:$AI$6, AS$6) -> 0 | AT39: =SUMIFS($B39:$AI39, $B$6:$AI$6, AT$6) -> 0 | AU39: =SUMIFS($B39:$AI39, $B$6:$AI$6, AU$6) -> 0 | AV39: =SUMIFS($B39:$AI39, $B$6:$AI$6, AV$6) -> 0 | AW39: =SUMIFS($B39:$AI39, $B$6:$AI$6, AW$6) -> 0
B40: {=INDEX($B$4:$AI$4, 1, AN40)} -> FQ3'27E | C40: =IF($AM40>C$5,0,IF($AM40=C$5,IFERROR($AJ40/$AK40*$AL40, 0),IF(IFERROR((SUM($B40:B40)+$AJ40/$AK40*(1-$AL40)),0)>=$AJ40, $AJ40-SUM($B40:B40), IFERROR($AJ40/$AK40, 0)))) -> 0 | D40: =IF($AM40>D$5,0,IF($AM40=D$5,IFERROR($AJ40/$AK40*$AL40, 0),IF(IFERROR((SUM($B40:C40)+$AJ40/$AK40*(1-$AL40)),0)>=$AJ40, $AJ40-SUM($B40:C40), IFERROR($AJ40/$AK40, 0)))) -> 0 | E40: =IF($AM40>E$5,0,IF($AM40=E$5,IFERROR($AJ40/$AK40*$AL40, 0),IF(IFERROR((SUM($B40:D40)+$AJ40/$AK40*(1-$AL40)),0)>=$AJ40, $AJ40-SUM($B40:D40), IFERROR($AJ40/$AK40, 0)))) -> 0 | F40: =IF($AM40>F$5,0,IF($AM40=F$5,IFERROR($AJ40/$AK40*$AL40, 0),IF(IFERROR((SUM($B40:E40)+$AJ40/$AK40*(1-$AL40)),0)>=$AJ40, $AJ40-SUM($B40:E40), IFERROR($AJ40/$AK40, 0)))) -> 0 | G40: =IF($AM40>G$5,0,IF($AM40=G$5,IFERROR($AJ40/$AK40*$AL40, 0),IF(IFERROR((SUM($B40:F40)+$AJ40/$AK40*(1-$AL40)),0)>=$AJ40, $AJ40-SUM($B40:F40), IFERROR($AJ40/$AK40, 0)))) -> 0 | H40: =IF($AM40>H$5,0,IF($AM40=H$5,IFERROR($AJ40/$AK40*$AL40, 0),IF(IFERROR((SUM($B40:G40)+$AJ40/$AK40*(1-$AL40)),0)>=$AJ40, $AJ40-SUM($B40:G40), IFERROR($AJ40/$AK40, 0)))) -> 0 | I40: =IF($AM40>I$5,0,IF($AM40=I$5,IFERROR($AJ40/$AK40*$AL40, 0),IF(IFERROR((SUM($B40:H40)+$AJ40/$AK40*(1-$AL40)),0)>=$AJ40, $AJ40-SUM($B40:H40), IFERROR($AJ40/$AK40, 0)))) -> 0.5 | J40: =IF($AM40>J$5,0,IF($AM40=J$5,IFERROR($AJ40/$AK40*$AL40, 0),IF(IFERROR((SUM($B40:I40)+$AJ40/$AK40*(1-$AL40)),0)>=$AJ40, $AJ40-SUM($B40:I40), IFERROR($AJ40/$AK40, 0)))) -> 1 | ... AH40: =IF($AM40>AH$5,0,IF($AM40=AH$5,IFERROR($AJ40/$AK40*$AL40, 0),IF(IFERROR((SUM($B40:AG40)+$AJ40/$AK40*(1-$AL40)),0)>=$AJ40, $AJ40-SUM($B40:AG40), IFERROR($AJ40/$AK40, 0)))) -> 0 | AJ40: {=INDEX(Calculations!$B$14:$AN$14, 1, AN40)} -> 2 | AK40: =INDEX(Drivers!$B$26:$AI$26, 1, MATCH($B40, Drivers!$B$4:$AI$4, 0)) -> 2 | AL40: =INDEX(Drivers!$B$27:$AI$27, 1, MATCH($B40, Drivers!$B$4:$AI$4, 0)) -> 0.5 | AM40: {=INDEX(Drivers!$B$12:$AI$12, 1, AN40)} -> 46660 | AN40: =AN39+1 -> 8 | AO40: =SUM(B40:AI40)-AJ40 -> 0 | AP40: =SUMIFS($B40:$AI40, $B$6:$AI$6, AP$6) -> 0 | AQ40: =SUMIFS($B40:$AI40, $B$6:$AI$6, AQ$6) -> 1.5 | AR40: =SUMIFS($B40:$AI40, $B$6:$AI$6, AR$6) -> 0.5 | AS40: =SUMIFS($B40:$AI40, $B$6:$AI$6, AS$6) -> 0 | AT40: =SUMIFS($B40:$AI40, $B$6:$AI$6, AT$6) -> 0 | AU40: =SUMIFS($B40:$AI40, $B$6:$AI$6, AU$6) -> 0 | AV40: =SUMIFS($B40:$AI40, $B$6:$AI$6, AV$6) -> 0 | AW40: =SUMIFS($B40:$AI40, $B$6:$AI$6, AW$6) -> 0
B41: {=INDEX($B$4:$AI$4, 1, AN41)} -> FQ4'27E | C41: =IF($AM41>C$5,0,IF($AM41=C$5,IFERROR($AJ41/$AK41*$AL41, 0),IF(IFERROR((SUM($B41:B41)+$AJ41/$AK41*(1-$AL41)),0)>=$AJ41, $AJ41-SUM($B41:B41), IFERROR($AJ41/$AK41, 0)))) -> 0 | D41: =IF($AM41>D$5,0,IF($AM41=D$5,IFERROR($AJ41/$AK41*$AL41, 0),IF(IFERROR((SUM($B41:C41)+$AJ41/$AK41*(1-$AL41)),0)>=$AJ41, $AJ41-SUM($B41:C41), IFERROR($AJ41/$AK41, 0)))) -> 0 | E41: =IF($AM41>E$5,0,IF($AM41=E$5,IFERROR($AJ41/$AK41*$AL41, 0),IF(IFERROR((SUM($B41:D41)+$AJ41/$AK41*(1-$AL41)),0)>=$AJ41, $AJ41-SUM($B41:D41), IFERROR($AJ41/$AK41, 0)))) -> 0 | F41: =IF($AM41>F$5,0,IF($AM41=F$5,IFERROR($AJ41/$AK41*$AL41, 0),IF(IFERROR((SUM($B41:E41)+$AJ41/$AK41*(1-$AL41)),0)>=$AJ41, $AJ41-SUM($B41:E41), IFERROR($AJ41/$AK41, 0)))) -> 0 | G41: =IF($AM41>G$5,0,IF($AM41=G$5,IFERROR($AJ41/$AK41*$AL41, 0),IF(IFERROR((SUM($B41:F41)+$AJ41/$AK41*(1-$AL41)),0)>=$AJ41, $AJ41-SUM($B41:F41), IFERROR($AJ41/$AK41, 0)))) -> 0 | H41: =IF($AM41>H$5,0,IF($AM41=H$5,IFERROR($AJ41/$AK41*$AL41, 0),IF(IFERROR((SUM($B41:G41)+$AJ41/$AK41*(1-$AL41)),0)>=$AJ41, $AJ41-SUM($B41:G41), IFERROR($AJ41/$AK41, 0)))) -> 0 | I41: =IF($AM41>I$5,0,IF($AM41=I$5,IFERROR($AJ41/$AK41*$AL41, 0),IF(IFERROR((SUM($B41:H41)+$AJ41/$AK41*(1-$AL41)),0)>=$AJ41, $AJ41-SUM($B41:H41), IFERROR($AJ41/$AK41, 0)))) -> 0 | J41: =IF($AM41>J$5,0,IF($AM41=J$5,IFERROR($AJ41/$AK41*$AL41, 0),IF(IFERROR((SUM($B41:I41)+$AJ41/$AK41*(1-$AL41)),0)>=$AJ41, $AJ41-SUM($B41:I41), IFERROR($AJ41/$AK41, 0)))) -> 0.5 | ... AH41: =IF($AM41>AH$5,0,IF($AM41=AH$5,IFERROR($AJ41/$AK41*$AL41, 0),IF(IFERROR((SUM($B41:AG41)+$AJ41/$AK41*(1-$AL41)),0)>=$AJ41, $AJ41-SUM($B41:AG41), IFERROR($AJ41/$AK41, 0)))) -> 0 | AJ41: {=INDEX(Calculations!$B$14:$AN$14, 1, AN41)} -> 2 | AK41: =INDEX(Drivers!$B$26:$AI$26, 1, MATCH($B41, Drivers!$B$4:$AI$4, 0)) -> 2 | AL41: =INDEX(Drivers!$B$27:$AI$27, 1, MATCH($B41, Drivers!$B$4:$AI$4, 0)) -> 0.5 | AM41: {=INDEX(Drivers!$B$12:$AI$12, 1, AN41)} -> 46752 | AN41: =AN40+1 -> 9 | AO41: =SUM(B41:AI41)-AJ41 -> 0 | AP41: =SUMIFS($B41:$AI41, $B$6:$AI$6, AP$6) -> 0 | AQ41: =SUMIFS($B41:$AI41, $B$6:$AI$6, AQ$6) -> 0.5 | AR41: =SUMIFS($B41:$AI41, $B$6:$AI$6, AR$6) -> 1.5 | AS41: =SUMIFS($B41:$AI41, $B$6:$AI$6, AS$6) -> 0 | AT41: =SUMIFS($B41:$AI41, $B$6:$AI$6, AT$6) -> 0 | AU41: =SUMIFS($B41:$AI41, $B$6:$AI$6, AU$6) -> 0 | AV41: =SUMIFS($B41:$AI41, $B$6:$AI$6, AV$6) -> 0 | AW41: =SUMIFS($B41:$AI41, $B$6:$AI$6, AW$6) -> 0
B42: {=INDEX($B$4:$AI$4, 1, AN42)} -> FQ1'28E | C42: =IF($AM42>C$5,0,IF($AM42=C$5,IFERROR($AJ42/$AK42*$AL42, 0),IF(IFERROR((SUM($B42:B42)+$AJ42/$AK42*(1-$AL42)),0)>=$AJ42, $AJ42-SUM($B42:B42), IFERROR($AJ42/$AK42, 0)))) -> 0 | D42: =IF($AM42>D$5,0,IF($AM42=D$5,IFERROR($AJ42/$AK42*$AL42, 0),IF(IFERROR((SUM($B42:C42)+$AJ42/$AK42*(1-$AL42)),0)>=$AJ42, $AJ42-SUM($B42:C42), IFERROR($AJ42/$AK42, 0)))) -> 0 | E42: =IF($AM42>E$5,0,IF($AM42=E$5,IFERROR($AJ42/$AK42*$AL42, 0),IF(IFERROR((SUM($B42:D42)+$AJ42/$AK42*(1-$AL42)),0)>=$AJ42, $AJ42-SUM($B42:D42), IFERROR($AJ42/$AK42, 0)))) -> 0 | F42: =IF($AM42>F$5,0,IF($AM42=F$5,IFERROR($AJ42/$AK42*$AL42, 0),IF(IFERROR((SUM($B42:E42)+$AJ42/$AK42*(1-$AL42)),0)>=$AJ42, $AJ42-SUM($B42:E42), IFERROR($AJ42/$AK42, 0)))) -> 0 | G42: =IF($AM42>G$5,0,IF($AM42=G$5,IFERROR($AJ42/$AK42*$AL42, 0),IF(IFERROR((SUM($B42:F42)+$AJ42/$AK42*(1-$AL42)),0)>=$AJ42, $AJ42-SUM($B42:F42), IFERROR($AJ42/$AK42, 0)))) -> 0 | H42: =IF($AM42>H$5,0,IF($AM42=H$5,IFERROR($AJ42/$AK42*$AL42, 0),IF(IFERROR((SUM($B42:G42)+$AJ42/$AK42*(1-$AL42)),0)>=$AJ42, $AJ42-SUM($B42:G42), IFERROR($AJ42/$AK42, 0)))) -> 0 | I42: =IF($AM42>I$5,0,IF($AM42=I$5,IFERROR($AJ42/$AK42*$AL42, 0),IF(IFERROR((SUM($B42:H42)+$AJ42/$AK42*(1-$AL42)),0)>=$AJ42, $AJ42-SUM($B42:H42), IFERROR($AJ42/$AK42, 0)))) -> 0 | J42: =IF($AM42>J$5,0,IF($AM42=J$5,IFERROR($AJ42/$AK42*$AL42, 0),IF(IFERROR((SUM($B42:I42)+$AJ42/$AK42*(1-$AL42)),0)>=$AJ42, $AJ42-SUM($B42:I42), IFERROR($AJ42/$AK42, 0)))) -> 0 | ... AH42: =IF($AM42>AH$5,0,IF($AM42=AH$5,IFERROR($AJ42/$AK42*$AL42, 0),IF(IFERROR((SUM($B42:AG42)+$AJ42/$AK42*(1-$AL42)),0)>=$AJ42, $AJ42-SUM($B42:AG42), IFERROR($AJ42/$AK42, 0)))) -> 0 | AJ42: {=INDEX(Calculations!$B$14:$AN$14, 1, AN42)} -> 2 | AK42: =INDEX(Drivers!$B$26:$AI$26, 1, MATCH($B42, Drivers!$B$4:$AI$4, 0)) -> 2 | AL42: =INDEX(Drivers!$B$27:$AI$27, 1, MATCH($B42, Drivers!$B$4:$AI$4, 0)) -> 0.5 | AM42: {=INDEX(Drivers!$B$12:$AI$12, 1, AN42)} -> 46843 | AN42: =AN41+1 -> 10 | AO42: =SUM(B42:AI42)-AJ42 -> 0 | AP42: =SUMIFS($B42:$AI42, $B$6:$AI$6, AP$6) -> 0 | AQ42: =SUMIFS($B42:$AI42, $B$6:$AI$6, AQ$6) -> 0 | AR42: =SUMIFS($B42:$AI42, $B$6:$AI$6, AR$6) -> 2 | AS42: =SUMIFS($B42:$AI42, $B$6:$AI$6, AS$6) -> 0 | AT42: =SUMIFS($B42:$AI42, $B$6:$AI$6, AT$6) -> 0 | AU42: =SUMIFS($B42:$AI42, $B$6:$AI$6, AU$6) -> 0 | AV42: =SUMIFS($B42:$AI42, $B$6:$AI$6, AV$6) -> 0 | AW42: =SUMIFS($B42:$AI42, $B$6:$AI$6, AW$6) -> 0
B43: {=INDEX($B$4:$AI$4, 1, AN43)} -> FQ2'28E | C43: =IF($AM43>C$5,0,IF($AM43=C$5,IFERROR($AJ43/$AK43*$AL43, 0),IF(IFERROR((SUM($B43:B43)+$AJ43/$AK43*(1-$AL43)),0)>=$AJ43, $AJ43-SUM($B43:B43), IFERROR($AJ43/$AK43, 0)))) -> 0 | D43: =IF($AM43>D$5,0,IF($AM43=D$5,IFERROR($AJ43/$AK43*$AL43, 0),IF(IFERROR((SUM($B43:C43)+$AJ43/$AK43*(1-$AL43)),0)>=$AJ43, $AJ43-SUM($B43:C43), IFERROR($AJ43/$AK43, 0)))) -> 0 | E43: =IF($AM43>E$5,0,IF($AM43=E$5,IFERROR($AJ43/$AK43*$AL43, 0),IF(IFERROR((SUM($B43:D43)+$AJ43/$AK43*(1-$AL43)),0)>=$AJ43, $AJ43-SUM($B43:D43), IFERROR($AJ43/$AK43, 0)))) -> 0 | F43: =IF($AM43>F$5,0,IF($AM43=F$5,IFERROR($AJ43/$AK43*$AL43, 0),IF(IFERROR((SUM($B43:E43)+$AJ43/$AK43*(1-$AL43)),0)>=$AJ43, $AJ43-SUM($B43:E43), IFERROR($AJ43/$AK43, 0)))) -> 0 | G43: =IF($AM43>G$5,0,IF($AM43=G$5,IFERROR($AJ43/$AK43*$AL43, 0),IF(IFERROR((SUM($B43:F43)+$AJ43/$AK43*(1-$AL43)),0)>=$AJ43, $AJ43-SUM($B43:F43), IFERROR($AJ43/$AK43, 0)))) -> 0 | H43: =IF($AM43>H$5,0,IF($AM43=H$5,IFERROR($AJ43/$AK43*$AL43, 0),IF(IFERROR((SUM($B43:G43)+$AJ43/$AK43*(1-$AL43)),0)>=$AJ43, $AJ43-SUM($B43:G43), IFERROR($AJ43/$AK43, 0)))) -> 0 | I43: =IF($AM43>I$5,0,IF($AM43=I$5,IFERROR($AJ43/$AK43*$AL43, 0),IF(IFERROR((SUM($B43:H43)+$AJ43/$AK43*(1-$AL43)),0)>=$AJ43, $AJ43-SUM($B43:H43), IFERROR($AJ43/$AK43, 0)))) -> 0 | J43: =IF($AM43>J$5,0,IF($AM43=J$5,IFERROR($AJ43/$AK43*$AL43, 0),IF(IFERROR((SUM($B43:I43)+$AJ43/$AK43*(1-$AL43)),0)>=$AJ43, $AJ43-SUM($B43:I43), IFERROR($AJ43/$AK43, 0)))) -> 0 | ... AH43: =IF($AM43>AH$5,0,IF($AM43=AH$5,IFERROR($AJ43/$AK43*$AL43, 0),IF(IFERROR((SUM($B43:AG43)+$AJ43/$AK43*(1-$AL43)),0)>=$AJ43, $AJ43-SUM($B43:AG43), IFERROR($AJ43/$AK43, 0)))) -> 0 | AJ43: {=INDEX(Calculations!$B$14:$AN$14, 1, AN43)} -> 2 | AK43: =INDEX(Drivers!$B$26:$AI$26, 1, MATCH($B43, Drivers!$B$4:$AI$4, 0)) -> 2 | AL43: =INDEX(Drivers!$B$27:$AI$27, 1, MATCH($B43, Drivers!$B$4:$AI$4, 0)) -> 0.5 | AM43: {=INDEX(Drivers!$B$12:$AI$12, 1, AN43)} -> 46934 | AN43: =AN42+1 -> 11 | AO43: =SUM(B43:AI43)-AJ43 -> 0 | AP43: =SUMIFS($B43:$AI43, $B$6:$AI$6, AP$6) -> 0 | AQ43: =SUMIFS($B43:$AI43, $B$6:$AI$6, AQ$6) -> 0 | AR43: =SUMIFS($B43:$AI43, $B$6:$AI$6, AR$6) -> 2 | AS43: =SUMIFS($B43:$AI43, $B$6:$AI$6, AS$6) -> 0 | AT43: =SUMIFS($B43:$AI43, $B$6:$AI$6, AT$6) -> 0 | AU43: =SUMIFS($B43:$AI43, $B$6:$AI$6, AU$6) -> 0 | AV43: =SUMIFS($B43:$AI43, $B$6:$AI$6, AV$6) -> 0 | AW43: =SUMIFS($B43:$AI43, $B$6:$AI$6, AW$6) -> 0
B44: {=INDEX($B$4:$AI$4, 1, AN44)} -> FQ3'28E | C44: =IF($AM44>C$5,0,IF($AM44=C$5,IFERROR($AJ44/$AK44*$AL44, 0),IF(IFERROR((SUM($B44:B44)+$AJ44/$AK44*(1-$AL44)),0)>=$AJ44, $AJ44-SUM($B44:B44), IFERROR($AJ44/$AK44, 0)))) -> 0 | D44: =IF($AM44>D$5,0,IF($AM44=D$5,IFERROR($AJ44/$AK44*$AL44, 0),IF(IFERROR((SUM($B44:C44)+$AJ44/$AK44*(1-$AL44)),0)>=$AJ44, $AJ44-SUM($B44:C44), IFERROR($AJ44/$AK44, 0)))) -> 0 | E44: =IF($AM44>E$5,0,IF($AM44=E$5,IFERROR($AJ44/$AK44*$AL44, 0),IF(IFERROR((SUM($B44:D44)+$AJ44/$AK44*(1-$AL44)),0)>=$AJ44, $AJ44-SUM($B44:D44), IFERROR($AJ44/$AK44, 0)))) -> 0 | F44: =IF($AM44>F$5,0,IF($AM44=F$5,IFERROR($AJ44/$AK44*$AL44, 0),IF(IFERROR((SUM($B44:E44)+$AJ44/$AK44*(1-$AL44)),0)>=$AJ44, $AJ44-SUM($B44:E44), IFERROR($AJ44/$AK44, 0)))) -> 0 | G44: =IF($AM44>G$5,0,IF($AM44=G$5,IFERROR($AJ44/$AK44*$AL44, 0),IF(IFERROR((SUM($B44:F44)+$AJ44/$AK44*(1-$AL44)),0)>=$AJ44, $AJ44-SUM($B44:F44), IFERROR($AJ44/$AK44, 0)))) -> 0 | H44: =IF($AM44>H$5,0,IF($AM44=H$5,IFERROR($AJ44/$AK44*$AL44, 0),IF(IFERROR((SUM($B44:G44)+$AJ44/$AK44*(1-$AL44)),0)>=$AJ44, $AJ44-SUM($B44:G44), IFERROR($AJ44/$AK44, 0)))) -> 0 | I44: =IF($AM44>I$5,0,IF($AM44=I$5,IFERROR($AJ44/$AK44*$AL44, 0),IF(IFERROR((SUM($B44:H44)+$AJ44/$AK44*(1-$AL44)),0)>=$AJ44, $AJ44-SUM($B44:H44), IFERROR($AJ44/$AK44, 0)))) -> 0 | J44: =IF($AM44>J$5,0,IF($AM44=J$5,IFERROR($AJ44/$AK44*$AL44, 0),IF(IFERROR((SUM($B44:I44)+$AJ44/$AK44*(1-$AL44)),0)>=$AJ44, $AJ44-SUM($B44:I44), IFERROR($AJ44/$AK44, 0)))) -> 0 | ... AH44: =IF($AM44>AH$5,0,IF($AM44=AH$5,IFERROR($AJ44/$AK44*$AL44, 0),IF(IFERROR((SUM($B44:AG44)+$AJ44/$AK44*(1-$AL44)),0)>=$AJ44, $AJ44-SUM($B44:AG44), IFERROR($AJ44/$AK44, 0)))) -> 0 | AJ44: {=INDEX(Calculations!$B$14:$AN$14, 1, AN44)} -> 2 | AK44: =INDEX(Drivers!$B$26:$AI$26, 1, MATCH($B44, Drivers!$B$4:$AI$4, 0)) -> 2 | AL44: =INDEX(Drivers!$B$27:$AI$27, 1, MATCH($B44, Drivers!$B$4:$AI$4, 0)) -> 0.5 | AM44: {=INDEX(Drivers!$B$12:$AI$12, 1, AN44)} -> 47026 | AN44: =AN43+1 -> 12 | AO44: =SUM(B44:AI44)-AJ44 -> 0 | AP44: =SUMIFS($B44:$AI44, $B$6:$AI$6, AP$6) -> 0 | AQ44: =SUMIFS($B44:$AI44, $B$6:$AI$6, AQ$6) -> 0 | AR44: =SUMIFS($B44:$AI44, $B$6:$AI$6, AR$6) -> 1.5 | AS44: =SUMIFS($B44:$AI44, $B$6:$AI$6, AS$6) -> 0.5 | AT44: =SUMIFS($B44:$AI44, $B$6:$AI$6, AT$6) -> 0 | AU44: =SUMIFS($B44:$AI44, $B$6:$AI$6, AU$6) -> 0 | AV44: =SUMIFS($B44:$AI44, $B$6:$AI$6, AV$6) -> 0 | AW44: =SUMIFS($B44:$AI44, $B$6:$AI$6, AW$6) -> 0
B45: {=INDEX($B$4:$AI$4, 1, AN45)} -> FQ4'28E | C45: =IF($AM45>C$5,0,IF($AM45=C$5,IFERROR($AJ45/$AK45*$AL45, 0),IF(IFERROR((SUM($B45:B45)+$AJ45/$AK45*(1-$AL45)),0)>=$AJ45, $AJ45-SUM($B45:B45), IFERROR($AJ45/$AK45, 0)))) -> 0 | D45: =IF($AM45>D$5,0,IF($AM45=D$5,IFERROR($AJ45/$AK45*$AL45, 0),IF(IFERROR((SUM($B45:C45)+$AJ45/$AK45*(1-$AL45)),0)>=$AJ45, $AJ45-SUM($B45:C45), IFERROR($AJ45/$AK45, 0)))) -> 0 | E45: =IF($AM45>E$5,0,IF($AM45=E$5,IFERROR($AJ45/$AK45*$AL45, 0),IF(IFERROR((SUM($B45:D45)+$AJ45/$AK45*(1-$AL45)),0)>=$AJ45, $AJ45-SUM($B45:D45), IFERROR($AJ45/$AK45, 0)))) -> 0 | F45: =IF($AM45>F$5,0,IF($AM45=F$5,IFERROR($AJ45/$AK45*$AL45, 0),IF(IFERROR((SUM($B45:E45)+$AJ45/$AK45*(1-$AL45)),0)>=$AJ45, $AJ45-SUM($B45:E45), IFERROR($AJ45/$AK45, 0)))) -> 0 | G45: =IF($AM45>G$5,0,IF($AM45=G$5,IFERROR($AJ45/$AK45*$AL45, 0),IF(IFERROR((SUM($B45:F45)+$AJ45/$AK45*(1-$AL45)),0)>=$AJ45, $AJ45-SUM($B45:F45), IFERROR($AJ45/$AK45, 0)))) -> 0 | H45: =IF($AM45>H$5,0,IF($AM45=H$5,IFERROR($AJ45/$AK45*$AL45, 0),IF(IFERROR((SUM($B45:G45)+$AJ45/$AK45*(1-$AL45)),0)>=$AJ45, $AJ45-SUM($B45:G45), IFERROR($AJ45/$AK45, 0)))) -> 0 | I45: =IF($AM45>I$5,0,IF($AM45=I$5,IFERROR($AJ45/$AK45*$AL45, 0),IF(IFERROR((SUM($B45:H45)+$AJ45/$AK45*(1-$AL45)),0)>=$AJ45, $AJ45-SUM($B45:H45), IFERROR($AJ45/$AK45, 0)))) -> 0 | J45: =IF($AM45>J$5,0,IF($AM45=J$5,IFERROR($AJ45/$AK45*$AL45, 0),IF(IFERROR((SUM($B45:I45)+$AJ45/$AK45*(1-$AL45)),0)>=$AJ45, $AJ45-SUM($B45:I45), IFERROR($AJ45/$AK45, 0)))) -> 0 | ... AH45: =IF($AM45>AH$5,0,IF($AM45=AH$5,IFERROR($AJ45/$AK45*$AL45, 0),IF(IFERROR((SUM($B45:AG45)+$AJ45/$AK45*(1-$AL45)),0)>=$AJ45, $AJ45-SUM($B45:AG45), IFERROR($AJ45/$AK45, 0)))) -> 0 | AJ45: {=INDEX(Calculations!$B$14:$AN$14, 1, AN45)} -> 2 | AK45: =INDEX(Drivers!$B$26:$AI$26, 1, MATCH($B45, Drivers!$B$4:$AI$4, 0)) -> 2 | AL45: =INDEX(Drivers!$B$27:$AI$27, 1, MATCH($B45, Drivers!$B$4:$AI$4, 0)) -> 0.5 | AM45: {=INDEX(Drivers!$B$12:$AI$12, 1, AN45)} -> 47118 | AN45: =AN44+1 -> 13 | AO45: =SUM(B45:AI45)-AJ45 -> 0 | AP45: =SUMIFS($B45:$AI45, $B$6:$AI$6, AP$6) -> 0 | AQ45: =SUMIFS($B45:$AI45, $B$6:$AI$6, AQ$6) -> 0 | AR45: =SUMIFS($B45:$AI45, $B$6:$AI$6, AR$6) -> 0.5 | AS45: =SUMIFS($B45:$AI45, $B$6:$AI$6, AS$6) -> 1.5 | AT45: =SUMIFS($B45:$AI45, $B$6:$AI$6, AT$6) -> 0 | AU45: =SUMIFS($B45:$AI45, $B$6:$AI$6, AU$6) -> 0 | AV45: =SUMIFS($B45:$AI45, $B$6:$AI$6, AV$6) -> 0 | AW45: =SUMIFS($B45:$AI45, $B$6:$AI$6, AW$6) -> 0
B46: {=INDEX($B$4:$AI$4, 1, AN46)} -> FQ1'29E | C46: =IF($AM46>C$5,0,IF($AM46=C$5,IFERROR($AJ46/$AK46*$AL46, 0),IF(IFERROR((SUM($B46:B46)+$AJ46/$AK46*(1-$AL46)),0)>=$AJ46, $AJ46-SUM($B46:B46), IFERROR($AJ46/$AK46, 0)))) -> 0 | D46: =IF($AM46>D$5,0,IF($AM46=D$5,IFERROR($AJ46/$AK46*$AL46, 0),IF(IFERROR((SUM($B46:C46)+$AJ46/$AK46*(1-$AL46)),0)>=$AJ46, $AJ46-SUM($B46:C46), IFERROR($AJ46/$AK46, 0)))) -> 0 | E46: =IF($AM46>E$5,0,IF($AM46=E$5,IFERROR($AJ46/$AK46*$AL46, 0),IF(IFERROR((SUM($B46:D46)+$AJ46/$AK46*(1-$AL46)),0)>=$AJ46, $AJ46-SUM($B46:D46), IFERROR($AJ46/$AK46, 0)))) -> 0 | F46: =IF($AM46>F$5,0,IF($AM46=F$5,IFERROR($AJ46/$AK46*$AL46, 0),IF(IFERROR((SUM($B46:E46)+$AJ46/$AK46*(1-$AL46)),0)>=$AJ46, $AJ46-SUM($B46:E46), IFERROR($AJ46/$AK46, 0)))) -> 0 | G46: =IF($AM46>G$5,0,IF($AM46=G$5,IFERROR($AJ46/$AK46*$AL46, 0),IF(IFERROR((SUM($B46:F46)+$AJ46/$AK46*(1-$AL46)),0)>=$AJ46, $AJ46-SUM($B46:F46), IFERROR($AJ46/$AK46, 0)))) -> 0 | H46: =IF($AM46>H$5,0,IF($AM46=H$5,IFERROR($AJ46/$AK46*$AL46, 0),IF(IFERROR((SUM($B46:G46)+$AJ46/$AK46*(1-$AL46)),0)>=$AJ46, $AJ46-SUM($B46:G46), IFERROR($AJ46/$AK46, 0)))) -> 0 | I46: =IF($AM46>I$5,0,IF($AM46=I$5,IFERROR($AJ46/$AK46*$AL46, 0),IF(IFERROR((SUM($B46:H46)+$AJ46/$AK46*(1-$AL46)),0)>=$AJ46, $AJ46-SUM($B46:H46), IFERROR($AJ46/$AK46, 0)))) -> 0 | J46: =IF($AM46>J$5,0,IF($AM46=J$5,IFERROR($AJ46/$AK46*$AL46, 0),IF(IFERROR((SUM($B46:I46)+$AJ46/$AK46*(1-$AL46)),0)>=$AJ46, $AJ46-SUM($B46:I46), IFERROR($AJ46/$AK46, 0)))) -> 0 | ... AH46: =IF($AM46>AH$5,0,IF($AM46=AH$5,IFERROR($AJ46/$AK46*$AL46, 0),IF(IFERROR((SUM($B46:AG46)+$AJ46/$AK46*(1-$AL46)),0)>=$AJ46, $AJ46-SUM($B46:AG46), IFERROR($AJ46/$AK46, 0)))) -> 0 | AJ46: {=INDEX(Calculations!$B$14:$AN$14, 1, AN46)} -> 1 | AK46: =INDEX(Drivers!$B$26:$AI$26, 1, MATCH($B46, Drivers!$B$4:$AI$4, 0)) -> 2 | AL46: =INDEX(Drivers!$B$27:$AI$27, 1, MATCH($B46, Drivers!$B$4:$AI$4, 0)) -> 0.5 | AM46: {=INDEX(Drivers!$B$12:$AI$12, 1, AN46)} -> 47208 | AN46: =AN45+1 -> 14 | AO46: =SUM(B46:AI46)-AJ46 -> 0 | AP46: =SUMIFS($B46:$AI46, $B$6:$AI$6, AP$6) -> 0 | AQ46: =SUMIFS($B46:$AI46, $B$6:$AI$6, AQ$6) -> 0 | AR46: =SUMIFS($B46:$AI46, $B$6:$AI$6, AR$6) -> 0 | AS46: =SUMIFS($B46:$AI46, $B$6:$AI$6, AS$6) -> 1 | AT46: =SUMIFS($B46:$AI46, $B$6:$AI$6, AT$6) -> 0 | AU46: =SUMIFS($B46:$AI46, $B$6:$AI$6, AU$6) -> 0 | AV46: =SUMIFS($B46:$AI46, $B$6:$AI$6, AV$6) -> 0 | AW46: =SUMIFS($B46:$AI46, $B$6:$AI$6, AW$6) -> 0
...

Sheet Presentation >
A1: z

Sheet IS
A1: =Drivers!$A$1 -> XYZ Company
B2: Income Statement ($ in 000's)
B4: Fiscal year | C4: =Drivers!C14 -> FY26E | D4: =Drivers!D14 -> FY26E | E4: =Drivers!E14 -> FY26E | F4: =Drivers!F14 -> FY26E | G4: =Drivers!G14 -> FY27E | H4: =Drivers!H14 -> FY27E | I4: =Drivers!I14 -> FY27E | J4: =Drivers!J14 -> FY27E | ... V4: =Drivers!V14 -> FY30E | X4: =F4 -> FY26E | Y4: =J4 -> FY27E | Z4: =N4 -> FY28E | AA4: =R4 -> FY29E | AB4: =V4 -> FY30E
C5: =Drivers!C15 -> FQ1'26E | D5: =Drivers!D15 -> FQ2'26E | E5: =Drivers!E15 -> FQ3'26E | F5: =Drivers!F15 -> FQ4'26E | G5: =Drivers!G15 -> FQ1'27E | H5: =Drivers!H15 -> FQ2'27E | I5: =Drivers!I15 -> FQ3'27E | J5: =Drivers!J15 -> FQ4'27E | ... V5: =Drivers!V15 -> FQ4'30E | X5: =X4 -> FY26E | Y5: =Y4 -> FY27E | Z5: =Z4 -> FY28E | AA5: =AA4 -> FY29E | AB5: =AB4 -> FY30E
B7: Total revenue | C7: =Calculations!C631 -> 32.85 | D7: =Calculations!D631 -> 176.4 | E7: =Calculations!E631 -> 454.95 | F7: =Calculations!F631 -> 808.275 | G7: =Calculations!G631 -> 1193.052 | H7: =Calculations!H631 -> 1598.8485 | I7: =Calculations!I631 -> 2026.695 | J7: =Calculations!J631 -> 2475.2303 | ... V7: =Calculations!V631 -> 9855.1797 | X7: =SUMIFS($B7:$W7, $B$4:$W$4, X$4) -> 1472.475 | Y7: =SUMIFS($B7:$W7, $B$4:$W$4, Y$4) -> 7293.8257 | Z7: =SUMIFS($B7:$W7, $B$4:$W$4, Z$4) -> 14876.702 | AA7: =SUMIFS($B7:$W7, $B$4:$W$4, AA$4) -> 24195.844 | AB7: =SUMIFS($B7:$W7, $B$4:$W$4, AB$4) -> 35045.922
B8: Total cost of revenue | C8: =Calculations!C638 -> -14.5125 | D8: =Calculations!D638 -> -69.3 | E8: =Calculations!E638 -> -157.8375 | F8: =Calculations!F638 -> -253.51875 | G8: =Calculations!G638 -> -342.51408 | H8: =Calculations!H638 -> -442.10844 | I8: =Calculations!I638 -> -546.9948 | J8: =Calculations!J638 -> -656.84646 | ... V8: =Calculations!V638 -> -2154.4396 | X8: =SUMIFS($B8:$W8, $B$4:$W$4, X$4) -> -495.16875 | Y8: =SUMIFS($B8:$W8, $B$4:$W$4, Y$4) -> -1988.4638 | Z8: =SUMIFS($B8:$W8, $B$4:$W$4, Z$4) -> -3703.4234 | AA8: =SUMIFS($B8:$W8, $B$4:$W$4, AA$4) -> -5646.0961 | AB8: =SUMIFS($B8:$W8, $B$4:$W$4, AB$4) -> -7699.0511
B9: Gross profit, non-GAAP | C9: =C7+C8 -> 18.3375 | D9: =D7+D8 -> 107.1 | E9: =E7+E8 -> 297.1125 | F9: =F7+F8 -> 554.75625 | G9: =G7+G8 -> 850.53792 | H9: =H7+H8 -> 1156.7401 | I9: =I7+I8 -> 1479.7002 | J9: =J7+J8 -> 1818.3838 | ... V9: =V7+V8 -> 7700.7401 | X9: =X7+X8 -> 977.30625 | Y9: =Y7+Y8 -> 5305.362 | Z9: =Z7+Z8 -> 11173.279 | AA9: =AA7+AA8 -> 18549.748 | AB9: =AB7+AB8 -> 27346.871
B10: Gross margin %, non-GAAP | C10: =IFERROR(C9/C7, 0) -> 0.55821918 | D10: =IFERROR(D9/D7, 0) -> 0.60714286 | E10: =IFERROR(E9/E7, 0) -> 0.65306627 | F10: =IFERROR(F9/F7, 0) -> 0.68634592 | G10: =IFERROR(G9/G7, 0) -> 0.71290935 | H10: =IFERROR(H9/H7, 0) -> 0.72348322 | I10: =IFERROR(I9/I7, 0) -> 0.73010502 | J10: =IFERROR(J9/J7, 0) -> 0.73463218 | ... V10: =IFERROR(V9/V7, 0) -> 0.78139013 | X10: =IFERROR(X9/X7, 0) -> 0.6637167 | Y10: =IFERROR(Y9/Y7, 0) -> 0.72737712 | Z10: =IFERROR(Z9/Z7, 0) -> 0.75105884 | AA10: =IFERROR(AA9/AA7, 0) -> 0.76665017 | AB10: =IFERROR(AB9/AB7, 0) -> 0.78031535
B12: Operating expenses:
B14: Sales | C14: =Calculations!C645 -> -378.79348 | D14: =Calculations!D645 -> -816.76668 | E14: =Calculations!E645 -> -930.03063 | F14: =Calculations!F645 -> -1025.116 | G14: =Calculations!G645 -> -1126.6651 | H14: =Calculations!H645 -> -1204.5466 | I14: =Calculations!I645 -> -1305.6464 | J14: =Calculations!J645 -> -1362.426 | ... V14: =Calculations!V645 -> -1907.7287 | X14: =SUMIFS($B14:$W14, $B$4:$W$4, X$4) -> -3150.7068 | Y14: =SUMIFS($B14:$W14, $B$4:$W$4, Y$4) -> -4999.284 | Z14: =SUMIFS($B14:$W14, $B$4:$W$4, Z$4) -> -6102.5922 | AA14: =SUMIFS($B14:$W14, $B$4:$W$4, AA$4) -> -6918.1203 | AB14: =SUMIFS($B14:$W14, $B$4:$W$4, AB$4) -> -7467.5942
B15: Marketing | C15: =Calculations!C646 -> -1.6425 | D15: =Calculations!D646 -> -8.82 | E15: =Calculations!E646 -> -22.7475 | F15: =Calculations!F646 -> -40.41375 | G15: =Calculations!G646 -> -59.6526 | H15: =Calculations!H646 -> -79.942425 | I15: =Calculations!I646 -> -101.33475 | J15: =Calculations!J646 -> -123.76151 | ... V15: =Calculations!V646 -> -492.75899 | X15: =SUMIFS($B15:$W15, $B$4:$W$4, X$4) -> -73.62375 | Y15: =SUMIFS($B15:$W15, $B$4:$W$4, Y$4) -> -364.69129 | Z15: =SUMIFS($B15:$W15, $B$4:$W$4, Z$4) -> -743.83511 | AA15: =SUMIFS($B15:$W15, $B$4:$W$4, AA$4) -> -1209.7922 | AB15: =SUMIFS($B15:$W15, $B$4:$W$4, AB$4) -> -1752.2961
B16: R&D | C16: =Calculations!C647 -> -6.57 | D16: =Calculations!D647 -> -35.28 | E16: =Calculations!E647 -> -90.99 | F16: =Calculations!F647 -> -161.655 | G16: =Calculations!G647 -> -238.6104 | H16: =Calculations!H647 -> -319.7697 | I16: =Calculations!I647 -> -405.339 | J16: =Calculations!J647 -> -495.04605 | ... V16: =Calculations!V647 -> -1971.0359 | X16: =SUMIFS($B16:$W16, $B$4:$W$4, X$4) -> -294.495 | Y16: =SUMIFS($B16:$W16, $B$4:$W$4, Y$4) -> -1458.7652 | Z16: =SUMIFS($B16:$W16, $B$4:$W$4, Z$4) -> -2975.3404 | AA16: =SUMIFS($B16:$W16, $B$4:$W$4, AA$4) -> -4839.1687 | AB16: =SUMIFS($B16:$W16, $B$4:$W$4, AB$4) -> -7009.1845
B17: G&A | C17: =Calculations!C648 -> -1.6425 | D17: =Calculations!D648 -> -8.82 | E17: =Calculations!E648 -> -22.7475 | F17: =Calculations!F648 -> -40.41375 | G17: =Calculations!G648 -> -59.6526 | H17: =Calculations!H648 -> -79.942425 | I17: =Calculations!I648 -> -101.33475 | J17: =Calculations!J648 -> -123.76151 | ... V17: =Calculations!V648 -> -492.75899 | X17: =SUMIFS($B17:$W17, $B$4:$W$4, X$4) -> -73.62375 | Y17: =SUMIFS($B17:$W17, $B$4:$W$4, Y$4) -> -364.69129 | Z17: =SUMIFS($B17:$W17, $B$4:$W$4, Z$4) -> -743.83511 | AA17: =SUMIFS($B17:$W17, $B$4:$W$4, AA$4) -> -1209.7922 | AB17: =SUMIFS($B17:$W17, $B$4:$W$4, AB$4) -> -1752.2961
B19: Total operating expenses, non-GAAP | C19: =SUM(C13:C18) -> -388.64848 | D19: =SUM(D13:D18) -> -869.68668 | E19: =SUM(E13:E18) -> -1066.5156 | F19: =SUM(F13:F18) -> -1267.5985 | G19: =SUM(G13:G18) -> -1484.5807 | H19: =SUM(H13:H18) -> -1684.2011 | I19: =SUM(I13:I18) -> -1913.6549 | J19: =SUM(J13:J18) -> -2104.9951 | ... V19: =SUM(V13:V18) -> -4864.2826 | X19: =SUM(X13:X18) -> -3592.4493 | Y19: =SUM(Y13:Y18) -> -7187.4317 | Z19: =SUM(Z13:Z18) -> -10565.603 | AA19: =SUM(AA13:AA18) -> -14176.873 | AB19: =SUM(AB13:AB18) -> -17981.371
B21: Operating income (loss), non-GAAP | C21: =C9+C19 -> -370.31098 | D21: =D9+D19 -> -762.58668 | E21: =E9+E19 -> -769.40313 | F21: =F9+F19 -> -712.84227 | G21: =G9+G19 -> -634.04278 | H21: =H9+H19 -> -527.46106 | I21: =I9+I19 -> -433.95467 | J21: =J9+J19 -> -286.61127 | ... V21: =V9+V19 -> 2836.4575 | X21: =X9+X19 -> -2615.1431 | Y21: =Y9+Y19 -> -1882.0698 | Z21: =Z9+Z19 -> 607.67589 | AA21: =AA9+AA19 -> 4372.8741 | AB21: =AB9+AB19 -> 9365.5003
B22: Operating margin %, non-GAAP | C22: =IFERROR(C21/C7, 0) -> -11.272785 | D22: =IFERROR(D21/D7, 0) -> -4.3230537 | E22: =IFERROR(E21/E7, 0) -> -1.6911817 | F22: =IFERROR(F21/F7, 0) -> -0.88193037 | G22: =IFERROR(G21/G7, 0) -> -0.53144605 | H22: =IFERROR(H21/H7, 0) -> -0.32990059 | I22: =IFERROR(I21/I7, 0) -> -0.21411938 | J22: =IFERROR(J21/J7, 0) -> -0.11579176 | ... V22: =IFERROR(V21/V7, 0) -> 0.28781388 | X22: =IFERROR(X21/X7, 0) -> -1.7760187 | Y22: =IFERROR(Y21/Y7, 0) -> -0.25803602 | Z22: =IFERROR(Z21/Z7, 0) -> 0.040847486 | AA22: =IFERROR(AA21/AA7, 0) -> 0.18072832 | AB22: =IFERROR(AB21/AB7, 0) -> 0.26723509
B24: Non-operating income (expense):
B26: Interest income | C26: =Calculations!C657 -> 0 | D26: =Calculations!D657 -> 60.574074 | E26: =Calculations!E657 -> 53.141618 | F26: =Calculations!F657 -> 50.819058 | G26: =Calculations!G657 -> 51.322791 | H26: =Calculations!H657 -> 49.988001 | I26: =Calculations!I657 -> 49.959509 | J26: =Calculations!J657 -> 55.247309 | ... V26: =Calculations!V657 -> 395.53755 | X26: =SUMIFS($B26:$W26, $B$4:$W$4, X$4) -> 164.53475 | Y26: =SUMIFS($B26:$W26, $B$4:$W$4, Y$4) -> 206.51761 | Z26: =SUMIFS($B26:$W26, $B$4:$W$4, Z$4) -> 324.71591 | AA26: =SUMIFS($B26:$W26, $B$4:$W$4, AA$4) -> 646.33788 | AB26: =SUMIFS($B26:$W26, $B$4:$W$4, AB$4) -> 1256.4101
B28: Total non-operating income (expense), net | C28: =SUM(C25:C27) -> 0 | D28: =SUM(D25:D27) -> 60.574074 | E28: =SUM(E25:E27) -> 53.141618 | F28: =SUM(F25:F27) -> 50.819058 | G28: =SUM(G25:G27) -> 51.322791 | H28: =SUM(H25:H27) -> 49.988001 | I28: =SUM(I25:I27) -> 49.959509 | J28: =SUM(J25:J27) -> 55.247309 | ... V28: =SUM(V25:V27) -> 395.53755 | X28: =SUM(X25:X27) -> 164.53475 | Y28: =SUM(Y25:Y27) -> 206.51761 | Z28: =SUM(Z25:Z27) -> 324.71591 | AA28: =SUM(AA25:AA27) -> 646.33788 | AB28: =SUM(AB25:AB27) -> 1256.4101
B30: Income (loss) before income taxes, non-GAAP | C30: =C21+C28 -> -370.31098 | D30: =D21+D28 -> -702.01261 | E30: =E21+E28 -> -716.26151 | F30: =F21+F28 -> -662.02322 | G30: =G21+G28 -> -582.71999 | H30: =H21+H28 -> -477.47306 | I30: =I21+I28 -> -383.99516 | J30: =J21+J28 -> -231.36396 | ... V30: =V21+V28 -> 3231.9951 | X30: =X21+X28 -> -2450.6083 | Y30: =Y21+Y28 -> -1675.5522 | Z30: =Z21+Z28 -> 932.3918 | AA30: =AA21+AA28 -> 5019.212 | AB30: =AB21+AB28 -> 10621.91
B32: GAAP adjustments:
B34: Stock-based compensation | C34: =Calculations!C665 -> -8.541 | D34: =Calculations!D665 -> -45.864 | E34: =Calculations!E665 -> -118.287 | F34: =Calculations!F665 -> -210.1515 | G34: =Calculations!G665 -> -310.19352 | H34: =Calculations!H665 -> -415.70061 | I34: =Calculations!I665 -> -526.9407 | J34: =Calculations!J665 -> -643.55986 | ... V34: =Calculations!V665 -> -2562.3467 | X34: =SUMIFS($B34:$W34, $B$4:$W$4, X$4) -> -382.8435 | Y34: =SUMIFS($B34:$W34, $B$4:$W$4, Y$4) -> -1896.3947 | Z34: =SUMIFS($B34:$W34, $B$4:$W$4, Z$4) -> -3867.9426 | AA34: =SUMIFS($B34:$W34, $B$4:$W$4, AA$4) -> -6290.9193 | AB34: =SUMIFS($B34:$W34, $B$4:$W$4, AB$4) -> -9111.9398
