Workbook

Sheet Checklist
A1: Éditeur | B1: Set | C1: Saison | D1: Sport | E1: Catégorie | F1: Section | G1: Numéro | H1: Joueur | I1: Équipe | J1: Rookie | K1: Auto | L1: Patch | M1: Numérotation
A2: Topps | B2: Chrome UFC | C2: 2024 | D2: MMA (UFC) | E2: Base | F2: Base Cards I | G2: 1 | H2: Brad Katona | J2: Oui | K2: Non | L2: Non
A3: Topps | B3: Chrome UFC | C3: 2024 | D3: MMA (UFC) | E3: Base | F3: Base Cards I | G3: 2 | H3: Adrian Yanez | J3: Non | K3: Non | L3: Non
A4: Topps | B4: Chrome UFC | C4: 2024 | D4: MMA (UFC) | E4: Base | F4: Base Cards I | G4: 3 | H4: Brunno Ferreira | J4: Oui | K4: Non | L4: Non
A5: Topps | B5: Chrome UFC | C5: 2024 | D5: MMA (UFC) | E5: Base | F5: Base Cards I | G5: 4 | H5: Alex Pereira | J5: Non | K5: Non | L5: Non
A6: Topps | B6: Chrome UFC | C6: 2024 | D6: MMA (UFC) | E6: Base | F6: Base Cards I | G6: 5 | H6: Alex Perez | J6: Non | K6: Non | L6: Non
A7: Topps | B7: Chrome UFC | C7: 2024 | D7: MMA (UFC) | E7: Base | F7: Base Cards I | G7: 6 | H7: Alexa Grasso | J7: Non | K7: Non | L7: Non
A8: Topps | B8: Chrome UFC | C8: 2024 | D8: MMA (UFC) | E8: Base | F8: Base Cards I | G8: 7 | H8: Alexander Volkanovski | J8: Non | K8: Non | L8: Non
A9: Topps | B9: Chrome UFC | C9: 2024 | D9: MMA (UFC) | E9: Base | F9: Base Cards I | G9: 8 | H9: Alexander Volkov | J9: Non | K9: Non | L9: Non
A10: Topps | B10: Chrome UFC | C10: 2024 | D10: MMA (UFC) | E10: Base | F10: Base Cards I | G10: 9 | H10: Alexandr Romanov | J10: Non | K10: Non | L10: Non
A11: Topps | B11: Chrome UFC | C11: 2024 | D11: MMA (UFC) | E11: Base | F11: Base Cards I | G11: 10 | H11: Alexandre Pantoja | J11: Non | K11: Non | L11: Non
A12: Topps | B12: Chrome UFC | C12: 2024 | D12: MMA (UFC) | E12: Base | F12: Base Cards I | G12: 11 | H12: Alexsandar Rakic | J12: Non | K12: Non | L12: Non
A13: Topps | B13: Chrome UFC | C13: 2024 | D13: MMA (UFC) | E13: Base | F13: Base Cards I | G13: 12 | H13: Aljamain Sterling | J13: Non | K13: Non | L13: Non
... A770: Topps | B770: Chrome UFC | C770: 2024 | D770: MMA (UFC) | E770: Autographe | F770: Marks of Champions | G770: MOC-ZWE | H770: Zhang Weili | J770: Non | K770: Oui | L770: Non

Sheet Résumé
A1: Catégorie | B1: Section | C1: Nb de cartes
A2: Base | B2: Base Cards I | C2: =COUNTIFS(Checklist!$E$2:$E$770,A2,Checklist!$F$2:$F$770,B2) -> 100
A3: Base | B3: Base Cards II | C3: =COUNTIFS(Checklist!$E$2:$E$770,A3,Checklist!$F$2:$F$770,B3) -> 100
A4: Insert | B4: Tale of the Tape | C4: =COUNTIFS(Checklist!$E$2:$E$770,A4,Checklist!$F$2:$F$770,B4) -> 30
A5: Insert | B5: 1954 Topps | C5: =COUNTIFS(Checklist!$E$2:$E$770,A5,Checklist!$F$2:$F$770,B5) -> 25
A6: Insert | B6: Aka | C6: =COUNTIFS(Checklist!$E$2:$E$770,A6,Checklist!$F$2:$F$770,B6) -> 20
A7: Insert | B7: Let's Go | C7: =COUNTIFS(Checklist!$E$2:$E$770,A7,Checklist!$F$2:$F$770,B7) -> 15
A8: Insert | B8: International Flair | C8: =COUNTIFS(Checklist!$E$2:$E$770,A8,Checklist!$F$2:$F$770,B8) -> 10
A9: Insert | B9: Countdown | C9: =COUNTIFS(Checklist!$E$2:$E$770,A9,Checklist!$F$2:$F$770,B9) -> 30
A10: Insert | B10: Generation Now | C10: =COUNTIFS(Checklist!$E$2:$E$770,A10,Checklist!$F$2:$F$770,B10) -> 25
A11: Insert | B11: Representing | C11: =COUNTIFS(Checklist!$E$2:$E$770,A11,Checklist!$F$2:$F$770,B11) -> 20
A12: Insert | B12: Fists of Fury | C12: =COUNTIFS(Checklist!$E$2:$E$770,A12,Checklist!$F$2:$F$770,B12) -> 15
A13: Insert | B13: Youthquake | C13: =COUNTIFS(Checklist!$E$2:$E$770,A13,Checklist!$F$2:$F$770,B13) -> 10
... A34: Autographe | B34: Marks of Champions | C34: =COUNTIFS(Checklist!$E$2:$E$770,A34,Checklist!$F$2:$F$770,B34) -> 12
B35: Total | C35: =SUM(C2:C34) -> 769

Sheet Parallèles
A1: Section | B1: Parallèle | C1: Numérotation
A2: Base Cards I | B2: Refractor
A3: Base Cards I | B3: X-Fractor (1 per Mega Box)
A4: Base Cards I | B4: Sepia Refractor
A5: Base Cards I | B5: Negative Refractor
A6: Base Cards I | B6: Magenta Refractor
A7: Base Cards I | B7: Purple Refractor
A8: Base Cards I | B8: Prism Refractor
A9: Base Cards I | B9: Speckle Refractor | C9: /299
A10: Base Cards I | B10: Aqua Refractor | C10: /199
A11: Base Cards I | B11: Blue Refractor | C11: /150
A12: Base Cards I | B12: Green Refractor | C12: /99
A13: Base Cards I | B13: Blue Wave Refractor | C13: /75
A14: Base Cards I | B14: Gold Refractor | C14: /50
A15: Base Cards I | B15: Orange Refractor | C15: /25
A16: Base Cards I | B16: Black Refractor | C16: /10
A17: Base Cards I | B17: Red Refractor | C17: /5
A18: Base Cards I | B18: SuperFractor | C18: 1/1
A19: Chrome Rookie Autographs | B19: Refractor | C19: /150
A20: Chrome Rookie Autographs | B20: Gold Refractor | C20: /50
... A66: UFC Signatures | B66: SuperFractor | C66: 1/1
A67: 1954 Topps | B67: Refractor
A68: 1954 Topps | B68: Gold Refractor | C68: /50
A69: 1954 Topps | B69: Black Refractor | C69: /10
A70: 1954 Topps | B70: Red Refractor | C70: /5
A71: 1954 Topps | B71: SuperFractor | C71: 1/1
A72: Aka | B72: Refractor
A73: Aka | B73: Gold Refractor | C73: /50
A74: Aka | B74: Black Refractor | C74: /10
A75: Aka | B75: Red Refractor | C75: /5
A76: Aka | B76: SuperFractor | C76: 1/1
A77: Allen and Ginter | B77: Refractor
A78: Allen and Ginter | B78: Gold Refractor | C78: /50
A79: Allen and Ginter | B79: Black Refractor | C79: /10
A80: Allen and Ginter | B80: Red Refractor | C80: /5
A81: Allen and Ginter | B81: SuperFractor | C81: 1/1
A82: Brick by Brick | B82: Refractor
A83: Brick by Brick | B83: Gold Refractor | C83: /50
A84: Brick by Brick | B84: Black Refractor | C84: /10
A85: Brick by Brick | B85: Red Refractor | C85: /5
...

Sheet Notes
A1: Source : checklist officielle 2024 Topps Chrome UFC, fichier Excel republié par Checklist Insider (https://www.checklistinsider.com/2024-topps-chrome-ufc). Numéros et ordres conservés tels quels.
A2: Colonnes Rookie, Auto, Patch : Oui / Non. Rookie = Oui quand Topps indique Rookie. Auto = Oui pour toute la catégorie Autographe. Patch = Oui pour toute carte relique (mémorabilia), sans distinction maillot ou patch.
A3: Cartes multi-joueurs (Dual, Triple, Quad, Book) : une ligne par carte, joueurs séparés par " / ".
A4: Parallèles : relevés sur la page Checklist Insider du set (numérotation indiquée quand elle existe, vide = non numérotée). Mentions entre parenthèses = format exclusif.
A5: Colonne Équipe : vide, Topps n'indique pas d'équipe pour l'UFC.
A6: Noms harmonisés pour les filtres (même joueur écrit de plusieurs façons dans la source) : Dricus Du Plessis.
