Workbook
Name IQ_CH: 110000
Name IQ_CQ: 5000
Name IQ_CY: 10000
Name IQ_DAILY: 500000
Name IQ_FH: 100000
Name IQ_FQ: 500
Name IQ_FY: 1000
Name IQ_LTM: 2000
Name IQ_MONTH: 15000
Name IQ_NTM: 6000
Name IQ_WEEK: 50000
Name IQ_YTD: 3000

Sheet LBO
A1: {=MID(CELL("filename",B1),FIND("]",CELL("filename",B1))+1,255)} -> LBO
C3: 1 | D3: Sources and Uses Summary
D5: Entry | G5: 46022 | AC5: Steps
D6: Exit | G6: 47483 | AC6: 1 | AD6: Sources and Uses
D7: Entry Multiple | G7: 12 | AC7: =MAX($AC$6:AC6)+1 -> 2 | AD7: Funding Analysis e.g. Debt used on Entry
D8: Exit Multiple | G8: 12 | AC8: =MAX($AC$6:AC7)+1 -> 3 | AD8: Equity used on Entry
D9: Fees (M&A + Bank Fees) | G9: 0.025 | AC9: =MAX($AC$6:AC8)+1 -> 4 | AD9: Fill out P&L with hardcodes for Interest Expense
D10: Currency | G10: £m | AC10: =MAX($AC$6:AC9)+1 -> 5 | AD10: Debt Schedule - incl. Cash Sweep/ Minimum Cash Balance etc
D11: Upside Case (M&A) 1= On | G11: 0 | AC11: =MAX($AC$6:AC10)+1 -> 6 | AD11: Calculate FCF (CFADR) & CFADS
AC12: =MAX($AC$6:AC11)+1 -> 7 | AD12: Capitalisation summary - summary of all cash and debt - so can calculate Net Debt
AC13: =MAX($AC$6:AC12)+1 -> 8 | AD13: Returns Analysis - calculate IRR & MOIC
E14: Uses of Funds | G14: Sources of Funds | J14: Total Equity / Loan Note Required | N14: =H22-SUM(H15:H15) -> 72.398024 | O14: Funding Analysis | P14: EBITDA Multiple | Q14: =YEAR(G5) & " EBITDA" -> 2025 EBITDA | R14: Margin | S14: 12 Month SONIA | T14: Interest Rate
E15: Purchase Price | F15: =Q15*G7 -> 119.01045 | G15: Bank Debt | H15: =Q15*P15 -> 49.587688 | J15: % Split of Total Equity | N15: 0.2 | O15: Senior Debt - A | P15: 5 | Q15: ='Acquisition Assumptions'!I19 -> 9.9175375 | R15: 0.1 | S15: 0 | T15: =R15+S15 -> 0.1
E16: Fees | F16: =F15*G9 -> 2.9752613 | G16: Mgmt Equity | H16: =N14*N15*N16 -> 2.895921 | J16: % Management Split of Total Equity | N16: 0.2 | O16: Management Loan Note | R16: 0 | T16: =R16+S16 -> 0
G17: Sponsor Equity | H17: =N14*N15*N17 -> 11.583684 | J17: % Sponsor Split of Total Equity | N17: =1-N16 -> 0.8 | O17: Sponsor Loan Note | R17: 0.1 | T17: =R17+S17 -> 0.1
G18: Mgmt Loan Notes | H18: =N14*N19*N20 -> 0
G19: Sponsor Loan Notes | H19: =N14*N19*N21 -> 57.918419 | J19: % Split of Loan Notes | N19: =1-N15 -> 0.8
J20: % Mgmt Split of Total Loan Notes | N20: 0
J21: % Sponsor Split of Total Loan Notes | N21: =1-N20 -> 1
E22: USES | F22: =SUM(F15:F18) -> 121.98571 | G22: SOURCES | H22: =F22 -> 121.98571 | AC22: << SOURCES = USES = Purchase Price + Fees where Purchase Price is higher of EV & EqV (i.e. whether Net Debt is +ve or -ve)
C24: 2 | D24: Cash Flow Analysis & Debt Paydown
G27: Last Full Year
E28: Period Start | G28: ='Acquisition Assumptions'!H3 -> 45292 | H28: ='Acquisition Assumptions'!I3 -> 45658 | I28: ='Acquisition Assumptions'!J3 -> 46023 | J28: ='Acquisition Assumptions'!K3 -> 46388 | K28: ='Acquisition Assumptions'!L3 -> 46753 | L28: ='Acquisition Assumptions'!M3 -> 47119 | P28: Period Start | S28: =H28 -> 45658 | T28: =I28 -> 46023 | U28: =J28 -> 46388 | V28: =K28 -> 46753 | W28: =L28 -> 47119
E29: Period End | G29: ='Acquisition Assumptions'!H4 -> 45657 | H29: ='Acquisition Assumptions'!I4 -> 46022 | I29: ='Acquisition Assumptions'!J4 -> 46387 | J29: ='Acquisition Assumptions'!K4 -> 46752 | K29: ='Acquisition Assumptions'!L4 -> 47118 | L29: ='Acquisition Assumptions'!M4 -> 47483 | P29: Period End | S29: =H29 -> 46022 | T29: =I29 -> 46387 | U29: =J29 -> 46752 | V29: =K29 -> 47118 | W29: =L29 -> 47483
E30: Fiscal Year | G30: ='Acquisition Assumptions'!H5 -> 2024 | H30: ='Acquisition Assumptions'!I5 -> 2025 | I30: ='Acquisition Assumptions'!J5 -> 2026 | J30: ='Acquisition Assumptions'!K5 -> 2027 | K30: ='Acquisition Assumptions'!L5 -> 2028 | L30: ='Acquisition Assumptions'!M5 -> 2029 | P30: Fiscal Year | S30: =H30 -> 2025 | T30: =I30 -> 2026 | U30: =J30 -> 2027 | V30: =K30 -> 2028 | W30: =L30 -> 2029
E31: Fiscal Quarter | G31: ='Acquisition Assumptions'!H6 -> 4 | H31: ='Acquisition Assumptions'!I6 -> 4 | I31: ='Acquisition Assumptions'!J6 -> 4 | J31: ='Acquisition Assumptions'!K6 -> 4 | K31: ='Acquisition Assumptions'!L6 -> 4 | L31: ='Acquisition Assumptions'!M6 -> 4 | P31: Fiscal Quarter | S31: =H31 -> 4 | T31: =I31 -> 4 | U31: =J31 -> 4 | V31: =K31 -> 4 | W31: =L31 -> 4
E32: Fiscal Month | G32: ='Acquisition Assumptions'!H7 -> 12 | H32: ='Acquisition Assumptions'!I7 -> 12 | I32: ='Acquisition Assumptions'!J7 -> 12 | J32: ='Acquisition Assumptions'!K7 -> 12 | K32: ='Acquisition Assumptions'!L7 -> 12 | L32: ='Acquisition Assumptions'!M7 -> 12 | P32: Fiscal Month | S32: =H32 -> 12 | T32: =I32 -> 12 | U32: =J32 -> 12 | V32: =K32 -> 12 | W32: =L32 -> 12
E33: Column # | G33: ='Acquisition Assumptions'!H8 -> 1 | H33: ='Acquisition Assumptions'!I8 -> 2 | I33: ='Acquisition Assumptions'!J8 -> 3 | J33: ='Acquisition Assumptions'!K8 -> 4 | K33: ='Acquisition Assumptions'!L8 -> 5 | L33: ='Acquisition Assumptions'!M8 -> 6 | P33: Column # | S33: =H33 -> 2 | T33: =I33 -> 3 | U33: =J33 -> 4 | V33: =K33 -> 5 | W33: =L33 -> 6
E34: Metric | G34: ='Acquisition Assumptions'!H9 -> Annual | H34: ='Acquisition Assumptions'!I9 -> Annual | I34: ='Acquisition Assumptions'!J9 -> Annual | J34: ='Acquisition Assumptions'!K9 -> Annual | K34: ='Acquisition Assumptions'!L9 -> Annual | L34: ='Acquisition Assumptions'!M9 -> Annual | P34: Metric | S34: =H34 -> Annual | T34: =I34 -> Annual | U34: =J34 -> Annual | V34: =K34 -> Annual | W34: =L34 -> Annual
E35: Actual/Forecast | G35: ='Acquisition Assumptions'!H10 -> Actual | H35: ='Acquisition Assumptions'!I10 -> Actual | I35: ='Acquisition Assumptions'!J10 -> Forecast | J35: ='Acquisition Assumptions'!K10 -> Forecast | K35: ='Acquisition Assumptions'!L10 -> Forecast | L35: ='Acquisition Assumptions'!M10 -> Forecast | P35: Actual/Forecast | S35: =H35 -> Actual | T35: =I35 -> Forecast | U35: =J35 -> Forecast | V35: =K35 -> Forecast | W35: =L35 -> Forecast
E37: Revenue | G37: ='Acquisition Assumptions'!H15 -> 26.46016 | H37: ='Acquisition Assumptions'!I15 -> 33.058458 | I37: ='Acquisition Assumptions'!J15 -> 41.341634 | J37: ='Acquisition Assumptions'!K15 -> 51.74983 | K37: ='Acquisition Assumptions'!L15 -> 64.84063 | L37: ='Acquisition Assumptions'!M15 -> 81.321006 | P37: Cash Flow available for Debt Repayment | S37: =H61 -> 4.8561781 | T37: =I61 -> 7.9112242 | U37: =J61 -> 12.820323 | V37: =K61 -> 17.10181 | W37: =L61 -> 21.329617
E38: EBITDA | G38: ='Acquisition Assumptions'!H19 -> 7.938048 | H38: ='Acquisition Assumptions'!I19 -> 9.9175375 | I38: ='Acquisition Assumptions'!J19 -> 12.40249 | J38: ='Acquisition Assumptions'!K19 -> 15.524949 | K38: ='Acquisition Assumptions'!L19 -> 19.452189 | L38: ='Acquisition Assumptions'!M19 -> 24.396302
E39: D&A | G39: ='Acquisition Assumptions'!H23 -> -0.661504 | H39: ='Acquisition Assumptions'!I23 -> -0.82646146 | I39: ='Acquisition Assumptions'!J23 -> -1.0335409 | J39: ='Acquisition Assumptions'!K23 -> -1.2937458 | K39: ='Acquisition Assumptions'!L23 -> -1.6210158 | L39: ='Acquisition Assumptions'!M23 -> -2.0330251
E40: EBIT | G40: =G38+G39 -> 7.276544 | H40: =H38+H39 -> 9.0910761 | I40: =I38+I39 -> 11.368949 | J40: =J38+J39 -> 14.231203 | K40: =K38+K39 -> 17.831173 | L40: =L38+L39 -> 22.363277 | P40: =O15 -> Senior Debt - A
P41: Opening Balance | S41: =H15 -> 49.587688 | T41: =S45 -> 49.587688 | U41: =T45 -> 49.587688 | V41: =U45 -> 49.587688 | W41: =V45 -> 49.587688
E42: Senior Debt | H42: =-S48 -> -4.9587688 | I42: =-T48 -> -4.9587688 | J42: =-U48 -> -4.9587688 | K42: =-V48 -> -4.9587688 | L42: =-W48 -> -4.9587688 | P42: Amortising % | S42: 0 | T42: 0 | U42: 0 | V42: 0 | W42: 0
E43: Management Loan Note (Accrued) | H43: =-S53 -> 0 | I43: =-T53 -> 0 | J43: =-U53 -> 0 | K43: =-V53 -> 0 | L43: =-W53 -> 0 | P43: Amortising £ | S43: =IF(S37<=0,0,-MIN(S42*S41,S37)) -> 0 | T43: =IF(T37<=0,0,-MIN(T42*T41,T37)) -> 0 | U43: =IF(U37<=0,0,-MIN(U42*U41,U37)) -> 0 | V43: =IF(V37<=0,0,-MIN(V42*V41,V37)) -> 0 | W43: =IF(W37<=0,0,-MIN(W42*W41,W37)) -> 0
E44: Sponsor Loan Note (Accrued) | H44: =-S60 -> -5.7918419 | I44: =-T60 -> -6.3710261 | J44: =-U60 -> -7.0081287 | K44: =-V60 -> -7.7089416 | L44: =-W60 -> -8.4798357 | P44: Cash Sweep | S44: 0 | T44: 0 | U44: 0 | V44: 0 | W44: 0
E45: Total Interest Expense | H45: =SUM(H42:H44) -> -10.750611 | I45: =SUM(I42:I44) -> -11.329795 | J45: =SUM(J42:J44) -> -11.966897 | K45: =SUM(K42:K44) -> -12.66771 | L45: =SUM(L42:L44) -> -13.438605 | P45: Closing Balance | S45: =S44+S43+S41 -> 49.587688 | T45: =T44+T43+T41 -> 49.587688 | U45: =U44+U43+U41 -> 49.587688 | V45: =V44+V43+V41 -> 49.587688 | W45: =W44+W43+W41 -> 49.587688
P46: Remaining Cash Available | S46: =S37+S43+S44 -> 4.8561781 | T46: =T37+T43+T44 -> 7.9112242 | U46: =U37+U43+U44 -> 12.820323 | V46: =V37+V43+V44 -> 17.10181 | W46: =W37+W43+W44 -> 21.329617
...

Sheet Support >>

Sheet Acquisition Assumptions
A1: {=MID(CELL("filename",B1),FIND("]",CELL("filename",B1))+1,255)} -> Acquisition Assumptions
E3: Period Start | H3: 45292 | I3: =EDATE(H3,12) -> 45658 | J3: =EDATE(I3,12) -> 46023 | K3: =EDATE(J3,12) -> 46388 | L3: =EDATE(K3,12) -> 46753 | M3: =EDATE(L3,12) -> 47119
E4: Period End | H4: =EOMONTH(H3,11) -> 45657 | I4: =EOMONTH(I3,11) -> 46022 | J4: =EOMONTH(J3,11) -> 46387 | K4: =EOMONTH(K3,11) -> 46752 | L4: =EOMONTH(L3,11) -> 47118 | M4: =EOMONTH(M3,11) -> 47483
E5: Fiscal Year | H5: =YEAR(H4) -> 2024 | I5: =YEAR(I4) -> 2025 | J5: =YEAR(J4) -> 2026 | K5: =YEAR(K4) -> 2027 | L5: =YEAR(L4) -> 2028 | M5: =YEAR(M4) -> 2029
E6: Fiscal Quarter | H6: =ROUNDUP(MONTH(H4)/3,0) -> 4 | I6: =ROUNDUP(MONTH(I4)/3,0) -> 4 | J6: =ROUNDUP(MONTH(J4)/3,0) -> 4 | K6: =ROUNDUP(MONTH(K4)/3,0) -> 4 | L6: =ROUNDUP(MONTH(L4)/3,0) -> 4 | M6: =ROUNDUP(MONTH(M4)/3,0) -> 4
E7: Fiscal Month | H7: =MONTH(H4) -> 12 | I7: =MONTH(I4) -> 12 | J7: =MONTH(J4) -> 12 | K7: =MONTH(K4) -> 12 | L7: =MONTH(L4) -> 12 | M7: =MONTH(M4) -> 12
E8: Column # | H8: 1 | I8: =H8+1 -> 2 | J8: =I8+1 -> 3 | K8: =J8+1 -> 4 | L8: =K8+1 -> 5 | M8: =L8+1 -> 6
E9: Metric | H9: Annual | I9: Annual | J9: Annual | K9: Annual | L9: Annual | M9: Annual
E10: Actual/Forecast | H10: =IF(H4<=TODAY(),"Actual","Forecast") -> Actual | I10: =IF(I4<=TODAY(),"Actual","Forecast") -> Actual | J10: =IF(J4<=TODAY(),"Actual","Forecast") -> Forecast | K10: =IF(K4<=TODAY(),"Actual","Forecast") -> Forecast | L10: =IF(L4<=TODAY(),"Actual","Forecast") -> Forecast | M10: =IF(M4<=TODAY(),"Actual","Forecast") -> Forecast | O10: M&A Case (1= On) | P10: =LBO!G11 -> 0
E11: in £m (unless otherwise stated), FYE December
D13: 1 | E13: Case Selector
E15: Net Sales | H15: {=INDEX(H16:H17,LBO!$G$11+1)} -> 26.46016 | I15: {=INDEX(I16:I17,LBO!$G$11+1)} -> 33.058458 | J15: {=INDEX(J16:J17,LBO!$G$11+1)} -> 41.341634 | K15: {=INDEX(K16:K17,LBO!$G$11+1)} -> 51.74983 | L15: {=INDEX(L16:L17,LBO!$G$11+1)} -> 64.84063 | M15: {=INDEX(M16:M17,LBO!$G$11+1)} -> 81.321006
E16: Organic | H16: =H60 -> 26.46016 | I16: =I60 -> 33.058458 | J16: =J60 -> 41.341634 | K16: =K60 -> 51.74983 | L16: =L60 -> 64.84063 | M16: =M60 -> 81.321006
E17: M&A | H17: =H64 -> 26.46016 | I17: =I64 -> 33.058458 | J17: =J64 -> 51.341634 | K17: =K64 -> 73.74983 | L17: =L64 -> 101.74063 | M17: =M64 -> 126.72601
E19: EBITDA | H19: {=INDEX(H20:H21,LBO!$G$11+1)} -> 7.938048 | I19: {=INDEX(I20:I21,LBO!$G$11+1)} -> 9.9175375 | J19: {=INDEX(J20:J21,LBO!$G$11+1)} -> 12.40249 | K19: {=INDEX(K20:K21,LBO!$G$11+1)} -> 15.524949 | L19: {=INDEX(L20:L21,LBO!$G$11+1)} -> 19.452189 | M19: {=INDEX(M20:M21,LBO!$G$11+1)} -> 24.396302
E20: Organic | H20: =H66 -> 7.938048 | I20: =I66 -> 9.9175375 | J20: =J66 -> 12.40249 | K20: =K66 -> 15.524949 | L20: =L66 -> 19.452189 | M20: =M66 -> 24.396302
E21: M&A | H21: =H70 -> 7.938048 | I21: =I70 -> 9.9175375 | J21: =J70 -> 14.40249 | K21: =K70 -> 21.124949 | L21: =L70 -> 29.522189 | M21: =M70 -> 38.017802
E23: D&A | H23: {=INDEX(H24:H25,LBO!$G$11+1)} -> -0.661504 | I23: {=INDEX(I24:I25,LBO!$G$11+1)} -> -0.82646146 | J23: {=INDEX(J24:J25,LBO!$G$11+1)} -> -1.0335409 | K23: {=INDEX(K24:K25,LBO!$G$11+1)} -> -1.2937458 | L23: {=INDEX(L24:L25,LBO!$G$11+1)} -> -1.6210158 | M23: {=INDEX(M24:M25,LBO!$G$11+1)} -> -2.0330251
E24: Organic | H24: =H73 -> -0.661504 | I24: =I73 -> -0.82646146 | J24: =J73 -> -1.0335409 | K24: =K73 -> -1.2937458 | L24: =L73 -> -1.6210158 | M24: =M73 -> -2.0330251
E25: M&A | H25: =H77 -> -0.661504 | I25: =I77 -> -0.82646146 | J25: =J77 -> -1.6335409 | K25: =K77 -> -2.6137458 | L25: =L77 -> -3.8350158 | M25: =M77 -> -4.7573251
E27: Capex | H27: {=INDEX(H28:H29,LBO!$G$11+1)} -> -0.71442432 | I27: {=INDEX(I28:I29,LBO!$G$11+1)} -> -2.3471505 | J27: {=INDEX(J28:J29,LBO!$G$11+1)} -> -1.9017152 | K27: {=INDEX(K28:K29,LBO!$G$11+1)} -> -1.0867464 | L27: {=INDEX(L28:L29,LBO!$G$11+1)} -> -1.1022907 | M27: {=INDEX(M28:M29,LBO!$G$11+1)} -> -1.3824571
E28: Organic | H28: =H79 -> -0.71442432 | I28: =I79 -> -2.3471505 | J28: =J79 -> -1.9017152 | K28: =K79 -> -1.0867464 | L28: =L79 -> -1.1022907 | M28: =M79 -> -1.3824571
E29: M&A | H29: =H83 -> -0.71442432 | I29: =I83 -> -2.3471505 | J29: =J83 -> -2.2017152 | K29: =K83 -> -1.7467464 | L29: =L83 -> -2.2092907 | M29: =M83 -> -2.7446071
E31: Change in Working Capital | H31: {=INDEX(H32:H33,LBO!$G$11+1)} -> 3.7473408 | I31: {=INDEX(I32:I33,LBO!$G$11+1)} -> 2.2445599 | J31: {=INDEX(J32:J33,LBO!$G$11+1)} -> 2.3770488 | K31: {=INDEX(K32:K33,LBO!$G$11+1)} -> 3.7937507 | L31: {=INDEX(L32:L33,LBO!$G$11+1)} -> 4.7433732 | M31: {=INDEX(M32:M33,LBO!$G$11+1)} -> 5.0594754
E32: Organic | H32: =H85 -> 3.7473408 | I32: =I85 -> 2.2445599 | J32: =J85 -> 2.3770488 | K32: =K85 -> 3.7937507 | L32: =L85 -> 4.7433732 | M32: =M85 -> 5.0594754
E33: M&A | H33: =H89 -> 3.7473408 | I33: =I89 -> 2.2445599 | J33: =J89 -> 2.4770488 | K33: =K89 -> 4.0137507 | L33: =L89 -> 5.1123732 | M33: =M89 -> 5.5135254
E35: Acquisition Capex | H35: =H91 -> 0 | I35: =I91 -> 0 | J35: =J91 -> -16 | K35: =K91 -> -16 | L35: =L91 -> -16 | M35: =M91 -> 0
D37: 2 | E37: Business Plan Projection Assumptions
D39: x | E39: P&L
E41: Revenue | H41: =Financials!J16 -> 26.46016 | I41: =Financials!K16 -> 33.058458 | J41: =Financials!L16 -> 41.341634 | K41: =Financials!M16 -> 51.74983 | L41: =Financials!N16 -> 64.84063 | M41: =Financials!O16 -> 81.321006
E42: Revenue Growth | I42: =I41/H41-1 -> 0.24936729 | J42: =J41/I41-1 -> 0.25056147 | K42: =K41/J41-1 -> 0.25176062 | L42: =L41/K41-1 -> 0.25296315 | M42: =M41/L41-1 -> 0.25416742
E44: EBITDA | H44: =Financials!J19 -> 7.938048 | I44: =Financials!K19 -> 9.9175375 | J44: =Financials!L19 -> 12.40249 | K44: =Financials!M19 -> 15.524949 | L44: =Financials!N19 -> 19.452189 | M44: =Financials!O19 -> 24.396302
E45: EBITDA Margin | H45: =H44/H$41 -> 0.3 | I45: =I44/I$41 -> 0.3 | J45: =J44/J$41 -> 0.3 | K45: =K44/K$41 -> 0.3 | L45: =L44/L$41 -> 0.3 | M45: =M44/M$41 -> 0.3
E47: D&A | H47: =Financials!J22 -> -0.661504 | I47: =Financials!K22 -> -0.82646146 | J47: =Financials!L22 -> -1.0335409 | K47: =Financials!M22 -> -1.2937458 | L47: =Financials!N22 -> -1.6210158 | M47: =Financials!O22 -> -2.0330251
E48: % of Revenue | H48: =-H47/H$41 -> 0.025 | I48: =-I47/I$41 -> 0.025 | J48: =-J47/J$41 -> 0.025 | K48: =-K47/K$41 -> 0.025 | L48: =-L47/L$41 -> 0.025 | M48: =-M47/M$41 -> 0.025
D50: x | E50: Cash Flow
E52: Capex | H52: =Financials!J36 -> -0.71442432 | I52: =Financials!K36 -> -2.3471505 | J52: =Financials!L36 -> -1.9017152 | K52: =Financials!M36 -> -1.0867464 | L52: =Financials!N36 -> -1.1022907 | M52: =Financials!O36 -> -1.3824571
E53: % of Revenue | H53: =-H52/H$41 -> 0.027 | I53: =-I52/I$41 -> 0.071 | J53: =-J52/J$41 -> 0.046 | K53: =-K52/K$41 -> 0.021 | L53: =-L52/L$41 -> 0.017 | M53: =-M52/M$41 -> 0.017
E55: Change in NWC | H55: =Financials!J34 -> 3.7473408 | I55: =Financials!K34 -> 2.2445599 | J55: =Financials!L34 -> 2.3770488 | K55: =Financials!M34 -> 3.7937507 | L55: =Financials!N34 -> 4.7433732 | M55: =Financials!O34 -> 5.0594754
E56: % of Revenue | H56: =H55/H$41 -> 0.141622 | I56: =I55/I$41 -> 0.067896689 | J56: =J55/J$41 -> 0.057497697 | K56: =K55/K$41 -> 0.073309434 | L56: =L55/L$41 -> 0.073154336 | M56: =M55/M$41 -> 0.062216094
...

Sheet Financials
A1: {=MID(CELL("filename",E1),FIND("]",CELL("filename",E1))+1,255)} -> Financials
E3: Period Start | H3: 44562 | I3: =EDATE(H3,12) -> 44927 | J3: =EDATE(I3,12) -> 45292 | K3: =EDATE(J3,12) -> 45658 | L3: =EDATE(K3,12) -> 46023 | M3: =EDATE(L3,12) -> 46388 | N3: =EDATE(M3,12) -> 46753 | O3: =EDATE(N3,12) -> 47119
E4: Period End | H4: =EOMONTH(H3,11) -> 44926 | I4: =EOMONTH(I3,11) -> 45291 | J4: =EOMONTH(J3,11) -> 45657 | K4: =EOMONTH(K3,11) -> 46022 | L4: =EOMONTH(L3,11) -> 46387 | M4: =EOMONTH(M3,11) -> 46752 | N4: =EOMONTH(N3,11) -> 47118 | O4: =EOMONTH(O3,11) -> 47483
E5: Fiscal Year | H5: =YEAR(H4) -> 2022 | I5: =YEAR(I4) -> 2023 | J5: =YEAR(J4) -> 2024 | K5: =YEAR(K4) -> 2025 | L5: =YEAR(L4) -> 2026 | M5: =YEAR(M4) -> 2027 | N5: =YEAR(N4) -> 2028 | O5: =YEAR(O4) -> 2029
E6: Fiscal Quarter | H6: =ROUNDUP(MONTH(H4)/3,0) -> 4 | I6: =ROUNDUP(MONTH(I4)/3,0) -> 4 | J6: =ROUNDUP(MONTH(J4)/3,0) -> 4 | K6: =ROUNDUP(MONTH(K4)/3,0) -> 4 | L6: =ROUNDUP(MONTH(L4)/3,0) -> 4 | M6: =ROUNDUP(MONTH(M4)/3,0) -> 4 | N6: =ROUNDUP(MONTH(N4)/3,0) -> 4 | O6: =ROUNDUP(MONTH(O4)/3,0) -> 4
E7: Fiscal Month | H7: =MONTH(H4) -> 12 | I7: =MONTH(I4) -> 12 | J7: =MONTH(J4) -> 12 | K7: =MONTH(K4) -> 12 | L7: =MONTH(L4) -> 12 | M7: =MONTH(M4) -> 12 | N7: =MONTH(N4) -> 12 | O7: =MONTH(O4) -> 12
E8: Column # | H8: =1 -> 1 | I8: =H8+1 -> 2 | J8: =I8+1 -> 3 | K8: =J8+1 -> 4 | L8: =K8+1 -> 5 | M8: =L8+1 -> 6 | N8: =M8+1 -> 7 | O8: =N8+1 -> 8
E9: Metric | H9: Annual | I9: Annual | J9: Annual | K9: Annual | L9: Annual | M9: Annual | N9: Annual | O9: Annual
E10: Actual/Forecast | H10: Actual | I10: Actual | J10: Actual | K10: Actual | L10: Forecast | M10: Forecast | N10: Forecast | O10: Forecast
E11: in £m (unless otherwise stated), FYE December
E13: ARR | H13: ='Revenue Buildup'!H20 -> 20 | I13: ='Revenue Buildup'!I20 -> 24.94 | J13: ='Revenue Buildup'!J20 -> 31.1296 | K13: ='Revenue Buildup'!K20 -> 38.892304 | L13: ='Revenue Buildup'!L20 -> 48.637217 | M13: ='Revenue Buildup'!M20 -> 60.882153 | N13: ='Revenue Buildup'!N20 -> 76.283094 | O13: ='Revenue Buildup'!O20 -> 95.671772
E14: % ARR Growth | I14: =I13/H13-1 -> 0.247 | J14: =J13/I13-1 -> 0.24817963 | K14: =K13/J13-1 -> 0.24936729 | L14: =L13/K13-1 -> 0.25056147 | M14: =M13/L13-1 -> 0.25176062 | N14: =N13/M13-1 -> 0.25296315 | O14: =O13/N13-1 -> 0.25416742
E16: Revenue | H16: ='Revenue Buildup'!H36 -> 17 | I16: ='Revenue Buildup'!I36 -> 21.199 | J16: ='Revenue Buildup'!J36 -> 26.46016 | K16: ='Revenue Buildup'!K36 -> 33.058458 | L16: ='Revenue Buildup'!L36 -> 41.341634 | M16: ='Revenue Buildup'!M36 -> 51.74983 | N16: ='Revenue Buildup'!N36 -> 64.84063 | O16: ='Revenue Buildup'!O36 -> 81.321006
E17: % Revenue Growth | I17: =I16/H16-1 -> 0.247 | J17: =J16/I16-1 -> 0.24817963 | K17: =K16/J16-1 -> 0.24936729 | L17: =L16/K16-1 -> 0.25056147 | M17: =M16/L16-1 -> 0.25176062 | N17: =N16/M16-1 -> 0.25296315 | O17: =O16/N16-1 -> 0.25416742
E19: EBITDA | H19: 4 | I19: 5 | J19: =J$16*J20 -> 7.938048 | K19: =K$16*K20 -> 9.9175375 | L19: =L$16*L20 -> 12.40249 | M19: =M$16*M20 -> 15.524949 | N19: =N$16*N20 -> 19.452189 | O19: =O$16*O20 -> 24.396302
E20: % Margin | H20: =H19/H$16 -> 0.23529412 | I20: =I19/I$16 -> 0.23586018 | J20: 0.3 | K20: 0.3 | L20: 0.3 | M20: 0.3 | N20: 0.3 | O20: 0.3
E22: D&A | H22: -0.4 | I22: -0.5 | J22: =-J$16*J23 -> -0.661504 | K22: =-K$16*K23 -> -0.82646146 | L22: =-L$16*L23 -> -1.0335409 | M22: =-M$16*M23 -> -1.2937458 | N22: =-N$16*N23 -> -1.6210158 | O22: =-O$16*O23 -> -2.0330251
E23: % Margin | H23: =-H22/H$16 -> 0.023529412 | I23: =-I22/I$16 -> 0.023586018 | J23: 0.025 | K23: 0.025 | L23: 0.025 | M23: 0.025 | N23: 0.025 | O23: 0.025
E25: EBIT | H25: =H19+H22 -> 3.6 | I25: =I19+I22 -> 4.5 | J25: =J19+J22 -> 7.276544 | K25: =K19+K22 -> 9.0910761 | L25: =L19+L22 -> 11.368949 | M25: =M19+M22 -> 14.231203 | N25: =N19+N22 -> 17.831173 | O25: =O19+O22 -> 22.363277
E26: % Margin | H26: =H25/H$16 -> 0.21176471 | I26: =I25/I$16 -> 0.21227416 | J26: =J25/J$16 -> 0.275 | K26: =K25/K$16 -> 0.275 | L26: =L25/L$16 -> 0.275 | M26: =M25/M$16 -> 0.275 | N26: =N25/N$16 -> 0.275 | O26: =O25/O$16 -> 0.275
E28: Corporate Income Tax | H28: =-H25*H29 -> -0.72 | I28: =-I25*I29 -> -0.9 | J28: =-J25*J29 -> -1.4553088 | K28: =-K25*K29 -> -1.8182152 | L28: =-L25*L29 -> -2.2737899 | M28: =-M25*M29 -> -2.8462407 | N28: =-N25*N29 -> -3.5662347 | O28: =-O25*O29 -> -4.4726553
E29: % Tax Rate | H29: 0.2 | I29: 0.2 | J29: 0.2 | K29: 0.2 | L29: 0.2 | M29: 0.2 | N29: 0.2 | O29: 0.2
E31: NWC | H31: -2.1 | I31: -3 | J31: =-J$16*J32 -> -6.7473408 | K31: =-K$16*K32 -> -8.9919007 | L31: =-L$16*L32 -> -11.368949 | M31: =-M$16*M32 -> -15.1627 | N31: =-N$16*N32 -> -19.906073 | O31: =-O$16*O32 -> -24.965549
E32: % Margin | H32: =-H31/H$16 -> 0.12352941 | I32: =-I31/I$16 -> 0.14151611 | J32: 0.255 | K32: 0.272 | L32: 0.275 | M32: 0.293 | N32: 0.307 | O32: 0.307
E34: Change In NWC | H34: -0.1 | I34: =-(I31-H31) -> 0.9 | J34: =-(J31-I31) -> 3.7473408 | K34: =-(K31-J31) -> 2.2445599 | L34: =-(L31-K31) -> 2.3770488 | M34: =-(M31-L31) -> 3.7937507 | N34: =-(N31-M31) -> 4.7433732 | O34: =-(O31-N31) -> 5.0594754
E36: Capex | H36: -1.1 | I36: -0.1 | J36: =-J$16*J37 -> -0.71442432 | K36: =-K$16*K37 -> -2.3471505 | L36: =-L$16*L37 -> -1.9017152 | M36: =-M$16*M37 -> -1.0867464 | N36: =-N$16*N37 -> -1.1022907 | O36: =-O$16*O37 -> -1.3824571
E37: % Margin | H37: =-H36/H$16 -> 0.064705882 | I37: =-I36/I$16 -> 0.0047172036 | J37: 0.027 | K37: 0.071 | L37: 0.046 | M37: 0.021 | N37: 0.017 | O37: 0.017
E39: FCF (pre tax) | H39: =H19+H34+H36 -> 2.8 | I39: =I19+I34+I36 -> 5.8 | J39: =J19+J34+J36 -> 10.970964 | K39: =K19+K34+K36 -> 9.8149469 | L39: =L19+L34+L36 -> 12.877824 | M39: =M19+M34+M36 -> 18.231953 | N39: =N19+N34+N36 -> 23.093272 | O39: =O19+O34+O36 -> 28.07332
E40: % Margin
E42: FCF (post tax) | H42: =H19+H34+H36+H28 -> 2.08 | I42: =I19+I34+I36+I28 -> 4.9 | J42: =J19+J34+J36+J28 -> 9.5156557 | K42: =K19+K34+K36+K28 -> 7.9967316 | L42: =L19+L34+L36+L28 -> 10.604034 | M42: =M19+M34+M36+M28 -> 15.385713 | N42: =N19+N34+N36+N28 -> 19.527037 | O42: =O19+O34+O36+O28 -> 23.600665
E43: % Margin
A46: End of Sheet

Sheet Revenue Buildup
A1: {=MID(CELL("filename",B1),FIND("]",CELL("filename",B1))+1,255)} -> Revenue Buildup
E3: Period Start | H3: =Financials!H3 -> 44562 | I3: =Financials!I3 -> 44927 | J3: =Financials!J3 -> 45292 | K3: =Financials!K3 -> 45658 | L3: =Financials!L3 -> 46023 | M3: =Financials!M3 -> 46388 | N3: =Financials!N3 -> 46753 | O3: =Financials!O3 -> 47119
E4: Period End | H4: =Financials!H4 -> 44926 | I4: =Financials!I4 -> 45291 | J4: =Financials!J4 -> 45657 | K4: =Financials!K4 -> 46022 | L4: =Financials!L4 -> 46387 | M4: =Financials!M4 -> 46752 | N4: =Financials!N4 -> 47118 | O4: =Financials!O4 -> 47483
E5: Fiscal Year | H5: =Financials!H5 -> 2022 | I5: =Financials!I5 -> 2023 | J5: =Financials!J5 -> 2024 | K5: =Financials!K5 -> 2025 | L5: =Financials!L5 -> 2026 | M5: =Financials!M5 -> 2027 | N5: =Financials!N5 -> 2028 | O5: =Financials!O5 -> 2029
E6: Fiscal Quarter | H6: =ROUNDUP(MONTH(H3)/3,0) -> 1 | I6: =ROUNDUP(MONTH(I3)/3,0) -> 1 | J6: =ROUNDUP(MONTH(J3)/3,0) -> 1 | K6: =ROUNDUP(MONTH(K3)/3,0) -> 1 | L6: =ROUNDUP(MONTH(L3)/3,0) -> 1 | M6: =ROUNDUP(MONTH(M3)/3,0) -> 1 | N6: =ROUNDUP(MONTH(N3)/3,0) -> 1 | O6: =ROUNDUP(MONTH(O3)/3,0) -> 1
E7: Fiscal Month | H7: =MONTH(H4) -> 12 | I7: =MONTH(I4) -> 12 | J7: =MONTH(J4) -> 12 | K7: =MONTH(K4) -> 12 | L7: =MONTH(L4) -> 12 | M7: =MONTH(M4) -> 12 | N7: =MONTH(N4) -> 12 | O7: =MONTH(O4) -> 12
E8: Column # | H8: 1 | I8: =H8+1 -> 2 | J8: =I8+1 -> 3 | K8: =J8+1 -> 4 | L8: =K8+1 -> 5 | M8: =L8+1 -> 6 | N8: =M8+1 -> 7 | O8: =N8+1 -> 8
E9: Metric | H9: Annual | I9: Annual | J9: Annual | K9: Annual | L9: Annual | M9: Annual | N9: Annual | O9: Annual
E10: Actual/Forecast | H10: Actual | I10: Actual | J10: Actual | K10: Actual | L10: Forecast | M10: Forecast | N10: Forecast | O10: Forecast
E11: in £m (unless otherwise stated), FYE December
E14: ARR by Customer Segment | F14: Assumptions
E16: Enterprise | F16: Enterprise Growth | G16: 0.3 | H16: 6 | I16: =H16*(1+$G$16) -> 7.8 | J16: =I16*(1+$G$16) -> 10.14 | K16: =J16*(1+$G$16) -> 13.182 | L16: =K16*(1+$G$16) -> 17.1366 | M16: =L16*(1+$G$16) -> 22.27758 | N16: =M16*(1+$G$16) -> 28.960854 | O16: =N16*(1+$G$16) -> 37.64911
E17: Mid-Market | F17: Mid-Market Growth | G17: 0.24 | H17: 8.5 | I17: =H17*(1+$G$17) -> 10.54 | J17: =I17*(1+$G$17) -> 13.0696 | K17: =J17*(1+$G$17) -> 16.206304 | L17: =K17*(1+$G$17) -> 20.095817 | M17: =L17*(1+$G$17) -> 24.918813 | N17: =M17*(1+$G$17) -> 30.899328 | O17: =N17*(1+$G$17) -> 38.315167
E18: SMB | F18: SMB Growth | G18: 0.2 | H18: 5.5 | I18: =H18*(1+$G$18) -> 6.6 | J18: =I18*(1+$G$18) -> 7.92 | K18: =J18*(1+$G$18) -> 9.504 | L18: =K18*(1+$G$18) -> 11.4048 | M18: =L18*(1+$G$18) -> 13.68576 | N18: =M18*(1+$G$18) -> 16.422912 | O18: =N18*(1+$G$18) -> 19.707494
E20: Total ARR | H20: =SUM(H16:H18) -> 20 | I20: =SUM(I16:I18) -> 24.94 | J20: =SUM(J16:J18) -> 31.1296 | K20: =SUM(K16:K18) -> 38.892304 | L20: =SUM(L16:L18) -> 48.637217 | M20: =SUM(M16:M18) -> 60.882153 | N20: =SUM(N16:N18) -> 76.283094 | O20: =SUM(O16:O18) -> 95.671772
E21: Check to Financials | H21: =H20-Financials!H13 -> 0 | I21: =I20-Financials!I13 -> 0 | J21: =J20-Financials!J13 -> 0 | K21: =K20-Financials!K13 -> 0 | L21: =L20-Financials!L13 -> 0 | M21: =M20-Financials!M13 -> 0 | N21: =N20-Financials!N13 -> 0 | O21: =O20-Financials!O13 -> 0
E25: Revenue Bridge
E27: Opening ARR | H27: 15 | I27: =H32 -> 20 | J27: =I32 -> 24.94 | K27: =J32 -> 31.1296 | L27: =K32 -> 38.892304 | M27: =L32 -> 48.637217 | N27: =M32 -> 60.882153 | O27: =N32 -> 76.283094
E28: New ARR | F28: New ARR % | G28: 0.25 | H28: =H20-H27-H29-H30 -> 3.95 | I28: =I20-I27-I29-I30 -> 3.54 | J28: =J20-J27-J29-J30 -> 4.4438 | K28: =K20-K27-K29-K30 -> 5.583632 | L28: =L20-L27-L29-L30 -> 7.0224517 | M28: =M20-M27-M29-M30 -> 8.8403309 | N28: =N20-N27-N29-N30 -> 11.13919 | O28: =O20-O27-O29-O30 -> 14.048861
E29: Expansion ARR | F29: Expansion % | G29: 0.15 | H29: =H27*$G$29 -> 2.25 | I29: =I27*$G$29 -> 3 | J29: =J27*$G$29 -> 3.741 | K29: =K27*$G$29 -> 4.66944 | L29: =L27*$G$29 -> 5.8338456 | M29: =M27*$G$29 -> 7.2955825 | N29: =N27*$G$29 -> 9.132323 | O29: =O27*$G$29 -> 11.442464
E30: Churn ARR | F30: Churn % | G30: 0.08 | H30: =-H27*$G$30 -> -1.2 | I30: =-I27*$G$30 -> -1.6 | J30: =-J27*$G$30 -> -1.9952 | K30: =-K27*$G$30 -> -2.490368 | L30: =-L27*$G$30 -> -3.1113843 | M30: =-M27*$G$30 -> -3.8909774 | N30: =-N27*$G$30 -> -4.8705722 | O30: =-O27*$G$30 -> -6.1026475
E32: Closing ARR | H32: =SUM(H27:H30) -> 20 | I32: =SUM(I27:I30) -> 24.94 | J32: =SUM(J27:J30) -> 31.1296 | K32: =SUM(K27:K30) -> 38.892304 | L32: =SUM(L27:L30) -> 48.637217 | M32: =SUM(M27:M30) -> 60.882153 | N32: =SUM(N27:N30) -> 76.283094 | O32: =SUM(O27:O30) -> 95.671772
E33: Check to ARR | H33: =H32-H20 -> 0 | I33: =I32-I20 -> 0 | J33: =J32-J20 -> 0 | K33: =K32-K20 -> 0 | L33: =L32-L20 -> 0 | M33: =M32-M20 -> 0 | N33: =N32-N20 -> 0 | O33: =O32-O20 -> 0
E36: Revenue Recognition | F36: Revenue Recognition % | G36: 0.85 | H36: =H32*$G$36 -> 17 | I36: =I32*$G$36 -> 21.199 | J36: =J32*$G$36 -> 26.46016 | K36: =K32*$G$36 -> 33.058458 | L36: =L32*$G$36 -> 41.341634 | M36: =M32*$G$36 -> 51.74983 | N36: =N32*$G$36 -> 64.84063 | O36: =O32*$G$36 -> 81.321006
E37: Check to Financials | H37: =H36-Financials!H16 -> 0 | I37: =I36-Financials!I16 -> 0 | J37: =J36-Financials!J16 -> 0 | K37: =K36-Financials!K16 -> 0 | L37: =L36-Financials!L16 -> 0 | M37: =M36-Financials!M16 -> 0 | N37: =N36-Financials!N16 -> 0 | O37: =O36-Financials!O16 -> 0
E41: Key Metrics
E43: Net Revenue Retention | H43: =(H29+H30)/H27+1 -> 1.07 | I43: =(I29+I30)/I27+1 -> 1.07 | J43: =(J29+J30)/J27+1 -> 1.07 | K43: =(K29+K30)/K27+1 -> 1.07 | L43: =(L29+L30)/L27+1 -> 1.07 | M43: =(M29+M30)/M27+1 -> 1.07 | N43: =(N29+N30)/N27+1 -> 1.07 | O43: =(O29+O30)/O27+1 -> 1.07
E44: Gross Revenue Retention | H44: =1+H30/H27 -> 0.92 | I44: =1+I30/I27 -> 0.92 | J44: =1+J30/J27 -> 0.92 | K44: =1+K30/K27 -> 0.92 | L44: =1+L30/L27 -> 0.92 | M44: =1+M30/M27 -> 0.92 | N44: =1+N30/N27 -> 0.92 | O44: =1+O30/O27 -> 0.92
E45: New ARR Growth % | H45: =H28/H27 -> 0.26333333 | I45: =(I28-H28)/H28 -> -0.10379747 | J45: =(J28-I28)/I28 -> 0.25531073 | K45: =(K28-J28)/J28 -> 0.25649939 | L45: =(L28-K28)/K28 -> 0.25768526 | M45: =(M28-L28)/L28 -> 0.25886674 | N45: =(N28-M28)/M28 -> 0.26004225 | O45: =(O28-N28)/N28 -> 0.26121022
A48: End of Sheet

Sheet Headcount & Compensation
A1: {=MID(CELL("filename",B1),FIND("]",CELL("filename",B1))+1,255)} -> Headcount & Compensation
E3: Period Start | H3: =Financials!H3 -> 44562 | I3: =Financials!I3 -> 44927 | J3: =Financials!J3 -> 45292 | K3: =Financials!K3 -> 45658 | L3: =Financials!L3 -> 46023 | M3: =Financials!M3 -> 46388 | N3: =Financials!N3 -> 46753 | O3: =Financials!O3 -> 47119
E4: Period End | H4: =Financials!H4 -> 44926 | I4: =Financials!I4 -> 45291 | J4: =Financials!J4 -> 45657 | K4: =Financials!K4 -> 46022 | L4: =Financials!L4 -> 46387 | M4: =Financials!M4 -> 46752 | N4: =Financials!N4 -> 47118 | O4: =Financials!O4 -> 47483
E5: Fiscal Year | H5: =Financials!H5 -> 2022 | I5: =Financials!I5 -> 2023 | J5: =Financials!J5 -> 2024 | K5: =Financials!K5 -> 2025 | L5: =Financials!L5 -> 2026 | M5: =Financials!M5 -> 2027 | N5: =Financials!N5 -> 2028 | O5: =Financials!O5 -> 2029
E6: Fiscal Quarter | H6: =ROUNDUP(MONTH(H3)/3,0) -> 1 | I6: =ROUNDUP(MONTH(I3)/3,0) -> 1 | J6: =ROUNDUP(MONTH(J3)/3,0) -> 1 | K6: =ROUNDUP(MONTH(K3)/3,0) -> 1 | L6: =ROUNDUP(MONTH(L3)/3,0) -> 1 | M6: =ROUNDUP(MONTH(M3)/3,0) -> 1 | N6: =ROUNDUP(MONTH(N3)/3,0) -> 1 | O6: =ROUNDUP(MONTH(O3)/3,0) -> 1
E7: Fiscal Month | H7: =MONTH(H4) -> 12 | I7: =MONTH(I4) -> 12 | J7: =MONTH(J4) -> 12 | K7: =MONTH(K4) -> 12 | L7: =MONTH(L4) -> 12 | M7: =MONTH(M4) -> 12 | N7: =MONTH(N4) -> 12 | O7: =MONTH(O4) -> 12
E8: Column # | H8: 1 | I8: =H8+1 -> 2 | J8: =I8+1 -> 3 | K8: =J8+1 -> 4 | L8: =K8+1 -> 5 | M8: =L8+1 -> 6 | N8: =M8+1 -> 7 | O8: =N8+1 -> 8
E9: Metric | H9: Annual
E10: Actual/Forecast | H10: =Financials!H10 -> Actual | I10: =Financials!I10 -> Actual | J10: =Financials!J10 -> Actual | K10: =Financials!K10 -> Actual | L10: =Financials!L10 -> Forecast | M10: =Financials!M10 -> Forecast | N10: =Financials!N10 -> Forecast | O10: =Financials!O10 -> Forecast
E11: in £m (unless otherwise stated), FYE December
E14: Headcount by Department | F14: Assumptions
E16: Sales & Customer Success | F16: Sales HC Growth | G16: 0.15 | H16: 18 | I16: =H16*(1+$G$16) -> 20.7 | J16: =I16*(1+$G$16) -> 23.805 | K16: =J16*(1+$G$16) -> 27.37575 | L16: =K16*(1+$G$16) -> 31.482112 | M16: =L16*(1+$G$16) -> 36.204429 | N16: =M16*(1+$G$16) -> 41.635094 | O16: =N16*(1+$G$16) -> 47.880358
E17: Marketing | F17: Marketing HC Growth | G17: 0.12 | H17: 8 | I17: =H17*(1+$G$17) -> 8.96 | J17: =I17*(1+$G$17) -> 10.0352 | K17: =J17*(1+$G$17) -> 11.239424 | L17: =K17*(1+$G$17) -> 12.588155 | M17: =L17*(1+$G$17) -> 14.098733 | N17: =M17*(1+$G$17) -> 15.790581 | O17: =N17*(1+$G$17) -> 17.685451
E18: Research & Development | F18: R&D HC Growth | G18: 0.18 | H18: 25 | I18: =H18*(1+$G$18) -> 29.5 | J18: =I18*(1+$G$18) -> 34.81 | K18: =J18*(1+$G$18) -> 41.0758 | L18: =K18*(1+$G$18) -> 48.469444 | M18: =L18*(1+$G$18) -> 57.193944 | N18: =M18*(1+$G$18) -> 67.488854 | O18: =N18*(1+$G$18) -> 79.636848
E19: General & Administrative | F19: G&A HC Growth | G19: 0.08 | H19: 12 | I19: =H19*(1+$G$19) -> 12.96 | J19: =I19*(1+$G$19) -> 13.9968 | K19: =J19*(1+$G$19) -> 15.116544 | L19: =K19*(1+$G$19) -> 16.325868 | M19: =L19*(1+$G$19) -> 17.631937 | N19: =M19*(1+$G$19) -> 19.042492 | O19: =N19*(1+$G$19) -> 20.565891
E21: Total Headcount | H21: =SUM(H16:H19) -> 63 | I21: =SUM(I16:I19) -> 72.12 | J21: =SUM(J16:J19) -> 82.647 | K21: =SUM(K16:K19) -> 94.807518 | L21: =SUM(L16:L19) -> 108.86558 | M21: =SUM(M16:M19) -> 125.12904 | N21: =SUM(N16:N19) -> 143.95702 | O21: =SUM(O16:O19) -> 165.76855
E25: Average Compensation (£000s) | F25: Assumptions
E27: Sales & Customer Success | F27: Sales & CS Comp | G27: 65 | H27: =H16*$G$27/1000 -> 1.17 | I27: =I16*$G$27/1000 -> 1.3455 | J27: =J16*$G$27/1000 -> 1.547325 | K27: =K16*$G$27/1000 -> 1.7794237 | L27: =L16*$G$27/1000 -> 2.0463373 | M27: =M16*$G$27/1000 -> 2.3532879 | N27: =N16*$G$27/1000 -> 2.7062811 | O27: =O16*$G$27/1000 -> 3.1122233
E28: Marketing | F28: Marketing Comp | G28: 70 | H28: =H17*$G$28/1000 -> 0.56 | I28: =I17*$G$28/1000 -> 0.6272 | J28: =J17*$G$28/1000 -> 0.702464 | K28: =K17*$G$28/1000 -> 0.78675968 | L28: =L17*$G$28/1000 -> 0.88117084 | M28: =M17*$G$28/1000 -> 0.98691134 | N28: =N17*$G$28/1000 -> 1.1053407 | O28: =O17*$G$28/1000 -> 1.2379816
E29: Research & Development | F29: R&D Comp | G29: 75 | H29: =H18*$G$29/1000 -> 1.875 | I29: =I18*$G$29/1000 -> 2.2125 | J29: =J18*$G$29/1000 -> 2.61075 | K29: =K18*$G$29/1000 -> 3.080685 | L29: =L18*$G$29/1000 -> 3.6352083 | M29: =M18*$G$29/1000 -> 4.2895458 | N29: =N18*$G$29/1000 -> 5.061664 | O29: =O18*$G$29/1000 -> 5.9727636
E30: General & Administrative | F30: G&A Comp | G30: 80 | H30: =H19*$G$30/1000 -> 0.96 | I30: =I19*$G$30/1000 -> 1.0368 | J30: =J19*$G$30/1000 -> 1.119744 | K30: =K19*$G$30/1000 -> 1.2093235 | L30: =L19*$G$30/1000 -> 1.3060694 | M30: =M19*$G$30/1000 -> 1.410555 | N30: =N19*$G$30/1000 -> 1.5233994 | O30: =O19*$G$30/1000 -> 1.6452713
E32: Total Compensation Cost | H32: =SUM(H27:H30) -> 4.565 | I32: =SUM(I27:I30) -> 5.222 | J32: =SUM(J27:J30) -> 5.980283 | K32: =SUM(K27:K30) -> 6.8561919 | L32: =SUM(L27:L30) -> 7.8687859 | M32: =SUM(M27:M30) -> 9.0403 | N32: =SUM(N27:N30) -> 10.396685 | O32: =SUM(O27:O30) -> 11.96824
E36: Employee Metrics
E38: Revenue per Employee (£000s) | H38: =Financials!H16/H21*1000 -> 269.84127 | I38: =Financials!I16/I21*1000 -> 293.94065 | J38: =Financials!J16/J21*1000 -> 320.15875 | K38: =Financials!K16/K21*1000 -> 348.69026 | L38: =Financials!L16/L21*1000 -> 379.74936 | M38: =Financials!M16/M21*1000 -> 413.57169 | N38: =Financials!N16/N21*1000 -> 450.41659 | O38: =Financials!O16/O21*1000 -> 490.56957
E39: Compensation as % of Revenue | H39: =H32/Financials!H16 -> 0.26852941 | I39: =I32/Financials!I16 -> 0.24633237 | J39: =J32/Financials!J16 -> 0.22601084 | K39: =K32/Financials!K16 -> 0.207396 | L39: =L32/Financials!L16 -> 0.19033563 | M39: =M32/Financials!M16 -> 0.17469236 | N39: =N32/Financials!N16 -> 0.16034214 | O39: =O32/Financials!O16 -> 0.14717279
E40: Average Comp per Employee (£000s) | H40: =H32/H21*1000 -> 72.460317 | I40: =I32/I21*1000 -> 72.407099 | J40: =J32/J21*1000 -> 72.359348 | K40: =K32/K21*1000 -> 72.316965 | L40: =L32/L21*1000 -> 72.279833 | M40: =M32/M21*1000 -> 72.247815 | N40: =N32/N21*1000 -> 72.220758 | O40: =O32/O21*1000 -> 72.198495
A43: End of Sheet

Sheet Operating Expenses
A1: {=MID(CELL("filename",B1),FIND("]",CELL("filename",B1))+1,255)} -> Operating Expenses
E3: Period Start | H3: =Financials!H3 -> 44562 | I3: =Financials!I3 -> 44927 | J3: =Financials!J3 -> 45292 | K3: =Financials!K3 -> 45658 | L3: =Financials!L3 -> 46023 | M3: =Financials!M3 -> 46388 | N3: =Financials!N3 -> 46753 | O3: =Financials!O3 -> 47119
E4: Period End | H4: =Financials!H4 -> 44926 | I4: =Financials!I4 -> 45291 | J4: =Financials!J4 -> 45657 | K4: =Financials!K4 -> 46022 | L4: =Financials!L4 -> 46387 | M4: =Financials!M4 -> 46752 | N4: =Financials!N4 -> 47118 | O4: =Financials!O4 -> 47483
E5: Fiscal Year | H5: =Financials!H5 -> 2022 | I5: =Financials!I5 -> 2023 | J5: =Financials!J5 -> 2024 | K5: =Financials!K5 -> 2025 | L5: =Financials!L5 -> 2026 | M5: =Financials!M5 -> 2027 | N5: =Financials!N5 -> 2028 | O5: =Financials!O5 -> 2029
E6: Fiscal Quarter | H6: =ROUNDUP(MONTH(H3)/3,0) -> 1 | I6: =ROUNDUP(MONTH(I3)/3,0) -> 1 | J6: =ROUNDUP(MONTH(J3)/3,0) -> 1 | K6: =ROUNDUP(MONTH(K3)/3,0) -> 1 | L6: =ROUNDUP(MONTH(L3)/3,0) -> 1 | M6: =ROUNDUP(MONTH(M3)/3,0) -> 1 | N6: =ROUNDUP(MONTH(N3)/3,0) -> 1 | O6: =ROUNDUP(MONTH(O3)/3,0) -> 1
E7: Fiscal Month | H7: =MONTH(H4) -> 12 | I7: =MONTH(I4) -> 12 | J7: =MONTH(J4) -> 12 | K7: =MONTH(K4) -> 12 | L7: =MONTH(L4) -> 12 | M7: =MONTH(M4) -> 12 | N7: =MONTH(N4) -> 12 | O7: =MONTH(O4) -> 12
E8: Column # | H8: 1 | I8: =H8+1 -> 2 | J8: =I8+1 -> 3 | K8: =J8+1 -> 4 | L8: =K8+1 -> 5 | M8: =L8+1 -> 6 | N8: =M8+1 -> 7 | O8: =N8+1 -> 8
E9: Metric | H9: Annual
E10: Actual/Forecast | H10: =Financials!H10 -> Actual | I10: =Financials!I10 -> Actual | J10: =Financials!J10 -> Actual | K10: =Financials!K10 -> Actual | L10: =Financials!L10 -> Forecast | M10: =Financials!M10 -> Forecast | N10: =Financials!N10 -> Forecast | O10: =Financials!O10 -> Forecast
E11: in £m (unless otherwise stated), FYE December
E14: Personnel Costs | F14: Assumptions
E16: Total Compensation | H16: ='Headcount & Compensation'!H32 -> 4.565 | I16: ='Headcount & Compensation'!I32 -> 5.222 | J16: ='Headcount & Compensation'!J32 -> 5.980283 | K16: ='Headcount & Compensation'!K32 -> 6.8561919 | L16: ='Headcount & Compensation'!L32 -> 7.8687859 | M16: ='Headcount & Compensation'!M32 -> 9.0403 | N16: ='Headcount & Compensation'!N32 -> 10.396685 | O16: ='Headcount & Compensation'!O32 -> 11.96824
E17: Employer Taxes & Benefits | F17: Benefits % | G17: 0.22 | H17: =H16*$G$17 -> 1.0043 | I17: =I16*$G$17 -> 1.14884 | J17: =J16*$G$17 -> 1.3156623 | K17: =K16*$G$17 -> 1.5083622 | L17: =L16*$G$17 -> 1.7311329 | M17: =M16*$G$17 -> 1.988866 | N17: =N16*$G$17 -> 2.2872707 | O17: =O16*$G$17 -> 2.6330127
E19: Total Personnel Costs | H19: =H16+H17 -> 5.5693 | I19: =I16+I17 -> 6.37084 | J19: =J16+J17 -> 7.2959453 | K19: =K16+K17 -> 8.3645542 | L19: =L16+L17 -> 9.5999187 | M19: =M16+M17 -> 11.029166 | N19: =N16+N17 -> 12.683956 | O19: =O16+O17 -> 14.601252
E23: Other Operating Expenses | F23: As % of Revenue
E25: Cloud & Infrastructure | F25: Cloud % | G25: 0.08 | H25: =Financials!H16*$G$25 -> 1.36 | I25: =Financials!I16*$G$25 -> 1.69592 | J25: =Financials!J16*$G$25 -> 2.1168128 | K25: =Financials!K16*$G$25 -> 2.6446767 | L25: =Financials!L16*$G$25 -> 3.3073308 | M25: =Financials!M16*$G$25 -> 4.1399864 | N25: =Financials!N16*$G$25 -> 5.1872504 | O25: =Financials!O16*$G$25 -> 6.5056805
E26: Sales & Marketing | F26: S&M % | G26: 0.15 | H26: =Financials!H16*$G$26 -> 2.55 | I26: =Financials!I16*$G$26 -> 3.17985 | J26: =Financials!J16*$G$26 -> 3.969024 | K26: =Financials!K16*$G$26 -> 4.9587688 | L26: =Financials!L16*$G$26 -> 6.2012452 | M26: =Financials!M16*$G$26 -> 7.7624745 | N26: =Financials!N16*$G$26 -> 9.7260945 | O26: =Financials!O16*$G$26 -> 12.198151
E27: Office & Facilities | F27: Facilities % | G27: 0.03 | H27: =Financials!H16*$G$27 -> 0.51 | I27: =Financials!I16*$G$27 -> 0.63597 | J27: =Financials!J16*$G$27 -> 0.7938048 | K27: =Financials!K16*$G$27 -> 0.99175375 | L27: =Financials!L16*$G$27 -> 1.240249 | M27: =Financials!M16*$G$27 -> 1.5524949 | N27: =Financials!N16*$G$27 -> 1.9452189 | O27: =Financials!O16*$G$27 -> 2.4396302
E28: Professional Services | F28: Prof Services % | G28: 0.04 | H28: =Financials!H16*$G$28 -> 0.68 | I28: =Financials!I16*$G$28 -> 0.84796 | J28: =Financials!J16*$G$28 -> 1.0584064 | K28: =Financials!K16*$G$28 -> 1.3223383 | L28: =Financials!L16*$G$28 -> 1.6536654 | M28: =Financials!M16*$G$28 -> 2.0699932 | N28: =Financials!N16*$G$28 -> 2.5936252 | O28: =Financials!O16*$G$28 -> 3.2528402
E29: Other G&A | F29: Other G&A % | G29: 0.02 | H29: =Financials!H16*$G$29 -> 0.34 | I29: =Financials!I16*$G$29 -> 0.42398 | J29: =Financials!J16*$G$29 -> 0.5292032 | K29: =Financials!K16*$G$29 -> 0.66116917 | L29: =Financials!L16*$G$29 -> 0.82683269 | M29: =Financials!M16*$G$29 -> 1.0349966 | N29: =Financials!N16*$G$29 -> 1.2968126 | O29: =Financials!O16*$G$29 -> 1.6264201
E31: Total Other OpEx | H31: =SUM(H25:H29) -> 5.44 | I31: =SUM(I25:I29) -> 6.78368 | J31: =SUM(J25:J29) -> 8.4672512 | K31: =SUM(K25:K29) -> 10.578707 | L31: =SUM(L25:L29) -> 13.229323 | M31: =SUM(M25:M29) -> 16.559946 | N31: =SUM(N25:N29) -> 20.749002 | O31: =SUM(O25:O29) -> 26.022722
E35: Total Operating Expenses | H35: =H19+H31 -> 11.0093 | I35: =I19+I31 -> 13.15452 | J35: =J19+J31 -> 15.763196 | K35: =K19+K31 -> 18.943261 | L35: =L19+L31 -> 22.829242 | M35: =M19+M31 -> 27.589112 | N35: =N19+N31 -> 33.432958 | O35: =O19+O31 -> 40.623974
E39: EBITDA Bridge
E41: Revenue | H41: =Financials!H16 -> 17 | I41: =Financials!I16 -> 21.199 | J41: =Financials!J16 -> 26.46016 | K41: =Financials!K16 -> 33.058458 | L41: =Financials!L16 -> 41.341634 | M41: =Financials!M16 -> 51.74983 | N41: =Financials!N16 -> 64.84063 | O41: =Financials!O16 -> 81.321006
E42: Less: Total Operating Expenses | H42: =-H35 -> -11.0093 | I42: =-I35 -> -13.15452 | J42: =-J35 -> -15.763196 | K42: =-K35 -> -18.943261 | L42: =-L35 -> -22.829242 | M42: =-M35 -> -27.589112 | N42: =-N35 -> -33.432958 | O42: =-O35 -> -40.623974
E44: EBITDA | H44: =H41+H42 -> 5.9907 | I44: =I41+I42 -> 8.04448 | J44: =J41+J42 -> 10.696964 | K44: =K41+K42 -> 14.115198 | L44: =L41+L42 -> 18.512393 | M44: =M41+M42 -> 24.160718 | N44: =N41+N42 -> 31.407672 | O44: =O41+O42 -> 40.697031
E45: Check to Financials | H45: =H44-Financials!H19 -> 1.9907 | I45: =I44-Financials!I19 -> 3.04448 | J45: =J44-Financials!J19 -> 2.7589155 | K45: =K44-Financials!K19 -> 4.19766 | L45: =L44-Financials!L19 -> 6.1099023 | M45: =M44-Financials!M19 -> 8.6357694 | N45: =N44-Financials!N19 -> 11.955483 | O45: =O44-Financials!O19 -> 16.30073
E49: OpEx Metrics
E51: OpEx as % of Revenue | H51: =H35/Financials!H16 -> 0.64760588 | I51: =I35/Financials!I16 -> 0.6205255 | J51: =J35/Financials!J16 -> 0.59573323 | K51: =K35/Financials!K16 -> 0.57302312 | L51: =L35/Financials!L16 -> 0.55220946 | M51: =M35/Financials!M16 -> 0.53312468 | N51: =N35/Financials!N16 -> 0.51561741 | O51: =O35/Financials!O16 -> 0.49955081
E52: Personnel as % of Revenue | H52: =H19/Financials!H16 -> 0.32760588 | I52: =I19/Financials!I16 -> 0.3005255 | J52: =J19/Financials!J16 -> 0.27573323 | K52: =K19/Financials!K16 -> 0.25302312 | L52: =L19/Financials!L16 -> 0.23220946 | M52: =M19/Financials!M16 -> 0.21312468 | N52: =N19/Financials!N16 -> 0.19561741 | O52: =O19/Financials!O16 -> 0.17955081
E53: Other OpEx as % of Revenue | H53: =H31/Financials!H16 -> 0.32 | I53: =I31/Financials!I16 -> 0.32 | J53: =J31/Financials!J16 -> 0.32 | K53: =K31/Financials!K16 -> 0.32 | L53: =L31/Financials!L16 -> 0.32 | M53: =M31/Financials!M16 -> 0.32 | N53: =N31/Financials!N16 -> 0.32 | O53: =O31/Financials!O16 -> 0.32
A56: End of Sheet

Sheet Working Capital
A1: {=MID(CELL("filename",B1),FIND("]",CELL("filename",B1))+1,255)} -> Working Capital
E3: Period Start | H3: =Financials!H3 -> 44562 | I3: =Financials!I3 -> 44927 | J3: =Financials!J3 -> 45292 | K3: =Financials!K3 -> 45658 | L3: =Financials!L3 -> 46023 | M3: =Financials!M3 -> 46388 | N3: =Financials!N3 -> 46753 | O3: =Financials!O3 -> 47119
E4: Period End | H4: =Financials!H4 -> 44926 | I4: =Financials!I4 -> 45291 | J4: =Financials!J4 -> 45657 | K4: =Financials!K4 -> 46022 | L4: =Financials!L4 -> 46387 | M4: =Financials!M4 -> 46752 | N4: =Financials!N4 -> 47118 | O4: =Financials!O4 -> 47483
E5: Fiscal Year | H5: =Financials!H5 -> 2022 | I5: =Financials!I5 -> 2023 | J5: =Financials!J5 -> 2024 | K5: =Financials!K5 -> 2025 | L5: =Financials!L5 -> 2026 | M5: =Financials!M5 -> 2027 | N5: =Financials!N5 -> 2028 | O5: =Financials!O5 -> 2029
E6: Fiscal Quarter | H6: =ROUNDUP(MONTH(H3)/3,0) -> 1 | I6: =ROUNDUP(MONTH(I3)/3,0) -> 1 | J6: =ROUNDUP(MONTH(J3)/3,0) -> 1 | K6: =ROUNDUP(MONTH(K3)/3,0) -> 1 | L6: =ROUNDUP(MONTH(L3)/3,0) -> 1 | M6: =ROUNDUP(MONTH(M3)/3,0) -> 1 | N6: =ROUNDUP(MONTH(N3)/3,0) -> 1 | O6: =ROUNDUP(MONTH(O3)/3,0) -> 1
E7: Fiscal Month | H7: =MONTH(H4) -> 12 | I7: =MONTH(I4) -> 12 | J7: =MONTH(J4) -> 12 | K7: =MONTH(K4) -> 12 | L7: =MONTH(L4) -> 12 | M7: =MONTH(M4) -> 12 | N7: =MONTH(N4) -> 12 | O7: =MONTH(O4) -> 12
E8: Column # | H8: 1 | I8: =H8+1 -> 2 | J8: =I8+1 -> 3 | K8: =J8+1 -> 4 | L8: =K8+1 -> 5 | M8: =L8+1 -> 6 | N8: =M8+1 -> 7 | O8: =N8+1 -> 8
E9: Metric | H9: Annual
E10: Actual/Forecast | H10: =Financials!H10 -> Actual | I10: =Financials!I10 -> Actual | J10: =Financials!J10 -> Actual | K10: =Financials!K10 -> Actual | L10: =Financials!L10 -> Forecast | M10: =Financials!M10 -> Forecast | N10: =Financials!N10 -> Forecast | O10: =Financials!O10 -> Forecast
E11: in £m (unless otherwise stated), FYE December
E14: Working Capital Components | F14: Days / % Revenue
E16: Accounts Receivable | F16: AR Days | G16: 60 | H16: =Financials!H16*$G$16/$G$43 -> 2.7945205 | I16: =Financials!I16*$G$16/$G$43 -> 3.4847671 | J16: =Financials!J16*$G$16/$G$43 -> 4.3496153 | K16: =Financials!K16*$G$16/$G$43 -> 5.4342671 | L16: =Financials!L16*$G$16/$G$43 -> 6.7958851 | M16: =Financials!M16*$G$16/$G$43 -> 8.5068214 | N16: =Financials!N16*$G$16/$G$43 -> 10.658734 | O16: =Financials!O16*$G$16/$G$43 -> 13.367837
E17: Prepaid Expenses | F17: Prepaid % | G17: 0.02 | H17: =Financials!H16*$G$17 -> 0.34 | I17: =Financials!I16*$G$17 -> 0.42398 | J17: =Financials!J16*$G$17 -> 0.5292032 | K17: =Financials!K16*$G$17 -> 0.66116917 | L17: =Financials!L16*$G$17 -> 0.82683269 | M17: =Financials!M16*$G$17 -> 1.0349966 | N17: =Financials!N16*$G$17 -> 1.2968126 | O17: =Financials!O16*$G$17 -> 1.6264201
E18: Other Current Assets | F18: Other CA % | G18: 0.03 | H18: =Financials!H16*$G$18 -> 0.51 | I18: =Financials!I16*$G$18 -> 0.63597 | J18: =Financials!J16*$G$18 -> 0.7938048 | K18: =Financials!K16*$G$18 -> 0.99175375 | L18: =Financials!L16*$G$18 -> 1.240249 | M18: =Financials!M16*$G$18 -> 1.5524949 | N18: =Financials!N16*$G$18 -> 1.9452189 | O18: =Financials!O16*$G$18 -> 2.4396302
E20: Total Current Assets | H20: =SUM(H16:H18) -> 3.6445205 | I20: =SUM(I16:I18) -> 4.5447171 | J20: =SUM(J16:J18) -> 5.6726233 | K20: =SUM(K16:K18) -> 7.0871901 | L20: =SUM(L16:L18) -> 8.8629668 | M20: =SUM(M16:M18) -> 11.094313 | N20: =SUM(N16:N18) -> 13.900765 | O20: =SUM(O16:O18) -> 17.433887
E23: Accounts Payable | F23: AP Days | G23: 45 | H23: =-Financials!H16*$G$23/$G$43 -> -2.0958904 | I23: =-Financials!I16*$G$23/$G$43 -> -2.6135753 | J23: =-Financials!J16*$G$23/$G$43 -> -3.2622115 | K23: =-Financials!K16*$G$23/$G$43 -> -4.0757004 | L23: =-Financials!L16*$G$23/$G$43 -> -5.0969138 | M23: =-Financials!M16*$G$23/$G$43 -> -6.380116 | N23: =-Financials!N16*$G$23/$G$43 -> -7.9940503 | O23: =-Financials!O16*$G$23/$G$43 -> -10.025877
E24: Accrued Expenses | F24: Accrued % | G24: 0.05 | H24: =-Financials!H16*$G$24 -> -0.85 | I24: =-Financials!I16*$G$24 -> -1.05995 | J24: =-Financials!J16*$G$24 -> -1.323008 | K24: =-Financials!K16*$G$24 -> -1.6529229 | L24: =-Financials!L16*$G$24 -> -2.0670817 | M24: =-Financials!M16*$G$24 -> -2.5874915 | N24: =-Financials!N16*$G$24 -> -3.2420315 | O24: =-Financials!O16*$G$24 -> -4.0660503
E25: Deferred Revenue | F25: Deferred % | G25: 0.25 | H25: =-Financials!H16*$G$25 -> -4.25 | I25: =-Financials!I16*$G$25 -> -5.29975 | J25: =-Financials!J16*$G$25 -> -6.61504 | K25: =-Financials!K16*$G$25 -> -8.2646146 | L25: =-Financials!L16*$G$25 -> -10.335409 | M25: =-Financials!M16*$G$25 -> -12.937458 | N25: =-Financials!N16*$G$25 -> -16.210158 | O25: =-Financials!O16*$G$25 -> -20.330251
E26: Other Current Liabilities | F26: Other CL % | G26: 0.02 | H26: =-Financials!H16*$G$26 -> -0.34 | I26: =-Financials!I16*$G$26 -> -0.42398 | J26: =-Financials!J16*$G$26 -> -0.5292032 | K26: =-Financials!K16*$G$26 -> -0.66116917 | L26: =-Financials!L16*$G$26 -> -0.82683269 | M26: =-Financials!M16*$G$26 -> -1.0349966 | N26: =-Financials!N16*$G$26 -> -1.2968126 | O26: =-Financials!O16*$G$26 -> -1.6264201
E28: Total Current Liabilities | H28: =SUM(H23:H26) -> -7.5358904 | I28: =SUM(I23:I26) -> -9.3972553 | J28: =SUM(J23:J26) -> -11.729463 | K28: =SUM(K23:K26) -> -14.654407 | L28: =SUM(L23:L26) -> -18.326237 | M28: =SUM(M23:M26) -> -22.940062 | N28: =SUM(N23:N26) -> -28.743052 | O28: =SUM(O23:O26) -> -36.048599
E32: Net Working Capital | G32: 0 | H32: =H20+H28 -> -3.8913699 | I32: =I20+I28 -> -4.8525382 | J32: =J20+J28 -> -6.0568394 | K32: =K20+K28 -> -7.567217 | L32: =L20+L28 -> -9.46327 | M32: =M20+M28 -> -11.845749 | N32: =N20+N28 -> -14.842287 | O32: =O20+O28 -> -18.614712
E33: Check to Financials | H33: =H32-Financials!H31 -> -1.7913699 | I33: =I32-Financials!I31 -> -1.8525382 | J33: =J32-Financials!J31 -> 0.69050144 | K33: =K32-Financials!K31 -> 1.4246837 | L33: =L32-Financials!L31 -> 1.9056794 | M33: =M32-Financials!M31 -> 3.3169514 | N33: =N32-Financials!N31 -> 5.0637867 | O33: =O32-Financials!O31 -> 6.3508364
E37: Working Capital Analysis
E39: Change in NWC | H39: =H32-G32 -> -3.8913699 | I39: =I32-H32 -> -0.96116836 | J39: =J32-I32 -> -1.2043011 | K39: =K32-J32 -> -1.5103776 | L39: =L32-K32 -> -1.896053 | M39: =M32-L32 -> -2.3824788 | N39: =N32-M32 -> -2.9965379 | O39: =O32-N32 -> -3.7724257
E40: Check to Financials | H40: =H39-Financials!H34 -> -3.7913699 | I40: =I39-Financials!I34 -> -1.8611684 | J40: =J39-Financials!J34 -> -4.9516419 | K40: =K39-Financials!K34 -> -3.7549375 | L40: =L39-Financials!L34 -> -4.2731018 | M40: =M39-Financials!M34 -> -6.1762295 | N40: =N39-Financials!N34 -> -7.7399111 | O40: =O39-Financials!O34 -> -8.8319011
E43: Days Sales Outstanding | F43: Days Periods | G43: 365 | H43: =$G$16 -> 60 | I43: =$G$16 -> 60 | J43: =$G$16 -> 60 | K43: =$G$16 -> 60 | L43: =$G$16 -> 60 | M43: =$G$16 -> 60 | N43: =$G$16 -> 60 | O43: =$G$16 -> 60
E44: Days Payable Outstanding | H44: =$G$23 -> 45 | I44: =$G$23 -> 45 | J44: =$G$23 -> 45 | K44: =$G$23 -> 45 | L44: =$G$23 -> 45 | M44: =$G$23 -> 45 | N44: =$G$23 -> 45 | O44: =$G$23 -> 45
E45: NWC as % of Revenue | H45: =H32/Financials!H16 -> -0.22890411 | I45: =I32/Financials!I16 -> -0.22890411 | J45: =J32/Financials!J16 -> -0.22890411 | K45: =K32/Financials!K16 -> -0.22890411 | L45: =L32/Financials!L16 -> -0.22890411 | M45: =M32/Financials!M16 -> -0.22890411 | N45: =N32/Financials!N16 -> -0.22890411 | O45: =O32/Financials!O16 -> -0.22890411
A48: End of Sheet

Sheet __tracelight_scratchpad__
