Workbook

Sheet Inputs
A2: General Inputs
B4: Project Name | D4: Community ABC
B6: Calculation - Begin Date | D6: 44561
B7: Calculation - Months Per Period | D7: 1
B9: Presentation - Begin Date | D9: =D6 -> 44561
B10: Presentation - Dollar Basis | D10: 1000000
B11: Presentation - Months Per Period | D11: 12

Sheet Product
D2: Phase 1 | E2: Phase 1 | F2: Phase 1 | G2: Phase 2 | H2: Phase 2 | I2: Phase 2 | J2: Phase 3 | K2: Phase 3 | L2: Phase 3 | M2: Phase 4 | N2: Phase 4 | O2: Phase 4 | P2: Phase 5 | Q2: Phase 5 | R2: Phase 5
B3: Product Inputs | D3: 50' Wide | E3: 60' Wide | F3: 75' Wide | G3: 50' Wide | H3: 60' Wide | I3: 75' Wide | J3: 50' Wide | K3: 60' Wide | L3: 75' Wide | M3: 50' Wide | N3: 60' Wide | O3: 75' Wide | P3: 50' Wide | Q3: 60' Wide | R3: 75' Wide | T3: TOTAL
B5: # Units (Total) | D5: 30 | E5: 30 | F5: 20 | G5: 30 | H5: 30 | I5: 20 | J5: 30 | K5: 30 | L5: 20 | M5: 30 | N5: 30 | O5: 20 | P5: 30 | Q5: 30 | R5: 20 | T5: =SUM(C5:S5) -> 400
A7: Per Unit:
B9: Base Price | D9: 281000 | E9: 342500 | F9: 409500 | G9: 281000 | H9: 342500 | I9: 409500 | J9: 281000 | K9: 342500 | L9: 409500 | M9: 281000 | N9: 342500 | O9: 409500 | P9: 281000 | Q9: 342500 | R9: 409500 | T9: =SUMPRODUCT($C$5:$S$5, C9:S9)/SUM($C$5:$S$5) -> 336187.5
B10: Options & Upgrades | D10: 40000 | E10: 40000 | F10: 40000 | G10: 40000 | H10: 40000 | I10: 40000 | J10: 40000 | K10: 40000 | L10: 40000 | M10: 40000 | N10: 40000 | O10: 40000 | P10: 40000 | Q10: 40000 | R10: 40000 | T10: =SUMPRODUCT($C$5:$S$5, C10:S10)/SUM($C$5:$S$5) -> 40000
B11: Premiums | D11: 10000 | E11: 10000 | F11: 10000 | G11: 10000 | H11: 10000 | I11: 10000 | J11: 10000 | K11: 10000 | L11: 10000 | M11: 10000 | N11: 10000 | O11: 10000 | P11: 10000 | Q11: 10000 | R11: 10000 | T11: =SUMPRODUCT($C$5:$S$5, C11:S11)/SUM($C$5:$S$5) -> 10000
B13: Sale Price | D13: =SUM(D8:D12) -> 331000 | E13: =SUM(E8:E12) -> 392500 | F13: =SUM(F8:F12) -> 459500 | G13: =SUM(G8:G12) -> 331000 | H13: =SUM(H8:H12) -> 392500 | I13: =SUM(I8:I12) -> 459500 | J13: =SUM(J8:J12) -> 331000 | K13: =SUM(K8:K12) -> 392500 | ... R13: =SUM(R8:R12) -> 459500 | T13: =SUM(T8:T12) -> 386187.5
B15: Land Acquisition Costs | D15: -20000 | E15: -20000 | F15: -20000 | G15: -20000 | H15: -20000 | I15: -20000 | J15: -20000 | K15: -20000 | L15: -20000 | M15: -20000 | N15: -20000 | O15: -20000 | P15: -20000 | Q15: -20000 | R15: -20000 | T15: =SUMPRODUCT($C$5:$S$5, C15:S15)/SUM($C$5:$S$5) -> -20000
B16: Horizontal Costs | D16: -25000 | E16: -25000 | F16: -25000 | G16: -25000 | H16: -25000 | I16: -25000 | J16: -25000 | K16: -25000 | L16: -25000 | M16: -25000 | N16: -25000 | O16: -25000 | P16: -25000 | Q16: -25000 | R16: -25000 | T16: =SUMPRODUCT($C$5:$S$5, C16:S16)/SUM($C$5:$S$5) -> -25000
B17: Vertical Costs - Base Price | D17: -130000 | E17: -130000 | F17: -130000 | G17: -130000 | H17: -130000 | I17: -130000 | J17: -130000 | K17: -130000 | L17: -130000 | M17: -130000 | N17: -130000 | O17: -130000 | P17: -130000 | Q17: -130000 | R17: -130000 | T17: =SUMPRODUCT($C$5:$S$5, C17:S17)/SUM($C$5:$S$5) -> -130000
B18: Vertical Costs - Options | D18: -30000 | E18: -30000 | F18: -30000 | G18: -30000 | H18: -30000 | I18: -30000 | J18: -30000 | K18: -30000 | L18: -30000 | M18: -30000 | N18: -30000 | O18: -30000 | P18: -30000 | Q18: -30000 | R18: -30000 | T18: =SUMPRODUCT($C$5:$S$5, C18:S18)/SUM($C$5:$S$5) -> -30000
B19: Direct Overhead | D19: -6000 | E19: -6000 | F19: -6000 | G19: -6000 | H19: -6000 | I19: -6000 | J19: -6000 | K19: -6000 | L19: -6000 | M19: -6000 | N19: -6000 | O19: -6000 | P19: -6000 | Q19: -6000 | R19: -6000 | T19: =SUMPRODUCT($C$5:$S$5, C19:S19)/SUM($C$5:$S$5) -> -6000
B21: Direct Costs | D21: =SUM(D14:D20) -> -211000 | E21: =SUM(E14:E20) -> -211000 | F21: =SUM(F14:F20) -> -211000 | G21: =SUM(G14:G20) -> -211000 | H21: =SUM(H14:H20) -> -211000 | I21: =SUM(I14:I20) -> -211000 | J21: =SUM(J14:J20) -> -211000 | K21: =SUM(K14:K20) -> -211000 | ... R21: =SUM(R14:R20) -> -211000 | T21: =SUM(T14:T20) -> -211000
B23: Direct Profit | D23: =SUM(D21, D13) -> 120000 | E23: =SUM(E21, E13) -> 181500 | F23: =SUM(F21, F13) -> 248500 | G23: =SUM(G21, G13) -> 120000 | H23: =SUM(H21, H13) -> 181500 | I23: =SUM(I21, I13) -> 248500 | J23: =SUM(J21, J13) -> 120000 | K23: =SUM(K21, K13) -> 181500 | ... R23: =SUM(R21, R13) -> 248500 | T23: =SUMPRODUCT($C$5:$S$5, C23:S23)/SUM($C$5:$S$5) -> 175187.5
B25: Broker Commission | D25: =D13*D37 -> -16550 | E25: =E13*E37 -> -19625 | F25: =F13*F37 -> -22975 | G25: =G13*G37 -> -16550 | H25: =H13*H37 -> -19625 | I25: =I13*I37 -> -22975 | J25: =J13*J37 -> -16550 | K25: =K13*K37 -> -19625 | ... R25: =R13*R37 -> -22975 | T25: =SUMPRODUCT($C$5:$S$5, C25:S25)/SUM($C$5:$S$5) -> -19309.375
B26: Closing Costs | D26: =D13*D38 -> -4137.5 | E26: =E13*E38 -> -4906.25 | F26: =F13*F38 -> -5743.75 | G26: =G13*G38 -> -4137.5 | H26: =H13*H38 -> -4906.25 | I26: =I13*I38 -> -5743.75 | J26: =J13*J38 -> -4137.5 | K26: =K13*K38 -> -4906.25 | ... R26: =R13*R38 -> -5743.75 | T26: =SUMPRODUCT($C$5:$S$5, C26:S26)/SUM($C$5:$S$5) -> -4827.3438
B28: Transaction Costs | D28: =SUM(D24:D27) -> -20687.5 | E28: =SUM(E24:E27) -> -24531.25 | F28: =SUM(F24:F27) -> -28718.75 | G28: =SUM(G24:G27) -> -20687.5 | H28: =SUM(H24:H27) -> -24531.25 | I28: =SUM(I24:I27) -> -28718.75 | J28: =SUM(J24:J27) -> -20687.5 | K28: =SUM(K24:K27) -> -24531.25 | ... R28: =SUM(R24:R27) -> -28718.75 | T28: =SUM(T24:T27) -> -24136.719
B30: Gross Profit | D30: =SUM(D23, D28) -> 99312.5 | E30: =SUM(E23, E28) -> 156968.75 | F30: =SUM(F23, F28) -> 219781.25 | G30: =SUM(G23, G28) -> 99312.5 | H30: =SUM(H23, H28) -> 156968.75 | I30: =SUM(I23, I28) -> 219781.25 | J30: =SUM(J23, J28) -> 99312.5 | K30: =SUM(K23, K28) -> 156968.75 | ... R30: =SUM(R23, R28) -> 219781.25 | T30: =SUM(T23, T28) -> 151050.78
A32: Other Assumptions:
B33: Appreciation Rate - Sales | D33: 0.02 | E33: 0.02 | F33: 0.02 | G33: 0.02 | H33: 0.02 | I33: 0.02 | J33: 0.02 | K33: 0.02 | L33: 0.02 | M33: 0.02 | N33: 0.02 | O33: 0.02 | P33: 0.02 | Q33: 0.02 | R33: 0.02 | T33: =SUMPRODUCT($C$5:$S$5, C33:S33)/SUM($C$5:$S$5) -> 0.02
B34: Appreciation Rate - Costs | D34: 0.02 | E34: 0.02 | F34: 0.02 | G34: 0.02 | H34: 0.02 | I34: 0.02 | J34: 0.02 | K34: 0.02 | L34: 0.02 | M34: 0.02 | N34: 0.02 | O34: 0.02 | P34: 0.02 | Q34: 0.02 | R34: 0.02 | T34: =SUMPRODUCT($C$5:$S$5, C34:S34)/SUM($C$5:$S$5) -> 0.02
B35: Down Payment % | D35: 0.1 | E35: 0.1 | F35: 0.1 | G35: 0.1 | H35: 0.1 | I35: 0.1 | J35: 0.1 | K35: 0.1 | L35: 0.1 | M35: 0.1 | N35: 0.1 | O35: 0.1 | P35: 0.1 | Q35: 0.1 | R35: 0.1 | T35: =SUMPRODUCT($C$5:$S$5, C35:S35)/SUM($C$5:$S$5) -> 0.1
B36: Down Payment | D36: =D13*D35 -> 33100 | E36: =E13*E35 -> 39250 | F36: =F13*F35 -> 45950 | G36: =G13*G35 -> 33100 | H36: =H13*H35 -> 39250 | I36: =I13*I35 -> 45950 | J36: =J13*J35 -> 33100 | K36: =K13*K35 -> 39250 | ... R36: =R13*R35 -> 45950 | T36: =SUMPRODUCT($C$5:$S$5, C36:S36)/SUM($C$5:$S$5) -> 38618.75
B37: Broker Commissions Rate | D37: -0.05 | E37: -0.05 | F37: -0.05 | G37: -0.05 | H37: -0.05 | I37: -0.05 | J37: -0.05 | K37: -0.05 | L37: -0.05 | M37: -0.05 | N37: -0.05 | O37: -0.05 | P37: -0.05 | Q37: -0.05 | R37: -0.05 | T37: =SUMPRODUCT($C$5:$S$5, C37:S37)/SUM($C$5:$S$5) -> -0.05
B38: Closing Costs Rate | D38: -0.0125 | E38: -0.0125 | F38: -0.0125 | G38: -0.0125 | H38: -0.0125 | I38: -0.0125 | J38: -0.0125 | K38: -0.0125 | L38: -0.0125 | M38: -0.0125 | N38: -0.0125 | O38: -0.0125 | P38: -0.0125 | Q38: -0.0125 | R38: -0.0125 | T38: =SUMPRODUCT($C$5:$S$5, C38:S38)/SUM($C$5:$S$5) -> -0.0125
B39: Selling & Marketing Rate | D39: -0.025 | E39: -0.025 | F39: -0.025 | G39: -0.025 | H39: -0.025 | I39: -0.025 | J39: -0.025 | K39: -0.025 | L39: -0.025 | M39: -0.025 | N39: -0.025 | O39: -0.025 | P39: -0.025 | Q39: -0.025 | R39: -0.025 | T39: =SUMPRODUCT($C$5:$S$5, C39:S39)/SUM($C$5:$S$5) -> -0.025
B40: Selling & Marketing | D40: =D13*D39 -> -8275 | E40: =E13*E39 -> -9812.5 | F40: =F13*F39 -> -11487.5 | G40: =G13*G39 -> -8275 | H40: =H13*H39 -> -9812.5 | I40: =I13*I39 -> -11487.5 | J40: =J13*J39 -> -8275 | K40: =K13*K39 -> -9812.5 | ... R40: =R13*R39 -> -11487.5 | T40: =SUMPRODUCT($C$5:$S$5, C40:S40)/SUM($C$5:$S$5) -> -9654.6875
B41: General Overhead Rate | D41: -0.05 | E41: -0.05 | F41: -0.05 | G41: -0.05 | H41: -0.05 | I41: -0.05 | J41: -0.05 | K41: -0.05 | L41: -0.05 | M41: -0.05 | N41: -0.05 | O41: -0.05 | P41: -0.05 | Q41: -0.05 | R41: -0.05 | T41: =SUMPRODUCT($C$5:$S$5, C41:S41)/SUM($C$5:$S$5) -> -0.05
B42: General Overhead | D42: =D13*D41 -> -16550 | E42: =E13*E41 -> -19625 | F42: =F13*F41 -> -22975 | G42: =G13*G41 -> -16550 | H42: =H13*H41 -> -19625 | I42: =I13*I41 -> -22975 | J42: =J13*J41 -> -16550 | K42: =K13*K41 -> -19625 | ... R42: =R13*R41 -> -22975 | T42: =SUMPRODUCT($C$5:$S$5, C42:S42)/SUM($C$5:$S$5) -> -19309.375
B43: Mill Rate (Per 000) | D43: =-5/1000 -> -0.005 | E43: =-5/1000 -> -0.005 | F43: =-5/1000 -> -0.005 | G43: =-5/1000 -> -0.005 | H43: =-5/1000 -> -0.005 | I43: =-5/1000 -> -0.005 | J43: =-5/1000 -> -0.005 | K43: =-5/1000 -> -0.005 | ... R43: =-5/1000 -> -0.005 | T43: =SUMPRODUCT($C$5:$S$5, C43:S43)/SUM($C$5:$S$5) -> -0.005
B44: Appraiser Valuation Adjustment | D44: 1 | E44: 1 | F44: 1 | G44: 1 | H44: 1 | I44: 1 | J44: 1 | K44: 1 | L44: 1 | M44: 1 | N44: 1 | O44: 1 | P44: 1 | Q44: 1 | R44: 1 | T44: =SUMPRODUCT($C$5:$S$5, C44:S44)/SUM($C$5:$S$5) -> 1
B45: Prop. Tax Rate | D45: =D43*D44 -> -0.005 | E45: =E43*E44 -> -0.005 | F45: =F43*F44 -> -0.005 | G45: =G43*G44 -> -0.005 | H45: =H43*H44 -> -0.005 | I45: =I43*I44 -> -0.005 | J45: =J43*J44 -> -0.005 | K45: =K43*K44 -> -0.005 | ... R45: =R43*R44 -> -0.005 | T45: =SUMPRODUCT($C$5:$S$5, C45:S45)/SUM($C$5:$S$5) -> -0.005
B46: HOA Dues | D46: -500 | E46: -500 | F46: -500 | G46: -500 | H46: -500 | I46: -500 | J46: -500 | K46: -500 | L46: -500 | M46: -500 | N46: -500 | O46: -500 | P46: -500 | Q46: -500 | R46: -500 | T46: =SUMPRODUCT($C$5:$S$5, C46:S46)/SUM($C$5:$S$5) -> -500
B47: Financing Delay | D47: 2 | E47: 2 | F47: 2 | G47: 2 | H47: 2 | I47: 2 | J47: 2 | K47: 2 | L47: 2 | M47: 2 | N47: 2 | O47: 2 | P47: 2 | Q47: 2 | R47: 2 | T47: =SUMPRODUCT($C$5:$S$5, C47:S47)/SUM($C$5:$S$5) -> 2
B48: LTV | D48: 1 | E48: 1 | F48: 1 | G48: 1 | H48: 1 | I48: 1 | J48: 1 | K48: 1 | L48: 1 | M48: 1 | N48: 1 | O48: 1 | P48: 1 | Q48: 1 | R48: 1 | T48: =SUMPRODUCT($C$5:$S$5, C48:S48)/SUM($C$5:$S$5) -> 1
B49: WIP Cash Flows | D49: =SUM(D16, D17, D18, D19) -> -191000 | E49: =SUM(E16, E17, E18, E19) -> -191000 | F49: =SUM(F16, F17, F18, F19) -> -191000 | G49: =SUM(G16, G17, G18, G19) -> -191000 | H49: =SUM(H16, H17, H18, H19) -> -191000 | I49: =SUM(I16, I17, I18, I19) -> -191000 | J49: =SUM(J16, J17, J18, J19) -> -191000 | K49: =SUM(K16, K17, K18, K19) -> -191000 | ... R49: =SUM(R16, R17, R18, R19) -> -191000 | T49: =SUMPRODUCT($C$5:$S$5, C49:S49)/SUM($C$5:$S$5) -> -191000
B50: Financing Rate (Annual) | D50: 0.05 | E50: 0.05 | F50: 0.05 | G50: 0.05 | H50: 0.05 | I50: 0.05 | J50: 0.05 | K50: 0.05 | L50: 0.05 | M50: 0.05 | N50: 0.05 | O50: 0.05 | P50: 0.05 | Q50: 0.05 | R50: 0.05 | T50: =SUMPRODUCT($C$5:$S$5, C50:S50)/SUM($C$5:$S$5) -> 0.05
B51: Financing Rate (Month) | D51: =D50/12 -> 0.0041666667 | E51: =E50/12 -> 0.0041666667 | F51: =F50/12 -> 0.0041666667 | G51: =G50/12 -> 0.0041666667 | H51: =H50/12 -> 0.0041666667 | I51: =I50/12 -> 0.0041666667 | J51: =J50/12 -> 0.0041666667 | K51: =K50/12 -> 0.0041666667 | ... R51: =R50/12 -> 0.0041666667 | T51: =SUMPRODUCT($C$5:$S$5, C51:S51)/SUM($C$5:$S$5) -> 0.0041666667
B52: Financing Periods (Months) | D52: =DATEDIF(D81, D93, "M")+1 -> 26 | E52: =DATEDIF(E81, E93, "M")+1 -> 26 | F52: =DATEDIF(F81, F93, "M")+1 -> 26 | G52: =DATEDIF(G81, G93, "M")+1 -> 38 | H52: =DATEDIF(H81, H93, "M")+1 -> 38 | I52: =DATEDIF(I81, I93, "M")+1 -> 38 | J52: =DATEDIF(J81, J93, "M")+1 -> 50 | K52: =DATEDIF(K81, K93, "M")+1 -> 50 | ... R52: =DATEDIF(R81, R93, "M")+1 -> 74 | S52: =DATEDIF(S81, S92, "M")+1 -> 1
...

Sheet Infra
D2: Legal | E2: Master Infra. | F2: Amenities | G2: Signs & Landsc. | H2: Sales Center
B3: General Infrastructure Inputs | D3: General | E3: General | F3: General | G3: General | H3: General | J3: TOTAL
B5: Units | D5: LOT | E5: LF
B6: Quantity | D6: 400 | E6: 2500 | F6: 1 | G6: 1 | H6: 1
B7: Unit Cost | D7: -200 | E7: -1000 | F7: -2000000 | G7: -500000 | H7: -1000000
B8: Total Cost | D8: =D6*D7 -> -80000 | E8: =E6*E7 -> -2500000 | F8: =F6*F7 -> -2000000 | G8: =G6*G7 -> -500000 | H8: =H6*H7 -> -1000000 | J8: =SUM(C8:I8) -> -6080000
B9: Start Month | D9: 0 | E9: 1 | F9: 6 | G9: 1 | H9: 6
B10: Start Date | D10: =EOMONTH(Inputs!$D$6, D9) -> 44561 | E10: =EOMONTH(Inputs!$D$6, E9) -> 44592 | F10: =EOMONTH(Inputs!$D$6, F9) -> 44742 | G10: =EOMONTH(Inputs!$D$6, G9) -> 44592 | H10: =EOMONTH(Inputs!$D$6, H9) -> 44742
B11: Periods | D11: =COUNTA(D12:D21) -> 1 | E11: =COUNTA(E12:E21) -> 9 | F11: =COUNTA(F12:F21) -> 9 | G11: =COUNTA(G12:G21) -> 1 | H11: =COUNTA(H12:H21) -> 9
B12: =ROW(B12)-ROW($B$11) -> 1 | D12: 1 | E12: 0.025 | F12: 0.025 | G12: 1 | H12: 0.025
B13: =ROW(B13)-ROW($B$11) -> 2 | E13: 0.075 | F13: 0.075 | H13: 0.075
B14: =ROW(B14)-ROW($B$11) -> 3 | E14: 0.1 | F14: 0.1 | H14: 0.1
B15: =ROW(B15)-ROW($B$11) -> 4 | E15: 0.15 | F15: 0.15 | H15: 0.15
B16: =ROW(B16)-ROW($B$11) -> 5 | E16: 0.3 | F16: 0.3 | H16: 0.3
B17: =ROW(B17)-ROW($B$11) -> 6 | E17: 0.15 | F17: 0.15 | H17: 0.15
B18: =ROW(B18)-ROW($B$11) -> 7 | E18: 0.1 | F18: 0.1 | H18: 0.1
B19: =ROW(B19)-ROW($B$11) -> 8 | E19: 0.075 | F19: 0.075 | H19: 0.075
B20: =ROW(B20)-ROW($B$11) -> 9 | E20: 0.025 | F20: 0.025 | H20: 0.025

Sheet Calc
A1: =Inputs!$D$4 -> Community ABC
B2: Calculations | G2: TOTAL | I2: =E6 -> 44561 | J2: =EOMONTH(I2, $E$7) -> 44592 | K2: =EOMONTH(J2, $E$7) -> 44620 | L2: =EOMONTH(K2, $E$7) -> 44651 | M2: =EOMONTH(L2, $E$7) -> 44681 | N2: =EOMONTH(M2, $E$7) -> 44712 | O2: =EOMONTH(N2, $E$7) -> 44742 | P2: =EOMONTH(O2, $E$7) -> 44773 | Q2: =EOMONTH(P2, $E$7) -> 44804 | ... DY2: =EOMONTH(DX2, $E$7) -> 48213 | EB2: Location | EC2: Phase | ED2: Product | EE2: Ledger | EF2: Lookup Name
A4: General Calculations
B6: =Inputs!B6 -> Calculation - Begin Date | E6: =Inputs!D6 -> 44561
B7: =Inputs!B7 -> Calculation - Months Per Period | E7: =Inputs!D7 -> 1
B8: Column Counter | I8: =COLUMN(I8)-COLUMN($H$8) -> 1 | J8: =COLUMN(J8)-COLUMN($H$8) -> 2 | K8: =COLUMN(K8)-COLUMN($H$8) -> 3 | L8: =COLUMN(L8)-COLUMN($H$8) -> 4 | M8: =COLUMN(M8)-COLUMN($H$8) -> 5 | N8: =COLUMN(N8)-COLUMN($H$8) -> 6 | O8: =COLUMN(O8)-COLUMN($H$8) -> 7 | P8: =COLUMN(P8)-COLUMN($H$8) -> 8 | ... DY8: =COLUMN(DY8)-COLUMN($H$8) -> 121
B9: Column Counter - Index Calculations | I9: =I8+1 -> 2 | J9: =J8+1 -> 3 | K9: =K8+1 -> 4 | L9: =L8+1 -> 5 | M9: =M8+1 -> 6 | N9: =N8+1 -> 7 | O9: =O8+1 -> 8 | P9: =P8+1 -> 9 | ... DY9: =DY8+1 -> 122
B10: Date Month | I10: =MONTH(I2) -> 12 | J10: =MONTH(J2) -> 1 | K10: =MONTH(K2) -> 2 | L10: =MONTH(L2) -> 3 | M10: =MONTH(M2) -> 4 | N10: =MONTH(N2) -> 5 | O10: =MONTH(O2) -> 6 | P10: =MONTH(P2) -> 7 | ... DY10: =MONTH(DY2) -> 12
B12: =Inputs!$B$9 -> Presentation - Begin Date | E12: =Inputs!$D$9 -> 44561
B13: =Inputs!$B$11 -> Presentation - Months Per Period | E13: =Inputs!$D$11 -> 12
B14: Period Counter | I14: =IF(I$2=$E12, 1, IF(I$2>$E12, H14+1, 0)) -> 1 | J14: =IF(J$2=$E12, 1, IF(J$2>$E12, I14+1, 0)) -> 2 | K14: =IF(K$2=$E12, 1, IF(K$2>$E12, J14+1, 0)) -> 3 | L14: =IF(L$2=$E12, 1, IF(L$2>$E12, K14+1, 0)) -> 4 | M14: =IF(M$2=$E12, 1, IF(M$2>$E12, L14+1, 0)) -> 5 | N14: =IF(N$2=$E12, 1, IF(N$2>$E12, M14+1, 0)) -> 6 | O14: =IF(O$2=$E12, 1, IF(O$2>$E12, N14+1, 0)) -> 7 | P14: =IF(P$2=$E12, 1, IF(P$2>$E12, O14+1, 0)) -> 8 | ... DY14: =IF(DY$2=$E12, 1, IF(DY$2>$E12, DX14+1, 0)) -> 121
B15: Presentation Lookup Horizontal Selector | I15: =ROUNDUP(I$14/$E13,0) -> 1 | J15: =ROUNDUP(J$14/$E13,0) -> 1 | K15: =ROUNDUP(K$14/$E13,0) -> 1 | L15: =ROUNDUP(L$14/$E13,0) -> 1 | M15: =ROUNDUP(M$14/$E13,0) -> 1 | N15: =ROUNDUP(N$14/$E13,0) -> 1 | O15: =ROUNDUP(O$14/$E13,0) -> 1 | P15: =ROUNDUP(P$14/$E13,0) -> 1 | ... DY15: =ROUNDUP(DY$14/$E13,0) -> 11
A17: Lot Development | D17: =Product!$B$84 -> Lot Dev. Start Date | E17: =Product!$B$5 -> # Units (Total) | F17: =Product!$B$66 -> Lot Dev. Duration (Months)
B19: =Product!$D$2 -> Phase 1 | C19: =Product!$D$3 -> 50' Wide | D19: =SUMIFS(INDEX(Product!$B$2:$U$97, MATCH(D17, Product!$B$2:$B$97, 0), ), Product!$B$2:$U$2, $B19, Product!$B$3:$U$3, $C19) -> 44592 | E19: =SUMIFS(INDEX(Product!$B$2:$U$97, MATCH(E17, Product!$B$2:$B$97, 0), ), Product!$B$2:$U$2, $B19, Product!$B$3:$U$3, $C19) -> 30 | F19: =SUMIFS(INDEX(Product!$B$2:$U$97, MATCH(F17, Product!$B$2:$B$97, 0), ), Product!$B$2:$U$2, $B19, Product!$B$3:$U$3, $C19) -> 6 | G19: =SUM(H19:DZ19) -> 30 | I19: =IF(I$2>$D19, MIN(IFERROR($E19/$F19, 0), $E19-SUM($H19:H19)), 0) -> 0 | J19: =IF(J$2>$D19, MIN(IFERROR($E19/$F19, 0), $E19-SUM($H19:I19)), 0) -> 0 | K19: =IF(K$2>$D19, MIN(IFERROR($E19/$F19, 0), $E19-SUM($H19:J19)), 0) -> 5 | L19: =IF(L$2>$D19, MIN(IFERROR($E19/$F19, 0), $E19-SUM($H19:K19)), 0) -> 5 | M19: =IF(M$2>$D19, MIN(IFERROR($E19/$F19, 0), $E19-SUM($H19:L19)), 0) -> 5 | N19: =IF(N$2>$D19, MIN(IFERROR($E19/$F19, 0), $E19-SUM($H19:M19)), 0) -> 5 | O19: =IF(O$2>$D19, MIN(IFERROR($E19/$F19, 0), $E19-SUM($H19:N19)), 0) -> 5 | P19: =IF(P$2>$D19, MIN(IFERROR($E19/$F19, 0), $E19-SUM($H19:O19)), 0) -> 5 | ... DY19: =IF(DY$2>$D19, MIN(IFERROR($E19/$F19, 0), $E19-SUM($H19:DX19)), 0) -> 0
B20: =Product!$E$2 -> Phase 1 | C20: =Product!$E$3 -> 60' Wide | D20: =SUMIFS(INDEX(Product!$B$2:$U$97, MATCH(D17, Product!$B$2:$B$97, 0), ), Product!$B$2:$U$2, $B20, Product!$B$3:$U$3, $C20) -> 44592 | E20: =SUMIFS(INDEX(Product!$B$2:$U$97, MATCH(E17, Product!$B$2:$B$97, 0), ), Product!$B$2:$U$2, $B20, Product!$B$3:$U$3, $C20) -> 30 | F20: =SUMIFS(INDEX(Product!$B$2:$U$97, MATCH(F17, Product!$B$2:$B$97, 0), ), Product!$B$2:$U$2, $B20, Product!$B$3:$U$3, $C20) -> 6 | G20: =SUM(H20:DZ20) -> 30 | I20: =IF(I$2>$D20, MIN(IFERROR($E20/$F20, 0), $E20-SUM($H20:H20)), 0) -> 0 | J20: =IF(J$2>$D20, MIN(IFERROR($E20/$F20, 0), $E20-SUM($H20:I20)), 0) -> 0 | K20: =IF(K$2>$D20, MIN(IFERROR($E20/$F20, 0), $E20-SUM($H20:J20)), 0) -> 5 | L20: =IF(L$2>$D20, MIN(IFERROR($E20/$F20, 0), $E20-SUM($H20:K20)), 0) -> 5 | M20: =IF(M$2>$D20, MIN(IFERROR($E20/$F20, 0), $E20-SUM($H20:L20)), 0) -> 5 | N20: =IF(N$2>$D20, MIN(IFERROR($E20/$F20, 0), $E20-SUM($H20:M20)), 0) -> 5 | O20: =IF(O$2>$D20, MIN(IFERROR($E20/$F20, 0), $E20-SUM($H20:N20)), 0) -> 5 | P20: =IF(P$2>$D20, MIN(IFERROR($E20/$F20, 0), $E20-SUM($H20:O20)), 0) -> 5 | ... DY20: =IF(DY$2>$D20, MIN(IFERROR($E20/$F20, 0), $E20-SUM($H20:DX20)), 0) -> 0
B21: =Product!$F$2 -> Phase 1 | C21: =Product!$F$3 -> 75' Wide | D21: =SUMIFS(INDEX(Product!$B$2:$U$97, MATCH(D17, Product!$B$2:$B$97, 0), ), Product!$B$2:$U$2, $B21, Product!$B$3:$U$3, $C21) -> 44592 | E21: =SUMIFS(INDEX(Product!$B$2:$U$97, MATCH(E17, Product!$B$2:$B$97, 0), ), Product!$B$2:$U$2, $B21, Product!$B$3:$U$3, $C21) -> 20 | F21: =SUMIFS(INDEX(Product!$B$2:$U$97, MATCH(F17, Product!$B$2:$B$97, 0), ), Product!$B$2:$U$2, $B21, Product!$B$3:$U$3, $C21) -> 6 | G21: =SUM(H21:DZ21) -> 20 | I21: =IF(I$2>$D21, MIN(IFERROR($E21/$F21, 0), $E21-SUM($H21:H21)), 0) -> 0 | J21: =IF(J$2>$D21, MIN(IFERROR($E21/$F21, 0), $E21-SUM($H21:I21)), 0) -> 0 | K21: =IF(K$2>$D21, MIN(IFERROR($E21/$F21, 0), $E21-SUM($H21:J21)), 0) -> 3.3333333 | L21: =IF(L$2>$D21, MIN(IFERROR($E21/$F21, 0), $E21-SUM($H21:K21)), 0) -> 3.3333333 | M21: =IF(M$2>$D21, MIN(IFERROR($E21/$F21, 0), $E21-SUM($H21:L21)), 0) -> 3.3333333 | N21: =IF(N$2>$D21, MIN(IFERROR($E21/$F21, 0), $E21-SUM($H21:M21)), 0) -> 3.3333333 | O21: =IF(O$2>$D21, MIN(IFERROR($E21/$F21, 0), $E21-SUM($H21:N21)), 0) -> 3.3333333 | P21: =IF(P$2>$D21, MIN(IFERROR($E21/$F21, 0), $E21-SUM($H21:O21)), 0) -> 3.3333333 | ... DY21: =IF(DY$2>$D21, MIN(IFERROR($E21/$F21, 0), $E21-SUM($H21:DX21)), 0) -> 0
B23: =Product!$G$2 -> Phase 2 | C23: =Product!$G$3 -> 50' Wide | D23: =SUMIFS(INDEX(Product!$B$2:$U$97, MATCH(D17, Product!$B$2:$B$97, 0), ), Product!$B$2:$U$2, $B23, Product!$B$3:$U$3, $C23) -> 44957 | E23: =SUMIFS(INDEX(Product!$B$2:$U$97, MATCH(E17, Product!$B$2:$B$97, 0), ), Product!$B$2:$U$2, $B23, Product!$B$3:$U$3, $C23) -> 30 | F23: =SUMIFS(INDEX(Product!$B$2:$U$97, MATCH(F17, Product!$B$2:$B$97, 0), ), Product!$B$2:$U$2, $B23, Product!$B$3:$U$3, $C23) -> 6 | G23: =SUM(H23:DZ23) -> 30 | I23: =IF(I$2>$D23, MIN(IFERROR($E23/$F23, 0), $E23-SUM($H23:H23)), 0) -> 0 | J23: =IF(J$2>$D23, MIN(IFERROR($E23/$F23, 0), $E23-SUM($H23:I23)), 0) -> 0 | K23: =IF(K$2>$D23, MIN(IFERROR($E23/$F23, 0), $E23-SUM($H23:J23)), 0) -> 0 | L23: =IF(L$2>$D23, MIN(IFERROR($E23/$F23, 0), $E23-SUM($H23:K23)), 0) -> 0 | M23: =IF(M$2>$D23, MIN(IFERROR($E23/$F23, 0), $E23-SUM($H23:L23)), 0) -> 0 | N23: =IF(N$2>$D23, MIN(IFERROR($E23/$F23, 0), $E23-SUM($H23:M23)), 0) -> 0 | O23: =IF(O$2>$D23, MIN(IFERROR($E23/$F23, 0), $E23-SUM($H23:N23)), 0) -> 0 | P23: =IF(P$2>$D23, MIN(IFERROR($E23/$F23, 0), $E23-SUM($H23:O23)), 0) -> 0 | ... DY23: =IF(DY$2>$D23, MIN(IFERROR($E23/$F23, 0), $E23-SUM($H23:DX23)), 0) -> 0
B24: =Product!$H$2 -> Phase 2 | C24: =Product!$H$3 -> 60' Wide | D24: =SUMIFS(INDEX(Product!$B$2:$U$97, MATCH(D17, Product!$B$2:$B$97, 0), ), Product!$B$2:$U$2, $B24, Product!$B$3:$U$3, $C24) -> 44957 | E24: =SUMIFS(INDEX(Product!$B$2:$U$97, MATCH(E17, Product!$B$2:$B$97, 0), ), Product!$B$2:$U$2, $B24, Product!$B$3:$U$3, $C24) -> 30 | F24: =SUMIFS(INDEX(Product!$B$2:$U$97, MATCH(F17, Product!$B$2:$B$97, 0), ), Product!$B$2:$U$2, $B24, Product!$B$3:$U$3, $C24) -> 6 | G24: =SUM(H24:DZ24) -> 30 | I24: =IF(I$2>$D24, MIN(IFERROR($E24/$F24, 0), $E24-SUM($H24:H24)), 0) -> 0 | J24: =IF(J$2>$D24, MIN(IFERROR($E24/$F24, 0), $E24-SUM($H24:I24)), 0) -> 0 | K24: =IF(K$2>$D24, MIN(IFERROR($E24/$F24, 0), $E24-SUM($H24:J24)), 0) -> 0 | L24: =IF(L$2>$D24, MIN(IFERROR($E24/$F24, 0), $E24-SUM($H24:K24)), 0) -> 0 | M24: =IF(M$2>$D24, MIN(IFERROR($E24/$F24, 0), $E24-SUM($H24:L24)), 0) -> 0 | N24: =IF(N$2>$D24, MIN(IFERROR($E24/$F24, 0), $E24-SUM($H24:M24)), 0) -> 0 | O24: =IF(O$2>$D24, MIN(IFERROR($E24/$F24, 0), $E24-SUM($H24:N24)), 0) -> 0 | P24: =IF(P$2>$D24, MIN(IFERROR($E24/$F24, 0), $E24-SUM($H24:O24)), 0) -> 0 | ... DY24: =IF(DY$2>$D24, MIN(IFERROR($E24/$F24, 0), $E24-SUM($H24:DX24)), 0) -> 0
B25: =Product!$I$2 -> Phase 2 | C25: =Product!$I$3 -> 75' Wide | D25: =SUMIFS(INDEX(Product!$B$2:$U$97, MATCH(D17, Product!$B$2:$B$97, 0), ), Product!$B$2:$U$2, $B25, Product!$B$3:$U$3, $C25) -> 44957 | E25: =SUMIFS(INDEX(Product!$B$2:$U$97, MATCH(E17, Product!$B$2:$B$97, 0), ), Product!$B$2:$U$2, $B25, Product!$B$3:$U$3, $C25) -> 20 | F25: =SUMIFS(INDEX(Product!$B$2:$U$97, MATCH(F17, Product!$B$2:$B$97, 0), ), Product!$B$2:$U$2, $B25, Product!$B$3:$U$3, $C25) -> 6 | G25: =SUM(H25:DZ25) -> 20 | I25: =IF(I$2>$D25, MIN(IFERROR($E25/$F25, 0), $E25-SUM($H25:H25)), 0) -> 0 | J25: =IF(J$2>$D25, MIN(IFERROR($E25/$F25, 0), $E25-SUM($H25:I25)), 0) -> 0 | K25: =IF(K$2>$D25, MIN(IFERROR($E25/$F25, 0), $E25-SUM($H25:J25)), 0) -> 0 | L25: =IF(L$2>$D25, MIN(IFERROR($E25/$F25, 0), $E25-SUM($H25:K25)), 0) -> 0 | M25: =IF(M$2>$D25, MIN(IFERROR($E25/$F25, 0), $E25-SUM($H25:L25)), 0) -> 0 | N25: =IF(N$2>$D25, MIN(IFERROR($E25/$F25, 0), $E25-SUM($H25:M25)), 0) -> 0 | O25: =IF(O$2>$D25, MIN(IFERROR($E25/$F25, 0), $E25-SUM($H25:N25)), 0) -> 0 | P25: =IF(P$2>$D25, MIN(IFERROR($E25/$F25, 0), $E25-SUM($H25:O25)), 0) -> 0 | ... DY25: =IF(DY$2>$D25, MIN(IFERROR($E25/$F25, 0), $E25-SUM($H25:DX25)), 0) -> 0
B27: =Product!$J$2 -> Phase 3 | C27: =Product!$J$3 -> 50' Wide | D27: =SUMIFS(INDEX(Product!$B$2:$U$97, MATCH(D17, Product!$B$2:$B$97, 0), ), Product!$B$2:$U$2, $B27, Product!$B$3:$U$3, $C27) -> 45322 | E27: =SUMIFS(INDEX(Product!$B$2:$U$97, MATCH(E17, Product!$B$2:$B$97, 0), ), Product!$B$2:$U$2, $B27, Product!$B$3:$U$3, $C27) -> 30 | F27: =SUMIFS(INDEX(Product!$B$2:$U$97, MATCH(F17, Product!$B$2:$B$97, 0), ), Product!$B$2:$U$2, $B27, Product!$B$3:$U$3, $C27) -> 6 | G27: =SUM(H27:DZ27) -> 30 | I27: =IF(I$2>$D27, MIN(IFERROR($E27/$F27, 0), $E27-SUM($H27:H27)), 0) -> 0 | J27: =IF(J$2>$D27, MIN(IFERROR($E27/$F27, 0), $E27-SUM($H27:I27)), 0) -> 0 | K27: =IF(K$2>$D27, MIN(IFERROR($E27/$F27, 0), $E27-SUM($H27:J27)), 0) -> 0 | L27: =IF(L$2>$D27, MIN(IFERROR($E27/$F27, 0), $E27-SUM($H27:K27)), 0) -> 0 | M27: =IF(M$2>$D27, MIN(IFERROR($E27/$F27, 0), $E27-SUM($H27:L27)), 0) -> 0 | N27: =IF(N$2>$D27, MIN(IFERROR($E27/$F27, 0), $E27-SUM($H27:M27)), 0) -> 0 | O27: =IF(O$2>$D27, MIN(IFERROR($E27/$F27, 0), $E27-SUM($H27:N27)), 0) -> 0 | P27: =IF(P$2>$D27, MIN(IFERROR($E27/$F27, 0), $E27-SUM($H27:O27)), 0) -> 0 | ... DY27: =IF(DY$2>$D27, MIN(IFERROR($E27/$F27, 0), $E27-SUM($H27:DX27)), 0) -> 0
B28: =Product!$K$2 -> Phase 3 | C28: =Product!$K$3 -> 60' Wide | D28: =SUMIFS(INDEX(Product!$B$2:$U$97, MATCH(D17, Product!$B$2:$B$97, 0), ), Product!$B$2:$U$2, $B28, Product!$B$3:$U$3, $C28) -> 45322 | E28: =SUMIFS(INDEX(Product!$B$2:$U$97, MATCH(E17, Product!$B$2:$B$97, 0), ), Product!$B$2:$U$2, $B28, Product!$B$3:$U$3, $C28) -> 30 | F28: =SUMIFS(INDEX(Product!$B$2:$U$97, MATCH(F17, Product!$B$2:$B$97, 0), ), Product!$B$2:$U$2, $B28, Product!$B$3:$U$3, $C28) -> 6 | G28: =SUM(H28:DZ28) -> 30 | I28: =IF(I$2>$D28, MIN(IFERROR($E28/$F28, 0), $E28-SUM($H28:H28)), 0) -> 0 | J28: =IF(J$2>$D28, MIN(IFERROR($E28/$F28, 0), $E28-SUM($H28:I28)), 0) -> 0 | K28: =IF(K$2>$D28, MIN(IFERROR($E28/$F28, 0), $E28-SUM($H28:J28)), 0) -> 0 | L28: =IF(L$2>$D28, MIN(IFERROR($E28/$F28, 0), $E28-SUM($H28:K28)), 0) -> 0 | M28: =IF(M$2>$D28, MIN(IFERROR($E28/$F28, 0), $E28-SUM($H28:L28)), 0) -> 0 | N28: =IF(N$2>$D28, MIN(IFERROR($E28/$F28, 0), $E28-SUM($H28:M28)), 0) -> 0 | O28: =IF(O$2>$D28, MIN(IFERROR($E28/$F28, 0), $E28-SUM($H28:N28)), 0) -> 0 | P28: =IF(P$2>$D28, MIN(IFERROR($E28/$F28, 0), $E28-SUM($H28:O28)), 0) -> 0 | ... DY28: =IF(DY$2>$D28, MIN(IFERROR($E28/$F28, 0), $E28-SUM($H28:DX28)), 0) -> 0
B29: =Product!$L$2 -> Phase 3 | C29: =Product!$L$3 -> 75' Wide | D29: =SUMIFS(INDEX(Product!$B$2:$U$97, MATCH(D17, Product!$B$2:$B$97, 0), ), Product!$B$2:$U$2, $B29, Product!$B$3:$U$3, $C29) -> 45322 | E29: =SUMIFS(INDEX(Product!$B$2:$U$97, MATCH(E17, Product!$B$2:$B$97, 0), ), Product!$B$2:$U$2, $B29, Product!$B$3:$U$3, $C29) -> 20 | F29: =SUMIFS(INDEX(Product!$B$2:$U$97, MATCH(F17, Product!$B$2:$B$97, 0), ), Product!$B$2:$U$2, $B29, Product!$B$3:$U$3, $C29) -> 6 | G29: =SUM(H29:DZ29) -> 20 | I29: =IF(I$2>$D29, MIN(IFERROR($E29/$F29, 0), $E29-SUM($H29:H29)), 0) -> 0 | J29: =IF(J$2>$D29, MIN(IFERROR($E29/$F29, 0), $E29-SUM($H29:I29)), 0) -> 0 | K29: =IF(K$2>$D29, MIN(IFERROR($E29/$F29, 0), $E29-SUM($H29:J29)), 0) -> 0 | L29: =IF(L$2>$D29, MIN(IFERROR($E29/$F29, 0), $E29-SUM($H29:K29)), 0) -> 0 | M29: =IF(M$2>$D29, MIN(IFERROR($E29/$F29, 0), $E29-SUM($H29:L29)), 0) -> 0 | N29: =IF(N$2>$D29, MIN(IFERROR($E29/$F29, 0), $E29-SUM($H29:M29)), 0) -> 0 | O29: =IF(O$2>$D29, MIN(IFERROR($E29/$F29, 0), $E29-SUM($H29:N29)), 0) -> 0 | P29: =IF(P$2>$D29, MIN(IFERROR($E29/$F29, 0), $E29-SUM($H29:O29)), 0) -> 0 | ... DY29: =IF(DY$2>$D29, MIN(IFERROR($E29/$F29, 0), $E29-SUM($H29:DX29)), 0) -> 0
B31: =Product!$M$2 -> Phase 4 | C31: =Product!$M$3 -> 50' Wide | D31: =SUMIFS(INDEX(Product!$B$2:$U$97, MATCH(D17, Product!$B$2:$B$97, 0), ), Product!$B$2:$U$2, $B31, Product!$B$3:$U$3, $C31) -> 45688 | E31: =SUMIFS(INDEX(Product!$B$2:$U$97, MATCH(E17, Product!$B$2:$B$97, 0), ), Product!$B$2:$U$2, $B31, Product!$B$3:$U$3, $C31) -> 30 | F31: =SUMIFS(INDEX(Product!$B$2:$U$97, MATCH(F17, Product!$B$2:$B$97, 0), ), Product!$B$2:$U$2, $B31, Product!$B$3:$U$3, $C31) -> 6 | G31: =SUM(H31:DZ31) -> 30 | I31: =IF(I$2>$D31, MIN(IFERROR($E31/$F31, 0), $E31-SUM($H31:H31)), 0) -> 0 | J31: =IF(J$2>$D31, MIN(IFERROR($E31/$F31, 0), $E31-SUM($H31:I31)), 0) -> 0 | K31: =IF(K$2>$D31, MIN(IFERROR($E31/$F31, 0), $E31-SUM($H31:J31)), 0) -> 0 | L31: =IF(L$2>$D31, MIN(IFERROR($E31/$F31, 0), $E31-SUM($H31:K31)), 0) -> 0 | M31: =IF(M$2>$D31, MIN(IFERROR($E31/$F31, 0), $E31-SUM($H31:L31)), 0) -> 0 | N31: =IF(N$2>$D31, MIN(IFERROR($E31/$F31, 0), $E31-SUM($H31:M31)), 0) -> 0 | O31: =IF(O$2>$D31, MIN(IFERROR($E31/$F31, 0), $E31-SUM($H31:N31)), 0) -> 0 | P31: =IF(P$2>$D31, MIN(IFERROR($E31/$F31, 0), $E31-SUM($H31:O31)), 0) -> 0 | ... DY31: =IF(DY$2>$D31, MIN(IFERROR($E31/$F31, 0), $E31-SUM($H31:DX31)), 0) -> 0
B32: =Product!$N$2 -> Phase 4 | C32: =Product!$N$3 -> 60' Wide | D32: =SUMIFS(INDEX(Product!$B$2:$U$97, MATCH(D17, Product!$B$2:$B$97, 0), ), Product!$B$2:$U$2, $B32, Product!$B$3:$U$3, $C32) -> 45688 | E32: =SUMIFS(INDEX(Product!$B$2:$U$97, MATCH(E17, Product!$B$2:$B$97, 0), ), Product!$B$2:$U$2, $B32, Product!$B$3:$U$3, $C32) -> 30 | F32: =SUMIFS(INDEX(Product!$B$2:$U$97, MATCH(F17, Product!$B$2:$B$97, 0), ), Product!$B$2:$U$2, $B32, Product!$B$3:$U$3, $C32) -> 6 | G32: =SUM(H32:DZ32) -> 30 | I32: =IF(I$2>$D32, MIN(IFERROR($E32/$F32, 0), $E32-SUM($H32:H32)), 0) -> 0 | J32: =IF(J$2>$D32, MIN(IFERROR($E32/$F32, 0), $E32-SUM($H32:I32)), 0) -> 0 | K32: =IF(K$2>$D32, MIN(IFERROR($E32/$F32, 0), $E32-SUM($H32:J32)), 0) -> 0 | L32: =IF(L$2>$D32, MIN(IFERROR($E32/$F32, 0), $E32-SUM($H32:K32)), 0) -> 0 | M32: =IF(M$2>$D32, MIN(IFERROR($E32/$F32, 0), $E32-SUM($H32:L32)), 0) -> 0 | N32: =IF(N$2>$D32, MIN(IFERROR($E32/$F32, 0), $E32-SUM($H32:M32)), 0) -> 0 | O32: =IF(O$2>$D32, MIN(IFERROR($E32/$F32, 0), $E32-SUM($H32:N32)), 0) -> 0 | P32: =IF(P$2>$D32, MIN(IFERROR($E32/$F32, 0), $E32-SUM($H32:O32)), 0) -> 0 | ... DY32: =IF(DY$2>$D32, MIN(IFERROR($E32/$F32, 0), $E32-SUM($H32:DX32)), 0) -> 0
B33: =Product!$O$2 -> Phase 4 | C33: =Product!$O$3 -> 75' Wide | D33: =SUMIFS(INDEX(Product!$B$2:$U$97, MATCH(D17, Product!$B$2:$B$97, 0), ), Product!$B$2:$U$2, $B33, Product!$B$3:$U$3, $C33) -> 45688 | E33: =SUMIFS(INDEX(Product!$B$2:$U$97, MATCH(E17, Product!$B$2:$B$97, 0), ), Product!$B$2:$U$2, $B33, Product!$B$3:$U$3, $C33) -> 20 | F33: =SUMIFS(INDEX(Product!$B$2:$U$97, MATCH(F17, Product!$B$2:$B$97, 0), ), Product!$B$2:$U$2, $B33, Product!$B$3:$U$3, $C33) -> 6 | G33: =SUM(H33:DZ33) -> 20 | I33: =IF(I$2>$D33, MIN(IFERROR($E33/$F33, 0), $E33-SUM($H33:H33)), 0) -> 0 | J33: =IF(J$2>$D33, MIN(IFERROR($E33/$F33, 0), $E33-SUM($H33:I33)), 0) -> 0 | K33: =IF(K$2>$D33, MIN(IFERROR($E33/$F33, 0), $E33-SUM($H33:J33)), 0) -> 0 | L33: =IF(L$2>$D33, MIN(IFERROR($E33/$F33, 0), $E33-SUM($H33:K33)), 0) -> 0 | M33: =IF(M$2>$D33, MIN(IFERROR($E33/$F33, 0), $E33-SUM($H33:L33)), 0) -> 0 | N33: =IF(N$2>$D33, MIN(IFERROR($E33/$F33, 0), $E33-SUM($H33:M33)), 0) -> 0 | O33: =IF(O$2>$D33, MIN(IFERROR($E33/$F33, 0), $E33-SUM($H33:N33)), 0) -> 0 | P33: =IF(P$2>$D33, MIN(IFERROR($E33/$F33, 0), $E33-SUM($H33:O33)), 0) -> 0 | ... DY33: =IF(DY$2>$D33, MIN(IFERROR($E33/$F33, 0), $E33-SUM($H33:DX33)), 0) -> 0
B35: =Product!$P$2 -> Phase 5 | C35: =Product!$P$3 -> 50' Wide | D35: =SUMIFS(INDEX(Product!$B$2:$U$97, MATCH(D17, Product!$B$2:$B$97, 0), ), Product!$B$2:$U$2, $B35, Product!$B$3:$U$3, $C35) -> 46053 | E35: =SUMIFS(INDEX(Product!$B$2:$U$97, MATCH(E17, Product!$B$2:$B$97, 0), ), Product!$B$2:$U$2, $B35, Product!$B$3:$U$3, $C35) -> 30 | F35: =SUMIFS(INDEX(Product!$B$2:$U$97, MATCH(F17, Product!$B$2:$B$97, 0), ), Product!$B$2:$U$2, $B35, Product!$B$3:$U$3, $C35) -> 6 | G35: =SUM(H35:DZ35) -> 30 | I35: =IF(I$2>$D35, MIN(IFERROR($E35/$F35, 0), $E35-SUM($H35:H35)), 0) -> 0 | J35: =IF(J$2>$D35, MIN(IFERROR($E35/$F35, 0), $E35-SUM($H35:I35)), 0) -> 0 | K35: =IF(K$2>$D35, MIN(IFERROR($E35/$F35, 0), $E35-SUM($H35:J35)), 0) -> 0 | L35: =IF(L$2>$D35, MIN(IFERROR($E35/$F35, 0), $E35-SUM($H35:K35)), 0) -> 0 | M35: =IF(M$2>$D35, MIN(IFERROR($E35/$F35, 0), $E35-SUM($H35:L35)), 0) -> 0 | N35: =IF(N$2>$D35, MIN(IFERROR($E35/$F35, 0), $E35-SUM($H35:M35)), 0) -> 0 | O35: =IF(O$2>$D35, MIN(IFERROR($E35/$F35, 0), $E35-SUM($H35:N35)), 0) -> 0 | P35: =IF(P$2>$D35, MIN(IFERROR($E35/$F35, 0), $E35-SUM($H35:O35)), 0) -> 0 | ... DY35: =IF(DY$2>$D35, MIN(IFERROR($E35/$F35, 0), $E35-SUM($H35:DX35)), 0) -> 0
B36: =Product!$Q$2 -> Phase 5 | C36: =Product!$Q$3 -> 60' Wide | D36: =SUMIFS(INDEX(Product!$B$2:$U$97, MATCH(D17, Product!$B$2:$B$97, 0), ), Product!$B$2:$U$2, $B36, Product!$B$3:$U$3, $C36) -> 46053 | E36: =SUMIFS(INDEX(Product!$B$2:$U$97, MATCH(E17, Product!$B$2:$B$97, 0), ), Product!$B$2:$U$2, $B36, Product!$B$3:$U$3, $C36) -> 30 | F36: =SUMIFS(INDEX(Product!$B$2:$U$97, MATCH(F17, Product!$B$2:$B$97, 0), ), Product!$B$2:$U$2, $B36, Product!$B$3:$U$3, $C36) -> 6 | G36: =SUM(H36:DZ36) -> 30 | I36: =IF(I$2>$D36, MIN(IFERROR($E36/$F36, 0), $E36-SUM($H36:H36)), 0) -> 0 | J36: =IF(J$2>$D36, MIN(IFERROR($E36/$F36, 0), $E36-SUM($H36:I36)), 0) -> 0 | K36: =IF(K$2>$D36, MIN(IFERROR($E36/$F36, 0), $E36-SUM($H36:J36)), 0) -> 0 | L36: =IF(L$2>$D36, MIN(IFERROR($E36/$F36, 0), $E36-SUM($H36:K36)), 0) -> 0 | M36: =IF(M$2>$D36, MIN(IFERROR($E36/$F36, 0), $E36-SUM($H36:L36)), 0) -> 0 | N36: =IF(N$2>$D36, MIN(IFERROR($E36/$F36, 0), $E36-SUM($H36:M36)), 0) -> 0 | O36: =IF(O$2>$D36, MIN(IFERROR($E36/$F36, 0), $E36-SUM($H36:N36)), 0) -> 0 | P36: =IF(P$2>$D36, MIN(IFERROR($E36/$F36, 0), $E36-SUM($H36:O36)), 0) -> 0 | ... DY36: =IF(DY$2>$D36, MIN(IFERROR($E36/$F36, 0), $E36-SUM($H36:DX36)), 0) -> 0
B37: =Product!$R$2 -> Phase 5 | C37: =Product!$R$3 -> 75' Wide | D37: =SUMIFS(INDEX(Product!$B$2:$U$97, MATCH(D17, Product!$B$2:$B$97, 0), ), Product!$B$2:$U$2, $B37, Product!$B$3:$U$3, $C37) -> 46053 | E37: =SUMIFS(INDEX(Product!$B$2:$U$97, MATCH(E17, Product!$B$2:$B$97, 0), ), Product!$B$2:$U$2, $B37, Product!$B$3:$U$3, $C37) -> 20 | F37: =SUMIFS(INDEX(Product!$B$2:$U$97, MATCH(F17, Product!$B$2:$B$97, 0), ), Product!$B$2:$U$2, $B37, Product!$B$3:$U$3, $C37) -> 6 | G37: =SUM(H37:DZ37) -> 20 | I37: =IF(I$2>$D37, MIN(IFERROR($E37/$F37, 0), $E37-SUM($H37:H37)), 0) -> 0 | J37: =IF(J$2>$D37, MIN(IFERROR($E37/$F37, 0), $E37-SUM($H37:I37)), 0) -> 0 | K37: =IF(K$2>$D37, MIN(IFERROR($E37/$F37, 0), $E37-SUM($H37:J37)), 0) -> 0 | L37: =IF(L$2>$D37, MIN(IFERROR($E37/$F37, 0), $E37-SUM($H37:K37)), 0) -> 0 | M37: =IF(M$2>$D37, MIN(IFERROR($E37/$F37, 0), $E37-SUM($H37:L37)), 0) -> 0 | N37: =IF(N$2>$D37, MIN(IFERROR($E37/$F37, 0), $E37-SUM($H37:M37)), 0) -> 0 | O37: =IF(O$2>$D37, MIN(IFERROR($E37/$F37, 0), $E37-SUM($H37:N37)), 0) -> 0 | P37: =IF(P$2>$D37, MIN(IFERROR($E37/$F37, 0), $E37-SUM($H37:O37)), 0) -> 0 | ... DY37: =IF(DY$2>$D37, MIN(IFERROR($E37/$F37, 0), $E37-SUM($H37:DX37)), 0) -> 0
B39: TOTAL | G39: =SUM(G17:G38) -> 400 | I39: =SUM(I17:I38) -> 0 | J39: =SUM(J17:J38) -> 0 | K39: =SUM(K17:K38) -> 13.333333 | L39: =SUM(L17:L38) -> 13.333333 | M39: =SUM(M17:M38) -> 13.333333 | N39: =SUM(N17:N38) -> 13.333333 | O39: =SUM(O17:O38) -> 13.333333 | P39: =SUM(P17:P38) -> 13.333333 | ... DY39: =SUM(DY17:DY38) -> 0
A41: Cuml. Lot Development
B43: =Product!$D$2 -> Phase 1 | C43: =Product!$D$3 -> 50' Wide | G43: =SUM(H43:DZ43) -> 3495 | I43: =H43+I19 -> 0 | J43: =I43+J19 -> 0 | K43: =J43+K19 -> 5 | L43: =K43+L19 -> 10 | M43: =L43+M19 -> 15 | N43: =M43+N19 -> 20 | O43: =N43+O19 -> 25 | P43: =O43+P19 -> 30 | ... DY43: =DX43+DY19 -> 30
B44: =Product!$E$2 -> Phase 1 | C44: =Product!$E$3 -> 60' Wide | G44: =SUM(H44:DZ44) -> 3495 | I44: =H44+I20 -> 0 | J44: =I44+J20 -> 0 | K44: =J44+K20 -> 5 | L44: =K44+L20 -> 10 | M44: =L44+M20 -> 15 | N44: =M44+N20 -> 20 | O44: =N44+O20 -> 25 | P44: =O44+P20 -> 30 | ... DY44: =DX44+DY20 -> 30
B45: =Product!$F$2 -> Phase 1 | C45: =Product!$F$3 -> 75' Wide | G45: =SUM(H45:DZ45) -> 2330 | I45: =H45+I21 -> 0 | J45: =I45+J21 -> 0 | K45: =J45+K21 -> 3.3333333 | L45: =K45+L21 -> 6.6666667 | M45: =L45+M21 -> 10 | N45: =M45+N21 -> 13.333333 | O45: =N45+O21 -> 16.666667 | P45: =O45+P21 -> 20 | ... DY45: =DX45+DY21 -> 20
B47: =Product!$G$2 -> Phase 2 | C47: =Product!$G$3 -> 50' Wide | G47: =SUM(H47:DZ47) -> 3135 | I47: =H47+I23 -> 0 | J47: =I47+J23 -> 0 | K47: =J47+K23 -> 0 | L47: =K47+L23 -> 0 | M47: =L47+M23 -> 0 | N47: =M47+N23 -> 0 | O47: =N47+O23 -> 0 | P47: =O47+P23 -> 0 | ... DY47: =DX47+DY23 -> 30
B48: =Product!$H$2 -> Phase 2 | C48: =Product!$H$3 -> 60' Wide | G48: =SUM(H48:DZ48) -> 3135 | I48: =H48+I24 -> 0 | J48: =I48+J24 -> 0 | K48: =J48+K24 -> 0 | L48: =K48+L24 -> 0 | M48: =L48+M24 -> 0 | N48: =M48+N24 -> 0 | O48: =N48+O24 -> 0 | P48: =O48+P24 -> 0 | ... DY48: =DX48+DY24 -> 30
B49: =Product!$I$2 -> Phase 2 | C49: =Product!$I$3 -> 75' Wide | G49: =SUM(H49:DZ49) -> 2090 | I49: =H49+I25 -> 0 | J49: =I49+J25 -> 0 | K49: =J49+K25 -> 0 | L49: =K49+L25 -> 0 | M49: =L49+M25 -> 0 | N49: =M49+N25 -> 0 | O49: =N49+O25 -> 0 | P49: =O49+P25 -> 0 | ... DY49: =DX49+DY25 -> 20
B51: =Product!$J$2 -> Phase 3 | C51: =Product!$J$3 -> 50' Wide | G51: =SUM(H51:DZ51) -> 2775 | I51: =H51+I27 -> 0 | J51: =I51+J27 -> 0 | K51: =J51+K27 -> 0 | L51: =K51+L27 -> 0 | M51: =L51+M27 -> 0 | N51: =M51+N27 -> 0 | O51: =N51+O27 -> 0 | P51: =O51+P27 -> 0 | ... DY51: =DX51+DY27 -> 30
B52: =Product!$K$2 -> Phase 3 | C52: =Product!$K$3 -> 60' Wide | G52: =SUM(H52:DZ52) -> 2775 | I52: =H52+I28 -> 0 | J52: =I52+J28 -> 0 | K52: =J52+K28 -> 0 | L52: =K52+L28 -> 0 | M52: =L52+M28 -> 0 | N52: =M52+N28 -> 0 | O52: =N52+O28 -> 0 | P52: =O52+P28 -> 0 | ... DY52: =DX52+DY28 -> 30
B53: =Product!$L$2 -> Phase 3 | C53: =Product!$L$3 -> 75' Wide | G53: =SUM(H53:DZ53) -> 1850 | I53: =H53+I29 -> 0 | J53: =I53+J29 -> 0 | K53: =J53+K29 -> 0 | L53: =K53+L29 -> 0 | M53: =L53+M29 -> 0 | N53: =M53+N29 -> 0 | O53: =N53+O29 -> 0 | P53: =O53+P29 -> 0 | ... DY53: =DX53+DY29 -> 20
B55: =Product!$M$2 -> Phase 4 | C55: =Product!$M$3 -> 50' Wide | G55: =SUM(H55:DZ55) -> 2415 | I55: =H55+I31 -> 0 | J55: =I55+J31 -> 0 | K55: =J55+K31 -> 0 | L55: =K55+L31 -> 0 | M55: =L55+M31 -> 0 | N55: =M55+N31 -> 0 | O55: =N55+O31 -> 0 | P55: =O55+P31 -> 0 | ... DY55: =DX55+DY31 -> 30
...

Sheet CF
A1: =Inputs!$D$4 -> Community ABC | EF1: Phase | EG1: Total
B2: Cash Flow ($'s in millions) | EF2: Product | EG2: Total
C5: Assuming 0% inflation over time | F5: Assumption | J5: =J105 -> 2022 | K5: =K105 -> 2023 | L5: =L105 -> 2024 | M5: =M105 -> 2025 | N5: =N105 -> 2026 | O5: =O105 -> 2027 | P5: =P105 -> 2028 | Q5: =Q105 -> 2029 | ... DZ5: =DZ105 -> 2142 | EC5: Total | EF5: Ledger | EG5: Row
C7: Project Statistics:
C9: Home Sales | J9: =SUMIFS(INDEX(Calc!$H$2:$DZ$1549, $EG9, ), Calc!$H$15:$DZ$15, J$103) -> 26.666667 | K9: =SUMIFS(INDEX(Calc!$H$2:$DZ$1549, $EG9, ), Calc!$H$15:$DZ$15, K$103) -> 80 | L9: =SUMIFS(INDEX(Calc!$H$2:$DZ$1549, $EG9, ), Calc!$H$15:$DZ$15, L$103) -> 80 | M9: =SUMIFS(INDEX(Calc!$H$2:$DZ$1549, $EG9, ), Calc!$H$15:$DZ$15, M$103) -> 80 | N9: =SUMIFS(INDEX(Calc!$H$2:$DZ$1549, $EG9, ), Calc!$H$15:$DZ$15, N$103) -> 80 | O9: =SUMIFS(INDEX(Calc!$H$2:$DZ$1549, $EG9, ), Calc!$H$15:$DZ$15, O$103) -> 53.333333 | P9: =SUMIFS(INDEX(Calc!$H$2:$DZ$1549, $EG9, ), Calc!$H$15:$DZ$15, P$103) -> 0 | Q9: =SUMIFS(INDEX(Calc!$H$2:$DZ$1549, $EG9, ), Calc!$H$15:$DZ$15, Q$103) -> 0 | ... DZ9: =SUMIFS(INDEX(Calc!$H$2:$DZ$1549, $EG9, ), Calc!$H$15:$DZ$15, DZ$103) -> 0 | EC9: =SUM(I9:EA9) -> 400 | EF9: Stat | EG9: =SUMIFS(Calc!$EB$2:$EB$1549, Calc!$EC$2:$EC$1549, $EG$1, Calc!$ED$2:$ED$1549, $EG$2, Calc!$EE$2:$EE$1549, $EF9, Calc!$EF$2:$EF$1549, $C9) -> 134
C10: Home Closings | J10: =SUMIFS(INDEX(Calc!$H$2:$DZ$1549, $EG10, ), Calc!$H$15:$DZ$15, J$103) -> 0 | K10: =SUMIFS(INDEX(Calc!$H$2:$DZ$1549, $EG10, ), Calc!$H$15:$DZ$15, K$103) -> 66.666667 | L10: =SUMIFS(INDEX(Calc!$H$2:$DZ$1549, $EG10, ), Calc!$H$15:$DZ$15, L$103) -> 80 | M10: =SUMIFS(INDEX(Calc!$H$2:$DZ$1549, $EG10, ), Calc!$H$15:$DZ$15, M$103) -> 80 | N10: =SUMIFS(INDEX(Calc!$H$2:$DZ$1549, $EG10, ), Calc!$H$15:$DZ$15, N$103) -> 80 | O10: =SUMIFS(INDEX(Calc!$H$2:$DZ$1549, $EG10, ), Calc!$H$15:$DZ$15, O$103) -> 80 | P10: =SUMIFS(INDEX(Calc!$H$2:$DZ$1549, $EG10, ), Calc!$H$15:$DZ$15, P$103) -> 13.333333 | Q10: =SUMIFS(INDEX(Calc!$H$2:$DZ$1549, $EG10, ), Calc!$H$15:$DZ$15, Q$103) -> 0 | ... DZ10: =SUMIFS(INDEX(Calc!$H$2:$DZ$1549, $EG10, ), Calc!$H$15:$DZ$15, DZ$103) -> 0 | EC10: =SUM(I10:EA10) -> 400 | EF10: Stat | EG10: =SUMIFS(Calc!$EB$2:$EB$1549, Calc!$EC$2:$EC$1549, $EG$1, Calc!$ED$2:$ED$1549, $EG$2, Calc!$EE$2:$EE$1549, $EF10, Calc!$EF$2:$EF$1549, $C10) -> 182
C11: Average Home Price | J11: =IFERROR(J20/J10, 0)*Inputs!$D$10 -> 0 | K11: =IFERROR(K20/K10, 0)*Inputs!$D$10 -> 393911.25 | L11: =IFERROR(L20/L10, 0)*Inputs!$D$10 -> 386187.5 | M11: =IFERROR(M20/M10, 0)*Inputs!$D$10 -> 386187.5 | N11: =IFERROR(N20/N10, 0)*Inputs!$D$10 -> 386187.5 | O11: =IFERROR(O20/O10, 0)*Inputs!$D$10 -> 373314.58 | P11: =IFERROR(P20/P10, 0)*Inputs!$D$10 -> 347568.75 | Q11: =IFERROR(Q20/Q10, 0)*Inputs!$D$10 -> 0 | ... DZ11: =IFERROR(DZ20/DZ10, 0)*Inputs!$D$10 -> 0 | EC11: =EC20/EC10*Inputs!$D$10 -> 386187.5
C13: Revenue:
C15: Base House Revenue | F15: =EC15/$EC$10*Inputs!$D$10 -> 336187.5 | G15: per home | J15: =SUMIFS(INDEX(Calc!$H$2:$DZ$1549, $EG15, ), Calc!$H$15:$DZ$15, J$103)/$F$107 -> 0 | K15: =SUMIFS(INDEX(Calc!$H$2:$DZ$1549, $EG15, ), Calc!$H$15:$DZ$15, K$103)/$F$107 -> 22.4125 | L15: =SUMIFS(INDEX(Calc!$H$2:$DZ$1549, $EG15, ), Calc!$H$15:$DZ$15, L$103)/$F$107 -> 26.895 | M15: =SUMIFS(INDEX(Calc!$H$2:$DZ$1549, $EG15, ), Calc!$H$15:$DZ$15, M$103)/$F$107 -> 26.895 | N15: =SUMIFS(INDEX(Calc!$H$2:$DZ$1549, $EG15, ), Calc!$H$15:$DZ$15, N$103)/$F$107 -> 26.895 | O15: =SUMIFS(INDEX(Calc!$H$2:$DZ$1549, $EG15, ), Calc!$H$15:$DZ$15, O$103)/$F$107 -> 26.895 | P15: =SUMIFS(INDEX(Calc!$H$2:$DZ$1549, $EG15, ), Calc!$H$15:$DZ$15, P$103)/$F$107 -> 4.4825 | Q15: =SUMIFS(INDEX(Calc!$H$2:$DZ$1549, $EG15, ), Calc!$H$15:$DZ$15, Q$103)/$F$107 -> 0 | ... DZ15: =SUMIFS(INDEX(Calc!$H$2:$DZ$1549, $EG15, ), Calc!$H$15:$DZ$15, DZ$103)/$F$107 -> 0 | EC15: =SUM(I15:EA15) -> 134.475 | EF15: * | EG15: =SUMIFS(Calc!$EB$2:$EB$1549, Calc!$EC$2:$EC$1549, $EG$1, Calc!$ED$2:$ED$1549, $EG$2, Calc!$EE$2:$EE$1549, $EF15, Calc!$EF$2:$EF$1549, $C15) -> 279
C16: Options & Upgrades | F16: =EC16/$EC$10*Inputs!$D$10 -> 40000 | G16: per home | J16: =SUMIFS(INDEX(Calc!$H$2:$DZ$1549, $EG16, ), Calc!$H$15:$DZ$15, J$103)/$F$107 -> 0 | K16: =SUMIFS(INDEX(Calc!$H$2:$DZ$1549, $EG16, ), Calc!$H$15:$DZ$15, K$103)/$F$107 -> 2.6666667 | L16: =SUMIFS(INDEX(Calc!$H$2:$DZ$1549, $EG16, ), Calc!$H$15:$DZ$15, L$103)/$F$107 -> 3.2 | M16: =SUMIFS(INDEX(Calc!$H$2:$DZ$1549, $EG16, ), Calc!$H$15:$DZ$15, M$103)/$F$107 -> 3.2 | N16: =SUMIFS(INDEX(Calc!$H$2:$DZ$1549, $EG16, ), Calc!$H$15:$DZ$15, N$103)/$F$107 -> 3.2 | O16: =SUMIFS(INDEX(Calc!$H$2:$DZ$1549, $EG16, ), Calc!$H$15:$DZ$15, O$103)/$F$107 -> 3.2 | P16: =SUMIFS(INDEX(Calc!$H$2:$DZ$1549, $EG16, ), Calc!$H$15:$DZ$15, P$103)/$F$107 -> 0.53333333 | Q16: =SUMIFS(INDEX(Calc!$H$2:$DZ$1549, $EG16, ), Calc!$H$15:$DZ$15, Q$103)/$F$107 -> 0 | ... DZ16: =SUMIFS(INDEX(Calc!$H$2:$DZ$1549, $EG16, ), Calc!$H$15:$DZ$15, DZ$103)/$F$107 -> 0 | EC16: =SUM(I16:EA16) -> 16 | EF16: * | EG16: =SUMIFS(Calc!$EB$2:$EB$1549, Calc!$EC$2:$EC$1549, $EG$1, Calc!$ED$2:$ED$1549, $EG$2, Calc!$EE$2:$EE$1549, $EF16, Calc!$EF$2:$EF$1549, $C16) -> 303
C17: Premiums | F17: =EC17/$EC$10*Inputs!$D$10 -> 10000 | G17: per home | J17: =SUMIFS(INDEX(Calc!$H$2:$DZ$1549, $EG17, ), Calc!$H$15:$DZ$15, J$103)/$F$107 -> 0 | K17: =SUMIFS(INDEX(Calc!$H$2:$DZ$1549, $EG17, ), Calc!$H$15:$DZ$15, K$103)/$F$107 -> 0.66666667 | L17: =SUMIFS(INDEX(Calc!$H$2:$DZ$1549, $EG17, ), Calc!$H$15:$DZ$15, L$103)/$F$107 -> 0.8 | M17: =SUMIFS(INDEX(Calc!$H$2:$DZ$1549, $EG17, ), Calc!$H$15:$DZ$15, M$103)/$F$107 -> 0.8 | N17: =SUMIFS(INDEX(Calc!$H$2:$DZ$1549, $EG17, ), Calc!$H$15:$DZ$15, N$103)/$F$107 -> 0.8 | O17: =SUMIFS(INDEX(Calc!$H$2:$DZ$1549, $EG17, ), Calc!$H$15:$DZ$15, O$103)/$F$107 -> 0.8 | P17: =SUMIFS(INDEX(Calc!$H$2:$DZ$1549, $EG17, ), Calc!$H$15:$DZ$15, P$103)/$F$107 -> 0.13333333 | Q17: =SUMIFS(INDEX(Calc!$H$2:$DZ$1549, $EG17, ), Calc!$H$15:$DZ$15, Q$103)/$F$107 -> 0 | ... DZ17: =SUMIFS(INDEX(Calc!$H$2:$DZ$1549, $EG17, ), Calc!$H$15:$DZ$15, DZ$103)/$F$107 -> 0 | EC17: =SUM(I17:EA17) -> 4 | EF17: * | EG17: =SUMIFS(Calc!$EB$2:$EB$1549, Calc!$EC$2:$EC$1549, $EG$1, Calc!$ED$2:$ED$1549, $EG$2, Calc!$EE$2:$EE$1549, $EF17, Calc!$EF$2:$EF$1549, $C17) -> 327
C18: Deposits | F18: =EC18/$EC$10*Inputs!$D$10 -> 0 | G18: per home | J18: =SUMIFS(INDEX(Calc!$H$2:$DZ$1549, $EG18, ), Calc!$H$15:$DZ$15, J$103)/$F$107 -> 1.0298333 | K18: =SUMIFS(INDEX(Calc!$H$2:$DZ$1549, $EG18, ), Calc!$H$15:$DZ$15, K$103)/$F$107 -> 0.51491667 | L18: =SUMIFS(INDEX(Calc!$H$2:$DZ$1549, $EG18, ), Calc!$H$15:$DZ$15, L$103)/$F$107 -> 0 | M18: =SUMIFS(INDEX(Calc!$H$2:$DZ$1549, $EG18, ), Calc!$H$15:$DZ$15, M$103)/$F$107 -> 0 | N18: =SUMIFS(INDEX(Calc!$H$2:$DZ$1549, $EG18, ), Calc!$H$15:$DZ$15, N$103)/$F$107 -> 0 | O18: =SUMIFS(INDEX(Calc!$H$2:$DZ$1549, $EG18, ), Calc!$H$15:$DZ$15, O$103)/$F$107 -> -1.0298333 | P18: =SUMIFS(INDEX(Calc!$H$2:$DZ$1549, $EG18, ), Calc!$H$15:$DZ$15, P$103)/$F$107 -> -0.51491667 | Q18: =SUMIFS(INDEX(Calc!$H$2:$DZ$1549, $EG18, ), Calc!$H$15:$DZ$15, Q$103)/$F$107 -> 0 | ... DZ18: =SUMIFS(INDEX(Calc!$H$2:$DZ$1549, $EG18, ), Calc!$H$15:$DZ$15, DZ$103)/$F$107 -> 0 | EC18: =SUM(I18:EA18) -> 0 | EF18: Cash | EG18: =SUMIFS(Calc!$EB$2:$EB$1549, Calc!$EC$2:$EC$1549, $EG$1, Calc!$ED$2:$ED$1549, $EG$2, Calc!$EE$2:$EE$1549, $EF18, Calc!$EF$2:$EF$1549, $C18) -> 351
C20: Total Revenue | F20: =EC20/$EC$10*Inputs!$D$10 -> 386187.5 | G20: per home | J20: =SUM(J14:J19) -> 1.0298333 | K20: =SUM(K14:K19) -> 26.26075 | L20: =SUM(L14:L19) -> 30.895 | M20: =SUM(M14:M19) -> 30.895 | N20: =SUM(N14:N19) -> 30.895 | O20: =SUM(O14:O19) -> 29.865167 | P20: =SUM(P14:P19) -> 4.63425 | Q20: =SUM(Q14:Q19) -> 0 | ... DZ20: =SUM(DZ14:DZ19) -> 0 | EC20: =SUM(EC14:EC19) -> 154.475
C22: Direct Costs:
C24: Land Acquisition | F24: =EC24/$EC$10*Inputs!$D$10 -> -20000 | G24: per home | J24: =SUMIFS(INDEX(Calc!$H$2:$DZ$1549, $EG24, ), Calc!$H$15:$DZ$15, J$103)/$F$107 -> -1.6 | K24: =SUMIFS(INDEX(Calc!$H$2:$DZ$1549, $EG24, ), Calc!$H$15:$DZ$15, K$103)/$F$107 -> -1.6 | L24: =SUMIFS(INDEX(Calc!$H$2:$DZ$1549, $EG24, ), Calc!$H$15:$DZ$15, L$103)/$F$107 -> -1.6 | M24: =SUMIFS(INDEX(Calc!$H$2:$DZ$1549, $EG24, ), Calc!$H$15:$DZ$15, M$103)/$F$107 -> -1.6 | N24: =SUMIFS(INDEX(Calc!$H$2:$DZ$1549, $EG24, ), Calc!$H$15:$DZ$15, N$103)/$F$107 -> -1.6 | O24: =SUMIFS(INDEX(Calc!$H$2:$DZ$1549, $EG24, ), Calc!$H$15:$DZ$15, O$103)/$F$107 -> 0 | P24: =SUMIFS(INDEX(Calc!$H$2:$DZ$1549, $EG24, ), Calc!$H$15:$DZ$15, P$103)/$F$107 -> 0 | Q24: =SUMIFS(INDEX(Calc!$H$2:$DZ$1549, $EG24, ), Calc!$H$15:$DZ$15, Q$103)/$F$107 -> 0 | ... DZ24: =SUMIFS(INDEX(Calc!$H$2:$DZ$1549, $EG24, ), Calc!$H$15:$DZ$15, DZ$103)/$F$107 -> 0 | EC24: =SUM(I24:EA24) -> -8 | EF24: Cash | EG24: =SUMIFS(Calc!$EB$2:$EB$1549, Calc!$EC$2:$EC$1549, $EG$1, Calc!$ED$2:$ED$1549, $EG$2, Calc!$EE$2:$EE$1549, $EF24, Calc!$EF$2:$EF$1549, $C24) -> 375
C25: Lot Parcel Development | F25: =EC25/$EC$10*Inputs!$D$10 -> -25000 | G25: per home | J25: =SUMIFS(INDEX(Calc!$H$2:$DZ$1549, $EG25, ), Calc!$H$15:$DZ$15, J$103)/$F$107 -> -2 | K25: =SUMIFS(INDEX(Calc!$H$2:$DZ$1549, $EG25, ), Calc!$H$15:$DZ$15, K$103)/$F$107 -> -2 | L25: =SUMIFS(INDEX(Calc!$H$2:$DZ$1549, $EG25, ), Calc!$H$15:$DZ$15, L$103)/$F$107 -> -2 | M25: =SUMIFS(INDEX(Calc!$H$2:$DZ$1549, $EG25, ), Calc!$H$15:$DZ$15, M$103)/$F$107 -> -2 | N25: =SUMIFS(INDEX(Calc!$H$2:$DZ$1549, $EG25, ), Calc!$H$15:$DZ$15, N$103)/$F$107 -> -2 | O25: =SUMIFS(INDEX(Calc!$H$2:$DZ$1549, $EG25, ), Calc!$H$15:$DZ$15, O$103)/$F$107 -> 0 | P25: =SUMIFS(INDEX(Calc!$H$2:$DZ$1549, $EG25, ), Calc!$H$15:$DZ$15, P$103)/$F$107 -> 0 | Q25: =SUMIFS(INDEX(Calc!$H$2:$DZ$1549, $EG25, ), Calc!$H$15:$DZ$15, Q$103)/$F$107 -> 0 | ... DZ25: =SUMIFS(INDEX(Calc!$H$2:$DZ$1549, $EG25, ), Calc!$H$15:$DZ$15, DZ$103)/$F$107 -> 0 | EC25: =SUM(I25:EA25) -> -10 | EF25: Cash | EG25: =SUMIFS(Calc!$EB$2:$EB$1549, Calc!$EC$2:$EC$1549, $EG$1, Calc!$ED$2:$ED$1549, $EG$2, Calc!$EE$2:$EE$1549, $EF25, Calc!$EF$2:$EF$1549, $C25) -> 423
C26: Home Construction - Base | F26: =EC26/$EC$10*Inputs!$D$10 -> -130000 | G26: per home | J26: =SUMIFS(INDEX(Calc!$H$2:$DZ$1549, $EG26, ), Calc!$H$15:$DZ$15, J$103)/$F$107 -> -6.9333333 | K26: =SUMIFS(INDEX(Calc!$H$2:$DZ$1549, $EG26, ), Calc!$H$15:$DZ$15, K$103)/$F$107 -> -10.4 | L26: =SUMIFS(INDEX(Calc!$H$2:$DZ$1549, $EG26, ), Calc!$H$15:$DZ$15, L$103)/$F$107 -> -10.4 | M26: =SUMIFS(INDEX(Calc!$H$2:$DZ$1549, $EG26, ), Calc!$H$15:$DZ$15, M$103)/$F$107 -> -10.4 | N26: =SUMIFS(INDEX(Calc!$H$2:$DZ$1549, $EG26, ), Calc!$H$15:$DZ$15, N$103)/$F$107 -> -10.4 | O26: =SUMIFS(INDEX(Calc!$H$2:$DZ$1549, $EG26, ), Calc!$H$15:$DZ$15, O$103)/$F$107 -> -3.4666667 | P26: =SUMIFS(INDEX(Calc!$H$2:$DZ$1549, $EG26, ), Calc!$H$15:$DZ$15, P$103)/$F$107 -> 0 | Q26: =SUMIFS(INDEX(Calc!$H$2:$DZ$1549, $EG26, ), Calc!$H$15:$DZ$15, Q$103)/$F$107 -> 0 | ... DZ26: =SUMIFS(INDEX(Calc!$H$2:$DZ$1549, $EG26, ), Calc!$H$15:$DZ$15, DZ$103)/$F$107 -> 0 | EC26: =SUM(I26:EA26) -> -52 | EF26: Cash | EG26: =SUMIFS(Calc!$EB$2:$EB$1549, Calc!$EC$2:$EC$1549, $EG$1, Calc!$ED$2:$ED$1549, $EG$2, Calc!$EE$2:$EE$1549, $EF26, Calc!$EF$2:$EF$1549, $C26) -> 471
C27: Home Construction - Options | F27: =EC27/$EC$10*Inputs!$D$10 -> -30000 | G27: per home | J27: =SUMIFS(INDEX(Calc!$H$2:$DZ$1549, $EG27, ), Calc!$H$15:$DZ$15, J$103)/$F$107 -> -1.6 | K27: =SUMIFS(INDEX(Calc!$H$2:$DZ$1549, $EG27, ), Calc!$H$15:$DZ$15, K$103)/$F$107 -> -2.4 | L27: =SUMIFS(INDEX(Calc!$H$2:$DZ$1549, $EG27, ), Calc!$H$15:$DZ$15, L$103)/$F$107 -> -2.4 | M27: =SUMIFS(INDEX(Calc!$H$2:$DZ$1549, $EG27, ), Calc!$H$15:$DZ$15, M$103)/$F$107 -> -2.4 | N27: =SUMIFS(INDEX(Calc!$H$2:$DZ$1549, $EG27, ), Calc!$H$15:$DZ$15, N$103)/$F$107 -> -2.4 | O27: =SUMIFS(INDEX(Calc!$H$2:$DZ$1549, $EG27, ), Calc!$H$15:$DZ$15, O$103)/$F$107 -> -0.8 | P27: =SUMIFS(INDEX(Calc!$H$2:$DZ$1549, $EG27, ), Calc!$H$15:$DZ$15, P$103)/$F$107 -> 0 | Q27: =SUMIFS(INDEX(Calc!$H$2:$DZ$1549, $EG27, ), Calc!$H$15:$DZ$15, Q$103)/$F$107 -> 0 | ... DZ27: =SUMIFS(INDEX(Calc!$H$2:$DZ$1549, $EG27, ), Calc!$H$15:$DZ$15, DZ$103)/$F$107 -> 0 | EC27: =SUM(I27:EA27) -> -12 | EF27: Cash | EG27: =SUMIFS(Calc!$EB$2:$EB$1549, Calc!$EC$2:$EC$1549, $EG$1, Calc!$ED$2:$ED$1549, $EG$2, Calc!$EE$2:$EE$1549, $EF27, Calc!$EF$2:$EF$1549, $C27) -> 519
C28: Direct Overhead | F28: =EC28/$EC$10*Inputs!$D$10 -> -6000 | G28: per home | J28: =SUMIFS(INDEX(Calc!$H$2:$DZ$1549, $EG28, ), Calc!$H$15:$DZ$15, J$103)/$F$107 -> -0.13333333 | K28: =SUMIFS(INDEX(Calc!$H$2:$DZ$1549, $EG28, ), Calc!$H$15:$DZ$15, K$103)/$F$107 -> -0.48 | L28: =SUMIFS(INDEX(Calc!$H$2:$DZ$1549, $EG28, ), Calc!$H$15:$DZ$15, L$103)/$F$107 -> -0.48 | M28: =SUMIFS(INDEX(Calc!$H$2:$DZ$1549, $EG28, ), Calc!$H$15:$DZ$15, M$103)/$F$107 -> -0.48 | N28: =SUMIFS(INDEX(Calc!$H$2:$DZ$1549, $EG28, ), Calc!$H$15:$DZ$15, N$103)/$F$107 -> -0.48 | O28: =SUMIFS(INDEX(Calc!$H$2:$DZ$1549, $EG28, ), Calc!$H$15:$DZ$15, O$103)/$F$107 -> -0.34666667 | P28: =SUMIFS(INDEX(Calc!$H$2:$DZ$1549, $EG28, ), Calc!$H$15:$DZ$15, P$103)/$F$107 -> 0 | Q28: =SUMIFS(INDEX(Calc!$H$2:$DZ$1549, $EG28, ), Calc!$H$15:$DZ$15, Q$103)/$F$107 -> 0 | ... DZ28: =SUMIFS(INDEX(Calc!$H$2:$DZ$1549, $EG28, ), Calc!$H$15:$DZ$15, DZ$103)/$F$107 -> 0 | EC28: =SUM(I28:EA28) -> -2.4 | EF28: Cash | EG28: =SUMIFS(Calc!$EB$2:$EB$1549, Calc!$EC$2:$EC$1549, $EG$1, Calc!$ED$2:$ED$1549, $EG$2, Calc!$EE$2:$EE$1549, $EF28, Calc!$EF$2:$EF$1549, $C28) -> 567
C30: Total Direct Costs | F30: =EC30/$EC$10*Inputs!$D$10 -> -211000 | G30: per home | J30: =SUM(J23:J29) -> -12.266667 | K30: =SUM(K23:K29) -> -16.88 | L30: =SUM(L23:L29) -> -16.88 | M30: =SUM(M23:M29) -> -16.88 | N30: =SUM(N23:N29) -> -16.88 | O30: =SUM(O23:O29) -> -4.6133333 | P30: =SUM(P23:P29) -> 0 | Q30: =SUM(Q23:Q29) -> 0 | ... DZ30: =SUM(DZ23:DZ29) -> 0 | EC30: =SUM(EC23:EC29) -> -84.4
C32: Direct Profit | F32: =EC32/$EC$10*Inputs!$D$10 -> 175187.5 | G32: per home | J32: =SUM(J20, J30) -> -11.236833 | K32: =SUM(K20, K30) -> 9.38075 | L32: =SUM(L20, L30) -> 14.015 | M32: =SUM(M20, M30) -> 14.015 | N32: =SUM(N20, N30) -> 14.015 | O32: =SUM(O20, O30) -> 25.251833 | P32: =SUM(P20, P30) -> 4.63425 | Q32: =SUM(Q20, Q30) -> 0 | ... DZ32: =SUM(DZ20, DZ30) -> 0 | EC32: =SUM(EC20, EC30) -> 70.075
C34: Transaction Costs:
C36: Broker Commissions | F36: =EC36/$EC$20 -> -0.05 | G36: % revenue | J36: =SUMIFS(INDEX(Calc!$H$2:$DZ$1549, $EG36, ), Calc!$H$15:$DZ$15, J$103)/$F$107 -> 0 | K36: =SUMIFS(INDEX(Calc!$H$2:$DZ$1549, $EG36, ), Calc!$H$15:$DZ$15, K$103)/$F$107 -> -1.2872917 | L36: =SUMIFS(INDEX(Calc!$H$2:$DZ$1549, $EG36, ), Calc!$H$15:$DZ$15, L$103)/$F$107 -> -1.54475 | M36: =SUMIFS(INDEX(Calc!$H$2:$DZ$1549, $EG36, ), Calc!$H$15:$DZ$15, M$103)/$F$107 -> -1.54475 | N36: =SUMIFS(INDEX(Calc!$H$2:$DZ$1549, $EG36, ), Calc!$H$15:$DZ$15, N$103)/$F$107 -> -1.54475 | O36: =SUMIFS(INDEX(Calc!$H$2:$DZ$1549, $EG36, ), Calc!$H$15:$DZ$15, O$103)/$F$107 -> -1.54475 | P36: =SUMIFS(INDEX(Calc!$H$2:$DZ$1549, $EG36, ), Calc!$H$15:$DZ$15, P$103)/$F$107 -> -0.25745833 | Q36: =SUMIFS(INDEX(Calc!$H$2:$DZ$1549, $EG36, ), Calc!$H$15:$DZ$15, Q$103)/$F$107 -> 0 | ... DZ36: =SUMIFS(INDEX(Calc!$H$2:$DZ$1549, $EG36, ), Calc!$H$15:$DZ$15, DZ$103)/$F$107 -> 0 | EC36: =SUM(I36:EA36) -> -7.72375 | EF36: * | EG36: =SUMIFS(Calc!$EB$2:$EB$1549, Calc!$EC$2:$EC$1549, $EG$1, Calc!$ED$2:$ED$1549, $EG$2, Calc!$EE$2:$EE$1549, $EF36, Calc!$EF$2:$EF$1549, $C36) -> 616
C37: Closing Costs | F37: =EC37/$EC$20 -> -0.0125 | G37: % revenue | J37: =SUMIFS(INDEX(Calc!$H$2:$DZ$1549, $EG37, ), Calc!$H$15:$DZ$15, J$103)/$F$107 -> 0 | K37: =SUMIFS(INDEX(Calc!$H$2:$DZ$1549, $EG37, ), Calc!$H$15:$DZ$15, K$103)/$F$107 -> -0.32182292 | L37: =SUMIFS(INDEX(Calc!$H$2:$DZ$1549, $EG37, ), Calc!$H$15:$DZ$15, L$103)/$F$107 -> -0.3861875 | M37: =SUMIFS(INDEX(Calc!$H$2:$DZ$1549, $EG37, ), Calc!$H$15:$DZ$15, M$103)/$F$107 -> -0.3861875 | N37: =SUMIFS(INDEX(Calc!$H$2:$DZ$1549, $EG37, ), Calc!$H$15:$DZ$15, N$103)/$F$107 -> -0.3861875 | O37: =SUMIFS(INDEX(Calc!$H$2:$DZ$1549, $EG37, ), Calc!$H$15:$DZ$15, O$103)/$F$107 -> -0.3861875 | P37: =SUMIFS(INDEX(Calc!$H$2:$DZ$1549, $EG37, ), Calc!$H$15:$DZ$15, P$103)/$F$107 -> -0.064364583 | Q37: =SUMIFS(INDEX(Calc!$H$2:$DZ$1549, $EG37, ), Calc!$H$15:$DZ$15, Q$103)/$F$107 -> 0 | ... DZ37: =SUMIFS(INDEX(Calc!$H$2:$DZ$1549, $EG37, ), Calc!$H$15:$DZ$15, DZ$103)/$F$107 -> 0 | EC37: =SUM(I37:EA37) -> -1.9309375 | EF37: * | EG37: =SUMIFS(Calc!$EB$2:$EB$1549, Calc!$EC$2:$EC$1549, $EG$1, Calc!$ED$2:$ED$1549, $EG$2, Calc!$EE$2:$EE$1549, $EF37, Calc!$EF$2:$EF$1549, $C37) -> 640
C39: Total Transaction Costs | F39: =EC39/$EC$10*Inputs!$D$10 -> -24136.719 | G39: per home | J39: =SUM(J35:J38) -> 0 | K39: =SUM(K35:K38) -> -1.6091146 | L39: =SUM(L35:L38) -> -1.9309375 | M39: =SUM(M35:M38) -> -1.9309375 | N39: =SUM(N35:N38) -> -1.9309375 | O39: =SUM(O35:O38) -> -1.9309375 | P39: =SUM(P35:P38) -> -0.32182292 | Q39: =SUM(Q35:Q38) -> 0 | ... DZ39: =SUM(DZ35:DZ38) -> 0 | EC39: =SUM(EC35:EC38) -> -9.6546875
C41: Gross Profit | F41: =EC41/$EC$10*Inputs!$D$10 -> 151050.78 | G41: per home | J41: =SUM(J32, J39) -> -11.236833 | K41: =SUM(K32, K39) -> 7.7716354 | L41: =SUM(L32, L39) -> 12.084062 | M41: =SUM(M32, M39) -> 12.084062 | N41: =SUM(N32, N39) -> 12.084062 | O41: =SUM(O32, O39) -> 23.320896 | P41: =SUM(P32, P39) -> 4.3124271 | Q41: =SUM(Q32, Q39) -> 0 | ... DZ41: =SUM(DZ32, DZ39) -> 0 | EC41: =SUM(EC32, EC39) -> 60.420312
C43: Selling, General, and Administrative:
C45: Advertising / Sales Center | F45: =EC45/$EC$20 -> -0.025 | G45: % revenue | J45: =SUMIFS(INDEX(Calc!$H$2:$DZ$1549, $EG45, ), Calc!$H$15:$DZ$15, J$103)/$F$107 -> -0.32182292 | K45: =SUMIFS(INDEX(Calc!$H$2:$DZ$1549, $EG45, ), Calc!$H$15:$DZ$15, K$103)/$F$107 -> -0.772375 | L45: =SUMIFS(INDEX(Calc!$H$2:$DZ$1549, $EG45, ), Calc!$H$15:$DZ$15, L$103)/$F$107 -> -0.772375 | M45: =SUMIFS(INDEX(Calc!$H$2:$DZ$1549, $EG45, ), Calc!$H$15:$DZ$15, M$103)/$F$107 -> -0.772375 | N45: =SUMIFS(INDEX(Calc!$H$2:$DZ$1549, $EG45, ), Calc!$H$15:$DZ$15, N$103)/$F$107 -> -0.772375 | O45: =SUMIFS(INDEX(Calc!$H$2:$DZ$1549, $EG45, ), Calc!$H$15:$DZ$15, O$103)/$F$107 -> -0.45055208 | P45: =SUMIFS(INDEX(Calc!$H$2:$DZ$1549, $EG45, ), Calc!$H$15:$DZ$15, P$103)/$F$107 -> 0 | Q45: =SUMIFS(INDEX(Calc!$H$2:$DZ$1549, $EG45, ), Calc!$H$15:$DZ$15, Q$103)/$F$107 -> 0 | ... DZ45: =SUMIFS(INDEX(Calc!$H$2:$DZ$1549, $EG45, ), Calc!$H$15:$DZ$15, DZ$103)/$F$107 -> 0 | EC45: =SUM(I45:EA45) -> -3.861875 | EF45: Cash | EG45: =SUMIFS(Calc!$EB$2:$EB$1549, Calc!$EC$2:$EC$1549, $EG$1, Calc!$ED$2:$ED$1549, $EG$2, Calc!$EE$2:$EE$1549, $EF45, Calc!$EF$2:$EF$1549, $C45) -> 664
C46: General Overhead | F46: =EC46/$EC$20 -> -0.05 | G46: % revenue | J46: =SUMIFS(INDEX(Calc!$H$2:$DZ$1549, $EG46, ), Calc!$H$15:$DZ$15, J$103)/$F$107 -> -0.64364583 | K46: =SUMIFS(INDEX(Calc!$H$2:$DZ$1549, $EG46, ), Calc!$H$15:$DZ$15, K$103)/$F$107 -> -1.4160208 | L46: =SUMIFS(INDEX(Calc!$H$2:$DZ$1549, $EG46, ), Calc!$H$15:$DZ$15, L$103)/$F$107 -> -1.54475 | M46: =SUMIFS(INDEX(Calc!$H$2:$DZ$1549, $EG46, ), Calc!$H$15:$DZ$15, M$103)/$F$107 -> -1.54475 | N46: =SUMIFS(INDEX(Calc!$H$2:$DZ$1549, $EG46, ), Calc!$H$15:$DZ$15, N$103)/$F$107 -> -1.54475 | O46: =SUMIFS(INDEX(Calc!$H$2:$DZ$1549, $EG46, ), Calc!$H$15:$DZ$15, O$103)/$F$107 -> -0.90110417 | P46: =SUMIFS(INDEX(Calc!$H$2:$DZ$1549, $EG46, ), Calc!$H$15:$DZ$15, P$103)/$F$107 -> -0.12872917 | Q46: =SUMIFS(INDEX(Calc!$H$2:$DZ$1549, $EG46, ), Calc!$H$15:$DZ$15, Q$103)/$F$107 -> 0 | ... DZ46: =SUMIFS(INDEX(Calc!$H$2:$DZ$1549, $EG46, ), Calc!$H$15:$DZ$15, DZ$103)/$F$107 -> 0 | EC46: =SUM(I46:EA46) -> -7.72375 | EF46: Cash | EG46: =SUMIFS(Calc!$EB$2:$EB$1549, Calc!$EC$2:$EC$1549, $EG$1, Calc!$ED$2:$ED$1549, $EG$2, Calc!$EE$2:$EE$1549, $EF46, Calc!$EF$2:$EF$1549, $C46) -> 712
C47: Property Taxes | F47: =EC47/$EC$10*Inputs!$D$10 -> -9305.2697 | G47: per home | J47: =SUMIFS(INDEX(Calc!$H$2:$DZ$1549, $EG47, ), Calc!$H$15:$DZ$15, J$103)/$F$107 -> -0.36603987 | K47: =SUMIFS(INDEX(Calc!$H$2:$DZ$1549, $EG47, ), Calc!$H$15:$DZ$15, K$103)/$F$107 -> -0.86185804 | L47: =SUMIFS(INDEX(Calc!$H$2:$DZ$1549, $EG47, ), Calc!$H$15:$DZ$15, L$103)/$F$107 -> -0.79279804 | M47: =SUMIFS(INDEX(Calc!$H$2:$DZ$1549, $EG47, ), Calc!$H$15:$DZ$15, M$103)/$F$107 -> -0.71983804 | N47: =SUMIFS(INDEX(Calc!$H$2:$DZ$1549, $EG47, ), Calc!$H$15:$DZ$15, N$103)/$F$107 -> -0.64687804 | O47: =SUMIFS(INDEX(Calc!$H$2:$DZ$1549, $EG47, ), Calc!$H$15:$DZ$15, O$103)/$F$107 -> -0.33469583 | P47: =SUMIFS(INDEX(Calc!$H$2:$DZ$1549, $EG47, ), Calc!$H$15:$DZ$15, P$103)/$F$107 -> 0 | Q47: =SUMIFS(INDEX(Calc!$H$2:$DZ$1549, $EG47, ), Calc!$H$15:$DZ$15, Q$103)/$F$107 -> 0 | ... DZ47: =SUMIFS(INDEX(Calc!$H$2:$DZ$1549, $EG47, ), Calc!$H$15:$DZ$15, DZ$103)/$F$107 -> 0 | EC47: =SUM(I47:EA47) -> -3.7221079 | EF47: Cash | EG47: =SUMIFS(Calc!$EB$2:$EB$1549, Calc!$EC$2:$EC$1549, $EG$1, Calc!$ED$2:$ED$1549, $EG$2, Calc!$EE$2:$EE$1549, $EF47, Calc!$EF$2:$EF$1549, $C47) -> 911
C48: HOA Dues / Fees | F48: =EC48/$EC$10*Inputs!$D$10 -> -21750 | G48: per home | J48: =SUMIFS(INDEX(Calc!$H$2:$DZ$1549, $EG48, ), Calc!$H$15:$DZ$15, J$103)/$F$107 -> -2.4 | K48: =SUMIFS(INDEX(Calc!$H$2:$DZ$1549, $EG48, ), Calc!$H$15:$DZ$15, K$103)/$F$107 -> -2.2166667 | L48: =SUMIFS(INDEX(Calc!$H$2:$DZ$1549, $EG48, ), Calc!$H$15:$DZ$15, L$103)/$F$107 -> -1.74 | M48: =SUMIFS(INDEX(Calc!$H$2:$DZ$1549, $EG48, ), Calc!$H$15:$DZ$15, M$103)/$F$107 -> -1.26 | N48: =SUMIFS(INDEX(Calc!$H$2:$DZ$1549, $EG48, ), Calc!$H$15:$DZ$15, N$103)/$F$107 -> -0.78 | O48: =SUMIFS(INDEX(Calc!$H$2:$DZ$1549, $EG48, ), Calc!$H$15:$DZ$15, O$103)/$F$107 -> -0.3 | P48: =SUMIFS(INDEX(Calc!$H$2:$DZ$1549, $EG48, ), Calc!$H$15:$DZ$15, P$103)/$F$107 -> -0.0033333333 | Q48: =SUMIFS(INDEX(Calc!$H$2:$DZ$1549, $EG48, ), Calc!$H$15:$DZ$15, Q$103)/$F$107 -> 0 | ... DZ48: =SUMIFS(INDEX(Calc!$H$2:$DZ$1549, $EG48, ), Calc!$H$15:$DZ$15, DZ$103)/$F$107 -> 0 | EC48: =SUM(I48:EA48) -> -8.7 | EF48: * | EG48: =SUMIFS(Calc!$EB$2:$EB$1549, Calc!$EC$2:$EC$1549, $EG$1, Calc!$ED$2:$ED$1549, $EG$2, Calc!$EE$2:$EE$1549, $EF48, Calc!$EF$2:$EF$1549, $C48) -> 962
C50: Total SG&A | F50: =EC50/$EC$10*Inputs!$D$10 -> -60019.332 | G50: per home | J50: =SUM(J44:J49) -> -3.7315086 | K50: =SUM(K44:K49) -> -5.2669205 | L50: =SUM(L44:L49) -> -4.849923 | M50: =SUM(M44:M49) -> -4.296963 | N50: =SUM(N44:N49) -> -3.744003 | O50: =SUM(O44:O49) -> -1.9863521 | P50: =SUM(P44:P49) -> -0.1320625 | Q50: =SUM(Q44:Q49) -> 0 | ... DZ50: =SUM(DZ44:DZ49) -> 0 | EC50: =SUM(EC44:EC49) -> -24.007733
